Workbook
Name _3zhqqexgc2ix: Cover!$B$22
Name _81y2izf2vf1i: Cover!$B$39
Name _fchncaxm3zme: Cover!$B$7
Name _hu626kd2cptc: Cover!$B$11
Name _kfbr6r6b0k3f: Cover!$B$6
Name _mzwj4tfdgcee: Cover!$B$25
Name _qr74wxll71oh: Cover!$B$9
Name _stwp433rwk0s: Cover!#REF!
Name _szmlqirozvvf: Cover!$B$23
Name _vel72z2ek747: Cover!$B$24
Name _wf309i9d8yx3: Cover!$B$12
Name _xakomwxd7wxs: Cover!$B$8
Name _xja4s0m9pzt7: Cover!$B$38

Sheet Cover
B2: Logo Perguruan Tinggi
B6: Template Laporan Kinerja Program Studi
B7: Instrumen Akreditasi Program Studi
B8: DEPILAR 1.0
B12: Laporan Kinerja Program Studi
B23: Program Studi
B24: UPPS
B25: Perguruan Tinggi
B38: Tempat, Bulan, Tahun
B39: Periode Akreditasi Maret/Juni/September Tahun

Sheet Daftar Isi
B1: DAFTAR ISI (disesuaikan dengan PS yang diakreditasi)
B3: D. Deferensiasi Misi
C4: =D.1!B4 -> Tabel D.1 Daftar Program Studi di Unit Pengelola Program Studi (UPPS)
B5: E. Edukasi, Sistem Evaluasi, dan Capaian Pembelajaran
C6: =E.1!B4 -> Tabel E.1.1 Tabel Mahasiswa Penuh Waktu
C7: =E.1!R4 -> Tabel E.1.2 Tabel Mahasiswa Asing
C8: =E.2!B4 -> Tabel E.2.1 Rekapitulasi Rencana Pembelajaran Semester
C9: =E.1!B21 -> Tabel E.1.3 Tabel Analisis
C10: =E.3!B4 -> Tabel E.3.1 Rekapitulasi Kinerja Perkuliahan
C11: =E.4!B4 -> Tabel E.4.1 Kesesuaian Capaian Pembelajaran Lulusan dengan Kebutuhan Masyarakat
C12: =E.4!$I$4 -> Tabel E.4.2 Matrik Capaian Pembelajaran Matakuliah
C13: =E.4!T4 -> Tabel E.4.3 Penghargaan Eksternal Karya Mahasiswa
B14: P. Pengembangan Sumber Daya Manusia
C15: =P.1!B4 -> Tabel P.1.1 Dosen Tetap Perguruan Tinggi
C16: =P.1!B19 -> Tabel P.1.2 Dosen Pembimbing Utama Tugas Akhir
C17: =P.1!B40 -> Tabel P.1.3 Ekuivalen Waktu Mengajar Penuh (EWMP) Dosen Tetap Perguruan Tinggi
C18: =P.1!B52 -> Tabel P.1.4 Dosen Tidak Tetap
C19: =P.1!B62 -> Tabel P.1.5 Dosen Industri/Praktisi
C20: =P.1!B73 -> Tabel P.1.6 Pengakuan/Rekognisi DTPS
C21: =P.1!B84 -> Tabel P.1.7 Tenaga Kependidikan
B22: =L.1!B1 -> L. Lingkungan, Sumber Pembelajaran, dan Pendukung Mahasiswa
C23: =L.1!B3 -> Tabel L.1.1 Sarana dan Prasarana Belajar (Kelas)
C24: =L.1!B34 -> Tabel L.1.2 Sarana dan Prasarana Kerja/Praktek (Ruang Praktikum, Studio, dll Ruang Kerja Mahasiswa dan Dosen)
C25: =L.1!B55 -> Tabel L.1.3 Sarana dan Prasarana Deseminasi (Ruang Deseminasi Produk/Karya, Conference/Seminar, Publik Meeting atau Sebutan lain)
C26: =L.1!B76 -> Tabel L.1.4 Sarana dan Prasarana Pendukung Kesejahteraan (Ruang Bimbingan dan Konseling atau sebutan lain, Keagamaan atau sebutan lain)
C27: =L.4!B4 -> Tabel L.4.1 Waktu Tunggu Lulusan Sarjana Terapan/Magister /Doktor*
C28: =L.4!B16 -> Tabel L.4.2 Waktu Tunggu Lulusan Lulusan Diploma Dua/ Diploma Tiga Sarjana Terapan/Magister Terapan/Doktor Terapan*
B29: =A.1!B2 -> A. Akuntabilitas dan Tata Kelola
C30: =A.1!B4 -> Tabel A.1 Kemitraan dan Kerjasama
C31: ='A.5.1 '!B4 -> Tabel A.5.1 Realisasi Pemasukan Dana Program Studi Sarjana/Profesi/Magister/Doktor
C32: ='A.5.2 '!B4 -> Tabel A.5.2 Realisasi Pembiayaan Program Sarjana/Profesi/Magister/Doktor
C33: ='A.5.3'!B4 -> Tabel A.5.3 Neraca Pemasukan-Pembiayaan Program Sarjana/Profesi/Magister/Doktor
C34: ='A.5.4 Terapan'!B4 -> Tabel A.5.4 Realisasi Pemasukan Dana Program Studi Diploma Dua/Tiga/Sarjana/Magister/Doktor Terapan
C35: ='A.5.5 Terapan'!B4 -> Tabel A.5.5 Realisasi Pembiayaan Program Studi Diploma Dua/Tiga/Sarjana/Magister/Doktor Terapan
C36: ='A.5.3 Terapan'!B4 -> Tabel A.5.6 Neraca Pemasukan-Pembiayaan Program Studi Diploma Dua/Tiga/Sarjana/Magister/Doktor Terapan
B37: ='R.3.1'!B2 -> R. Riset, Pengabdian, Suasana Ilmiah
C38: R. Luaran dan dampak Penelitian
C39: ='R.3.1'!B4 -> Tabel R.3.1. Ratio Luaran/Dampak Penelitian/Pengembangan Karya/Inovasi DTPS, Mahasiswa Sarjana/Profesi/Magister/Doktoral
C40: ='R.3.2'!B4 -> Tabel R.3.2. Ratio Luaran/Dampak Penelitian/Pengembangan Karya/Inovasi DTPS, Mahasiswa Diploma/Sarjana Terapan/Profesi Terapan/Magister Terapan/Doktoral Terapan
C41: ='R.6.1'!B4 -> Tabel R.6.1. Ratio Luaran/Dampak Penelitian/Pengembangan Karya/Inovasi DTPS, Mahasiswa Sarjana/Profesi/Magister/Doktoral
C42: ='R.6.2'!B4 -> Tabel R.6.2. Ratio Luaran/Dampak Pengabdian kepada Masyarakat DTPS, Mahasiswa Mahasiswa Diploma/Sarjana Terapan/Profesi Terapan/Magister

Sheet D.1
B2: D. Deferensiasi Misi
B4: Tabel D.1 Daftar Program Studi di Unit Pengelola Program Studi (UPPS)
B5: No | C5: Jenis Program Studi | D5: Nama Program Studi | E5: No. SK. Pendirian | F5: Akreditasi Program Studi
F6: Lembaga Akreditasi | G6: Status | H6: No. dan Tgl SK | I6: Tgl Kadaluarsa (HH/BB/TTTT)
B7: 1 | C7: 2 | D7: 3 | E7: 4 | F7: 5 | G7: 6 | H7: 7 | I7: 8
B8: 1
B9: 2
B10: 3
B11: 4
B12: 5
B13: 6

Sheet E.1
B2: E. Edukasi, Sistem Evaluasi, dan Capaian Pembelajaran
B4: Tabel E.1.1 Tabel Mahasiswa Penuh Waktu | R4: Tabel E.1.2 Tabel Mahasiswa Asing
B5: Tahun Akademik (Angkatan) | C5: Admisi Mahasiswa | E5: Jumlah Mahasiswa Teregistrasi | I5: Jumlah Mahasiswa Teregistrasi | R5: Tahun Akademik (Angkatan) | S5: Jumlah Mahasiswa Teregistrasi | T5: Penuh Waktu | U5: Tidak Penuh Waktu
C6: Daya Tampung | D6: Pendaftar | E6: Lulus Seleksi | F6: Afirmasi | G6: Tranfer | H6: Asing | I6: Aktif | J6: Tidak Aktif | K6: Lulus | L6: Gagal | N6: Kolom periksa Kolom ini harus nol | T6: Jumlah mahasiswa penuh waktu (tabel E.1.1) | U6: Jumlah mahasiswa berdurasi 1 semester atau lebih | V6: Jumlah mahasiswa asing periode pendek dengan kredit | W6: Mahasiswa asing dengan aktivitas tanpa kredit
B7: 1 | C7: 2 | D7: 3 | E7: 4 | F7: 5 | G7: 6 | H7: 7 | I7: 8 | J7: 9 | K7: 10 | L7: 11 | R7: 1 | S7: 2 | T7: 3 | U7: 4 | V7: 5 | W7: 6
B8: TS-4 | C8: 25 | D8: 100 | E8: 20 | F8: 1 | G8: 1 | H8: 1 | I8: 2 | J8: 1 | K8: 19 | L8: 1 | N8: =E8+F8+G8+H8-I8-J8-K8-L8 -> 0 | R8: TS-4 | S8: =(E8+F8+G8+H8) -> 23 | T8: 1 | U8: 2 | V8: 10 | W8: 5
B9: TS-3 | C9: 25 | D9: 200 | E9: 20 | F9: 1 | G9: 1 | H9: 1 | I9: 10 | J9: 1 | K9: 10 | L9: 2 | N9: =E9+F9+G9+H9-I9-J9-K9-L9 -> 0 | R9: TS-3 | S9: =(E9+F9+G9+H9) -> 23 | T9: 1 | U9: 2 | V9: 10 | W9: 5
B10: TS-2 | C10: 25 | D10: 239 | E10: 20 | F10: 1 | G10: 1 | H10: 1 | I10: 20 | J10: 1 | K10: 0 | L10: 2 | N10: =E10+F10+G10+H10-I10-J10-K10-L10 -> 0 | R10: TS-2 | S10: =(E10+F10+G10+H10) -> 23 | T10: 1 | U10: 2 | V10: 10 | W10: 5
B11: TS-1 | C11: 25 | D11: 333 | E11: 20 | F11: 2 | G11: 2 | H11: 2 | I11: 20 | J11: 2 | K11: 0 | L11: 4 | N11: =E11+F11+G11+H11-I11-J11-K11-L11 -> 0 | R11: TS-1 | S11: =(E11+F11+G11+H11) -> 26 | T11: 2 | U11: 2 | V11: 10 | W11: 5
B12: TS | C12: 25 | D12: 588 | E12: 20 | F12: 2 | G12: 2 | H12: 2 | I12: 20 | J12: 2 | K12: 4 | L12: 0 | N12: =E12+F12+G12+H12-I12-J12-K12-L12 -> 0 | R12: TS | S12: =(E12+F12+G12+H12) -> 26 | T12: 2 | U12: 2 | V12: 10 | W12: 5
B13: Jumlah | D13: =SUM(D8:D12) -> 1460 | E13: =SUM(E8:E12) -> 100 | F13: =SUM(F8:F12) -> 7 | G13: =SUM(G8:G12) -> 7 | H13: =SUM(H8:H12) -> 7 | I13: =SUM(I8:I12) -> 72 | J13: =SUM(J8:J12) -> 7 | K13: =SUM(K8:K12) -> 33 | L13: =SUM(L8:L12) -> 9 | R13: Jumlah | S13: =SUM(S8:S12) -> 121 | T13: =SUM(T8:T12) -> 7 | U13: =SUM(U8:U12) -> 10 | V13: =SUM(V8:V12) -> 50 | W13: =SUM(W8:W12) -> 25
B14: Rekapitulasi | E14: =SUM(E13:H13) -> 121 | I14: =SUM(I13:L13) -> 121
B16: Keterangan
B17: TS = Tahun akademik penuh terakhir saat pengajuan usulan akreditasi.
B21: Tabel E.1.3 Tabel Analisis
C22: Rasio keketatan (%) | D22: Rasio Inklusifitas (%) | E22: Rasio keberhasilan studi (%) | F22: Rasio efektifitas studi (%) | G22: Rasio rekognisi internasional (%)
B23: TS-4 | C23: =E8/D8% -> 20 | D23: =F8/E8% -> 5 | E23: =K8/(E8+F8+G8)% -> 86.363636 | F23: =(I8+K8)/(E8+F8+G8)% -> 95.454545 | G23: =(T8+U8+V8+W8)/S8% -> 78.26087
B24: TS-3 | C24: =E9/D9% -> 10 | D24: =F9/E9% -> 5 | E24: =K9/(E9+F9+G9)% -> 45.454545 | F24: =(I9+K9)/(E9+F9+G9)% -> 90.909091 | G24: =(T9+U9+V9+W9)/S9% -> 78.26087
B25: TS-2 | C25: =E10/D10% -> 8.3682008 | D25: =F10/E10% -> 5 | E25: =K10/(E10+F10+G10)% -> 0 | F25: =(I10+K10)/(E10+F10+G10)% -> 90.909091 | G25: =(T10+U10+V10+W10)/S10% -> 78.26087
B26: TS-1 | C26: =E11/D11% -> 6.006006 | D26: =F11/E11% -> 10 | E26: =K11/(E11+F11+G11)% -> 0 | F26: =(I11+K11)/(E11+F11+G11)% -> 83.333333 | G26: =(T11+U11+V11+W11)/S11% -> 73.076923
B27: TS | C27: =E12/D12% -> 3.4013605 | D27: =F12/E12% -> 10 | E27: =K12/(E12+F12+G12)% -> 16.666667 | F27: =(I12+K12)/(E12+F12+G12)% -> 100 | G27: =(T12+U12+V12+W12)/S12% -> 73.076923
C29: Persentase lulus seleksi [4] terhadap pendaftar [3] | D29: Persentase lulus afirmasi [5] terhadap lulus seleksi [4] | E29: Persentase mahasiswa lulus [9] terhadap mahasiswa teregistrasi [4+5+6]] | F29: Persentase mahasiswa aktif dan lulus [7+9] terhadap mahasiswa teregistrasi [4+5+6]] | G29: Persentase mahasiswa berasal dari luar negeri (asing) untuk masa studi penuh [7] ditambah dengan mahasiswa tidak penuh waktu dibagi cacah mahasiswa teregistrasi

Sheet E.2
B2: E. Edukasi, Sistem Evaluasi, dan Capaian Pembelajaran
B4: Tabel E.2.1 Rekapitulasi Rencana Pembelajaran Semester
B5: Nama Mata Kuliah | C5: Kode | D5: Semester | E5: Besar Kredit (sks) | F5: Model Pembelajaran | G5: Lama Tatap Muka (Menit) | H5: Sifat (Wajib/Pilihan) | I5: Bukti Rencana Pembelajaran Semester
B6: 1 | C6: 2 | D6: 3 | E6: 4 | F6: 5 | G6: 6 | H6: 7 | I6: 8
B7: Desain Produk 1 | C7: D.101 | D7: 3 | E7: 2 | F7: Kelas | G7: 100 | H7: Wajib | I7: Tautan
B8: Desain Produk 2 | C8: D.102 | D8: 4 | E8: 3 | F8: Studio | G8: 150 | H8: Wajib | I8: Tautan
B9: Komunikasi Desain | C9: D.103 | F9: Praktikum
B10: Teori Perencanaan | C10: PWK.101 | F10: Kelas
B11: Studio Perencanaan Wilayah | C11: PWK.102 | F11: Studio
B12: Ekonomi Sumberdaya Lingkungan | C12: IL.101 | F12: Kuliah lapangan
B13: Analisis Dampak Lingkungan | C13: IL.102 | F13: Studio,Praktikum
B14: Pengantar Arsitektur | C14: AR.101 | F14: Kelas
B15: Konstruksi Bangungan | C15: AR.102 | F15: Praktikum
B16: dst
B17: Tugas Akhir/Thesis/Desertasi* | F17: Studio,Praktikum

Sheet E.3
B2: E. Edukasi, Sistem Evaluasi, dan Capaian Pembelajaran
B4: Tabel E.3.1 Rekapitulasi Kinerja Perkuliahan
B5: Nama Mata Kuliah | C5: Kode | D5: Rekaman Transaksi Perkuliahan (hanya untuk TS) | H5: Evaluasi | I5: Tindak Lanjut
D6: Jumlah Peserta | E6: Pengembil Ulang (retaker) | F6: Kehadiran Peserta (%) | G6: Rasio Kelulusan* (%)
B7: 1 | C7: 2 | D7: 3 | E7: 4 | F7: 5 | G7: 6 | H7: 7 | I7: 8
B8: Desain Produk 1 | C8: D.101 | D8: 30 | E8: 10 | F8: 0.6 | G8: 0.75 | H8: 25% ketidaklulusan karena mahasiswa membolos karena tabrakan jadwal, 10 mahasiswa pengambil ulang lulus 50% | I8: Perbaikan Jadwal kuliah, Penambahan Pendampingan Jam Asisten untuk Retaker
B9: Desain Produk 2 | C9: D.102
B10: Komunikasi Desain | C10: D.103
B11: Teori Perencanaan | C11: PWK.101
B12: Studio Perencanaan Wilayah | C12: PWK.102
B13: Ekonomi Sumberdaya Lingkungan | C13: IL.101
B14: Analisis Dampak Lingkungan | C14: IL.102
B15: Pengantar Arsitektur | C15: AR.101
B16: Konstruksi Bangungan | C16: AR.102
B17: dst
B18: Tugas Akhir/Thesis/Desertasi* | D18: 100 | E18: 90 | G18: 0.1 | H18: Sebanyak 90% mahasiswa yang mengambil tugas akhir tidak dapat lulus tepat waktu karena : - kendala dalam asistensi - Publikasi | I18: Penambahan Pendampingan Jam pembimbingan untuk asistensi dan publikasi
B20: *Ratio Kelulusan untuk matakuliah tugas akhir/Thesis/Desertasi
B21: diesesuaikan dengan durasi standar waktu kuliah

Sheet E.4
B2: E. Edukasi, Sistem Evaluasi, dan Capaian Pembelajaran | I2: E. Edukasi, Sistem Evaluasi, dan Capaian Pembelajaran
B4: Tabel E.4.1 Kesesuaian Capaian Pembelajaran Lulusan dengan Kebutuhan Masyarakat | G4: Kolom pemisah | I4: Tabel E.4.2 Matrik Capaian Pembelajaran Matakuliah | R4: Kolom pemisah | T4: Tabel E.4.3 Penghargaan Eksternal Karya Mahasiswa
B5: Deskripsi Capaian Pembelajaran (CPL) | C5: Kode CPL | D5: Indikator Capaian | E5: Rujukan Kesetaraan/Rasionalitas | I5: Nama Mata Kuliah | J5: Kode | K5: Capaian Pembelajaran | P5: Keterangan | T5: Nama Mahasiswa | U5: Nomor Induk Mahasiswa (NIM) | V5: Deskripsi Penghargaan | W5: Pemberi Penghargaan | X5: Tingkatan | AA5: Peringkat | AB5: Kompetisi
K6: CPL O1 | L6: CPL O2 | M6: CPL O3 | N6: CPL O4 | O6: CPL O5 dst | X6: Wilayah | Y6: Nasional | Z6: Internasional | AA6: Peringkat | AB6: Kompetitif | AC6: Tidak Kompetitif
B7: 1 | C7: 2 | D7: 3 | E7: 4 | I7: 1 | J7: 2 | K7: 3 | L7: 4 | M7: 5 | N7: 6 | O7: 7 | P7: 8 | T7: 1 | U7: 2 | V7: 3 | W7: 4 | X7: 5 | AA7: 6 | AB7: 7
B8: Mahasiswa mampu … | C8: CPL 01 | D8: Sebutkan | E8: Rumusan Standar Nasional Pendidikan Tinggi | I8: Desain Produk 1 | J8: D.101 | K8: 0.1 | O8: 0.2 | T8: Nama Mahasiswa | U8: ld21001 | V8: lomba desain | W8: Kemenkraf | Y8: Nasional | AA8: 1 | AB8: Kompetitif
I9: Desain Produk 2 | J9: D.102 | L9: 0.1 | T9: Nama Mahasiswa | U9: ld21002
B10: Mahasiswa mampu … | C10: CPL 02 | D10: Sebutkan | E10: Rumusan dari Asosiasi Program Profesi (OP) | I10: Komunikasi Desain | J10: D.103 | L10: 0.1 | T10: Nama Mahasiswa | U10: ld21003
I11: Teori Perencanaan | J11: PWK.101 | K11: 0.3 | O11: 0.3 | T11: Nama Mahasiswa | U11: ld21004
B12: Mahasiswa mampu … | C12: CPL 03 | D12: Sebutkan | E12: Rumusan dari Asosiasi Program Studi (AUPPS) | I12: Studio Perencanaan Wilayah | J12: PWK.102 | L12: 0.1 | N12: 0.2 | T12: Nama Mahasiswa | U12: ld21005
I13: Ekonomi Sumberdaya Lingkungan | J13: IL.101 | M13: 0.2 | O13: 0.2
B14: Mahasiswa mampu … | C14: CPL 04 | D14: Sebutkan | E14: Rumusan Pengguna | I14: Analisis Dampak Lingkungan | J14: IL.102 | L14: 0.1 | N14: 0.1
I15: Pengantar Arsitektur | J15: AR.101 | M15: 0.3 | O15: 0.1
B16: Mahasiswa mampu … | C16: CPL 05 | D16: Sebutkan | E16: Rumusan Penciri Perguruan Tinggi (UPPS/Program Studi) | I16: Konstruksi Bangungan | J16: AR.102 | M16: 0.3 | O16: 0.1
I17: dst
B18: dst | I18: Tugas Akhir/Thesis/Desertasi* | K18: 0.1 | L18: 0.15 | O18: 0.1
I19: Rekapitulasi Bobot CPL | K19: 1 | L19: 1 | M19: 1 | N19: 1 | O19: 1
I21: Jumlah dari gabungan matakuliah yang mendukung satu CPL adalah 100 %

Sheet P.1
B2: P. Pengembangan Sumber Daya Manusia
B4: Tabel P.1.1 Dosen Tetap Perguruan Tinggi
B5: No. | C5: Nama Dosen | D5: NIDN | E5: Pendidikan Pascasarjana | G5: Bidang Keahlian | H5: Kesesuaian dengan Kompetensi Inti PS | I5: Jabatan Akademik | J5: Sertifikat Pendidik Profesional | K5: Sertifikat Kompetensi/ Profesi/ Industri | L5: Mata Kuliah yang Diampu pada PS yang Diakreditasi | M5: Kesesuaian Bidang Keahlian dengan Mata Kuliah yang Diampu | N5: Mata Kuliah yang Diampu pada PS Lain | Q5: Analisis Tabel P.1.1 (Kesesuaian Mata Kuliah dan Bidang Keahlian) | T5: Analisis Tabel P.1.1 (Prosentasi Dosen bersertifikasi pendidik | W5: Analisis Tabel P.1.1 (Prosentase Profesor dan Lektor Kepala)
E6: Magister/ Magister Terapan/ Spesialis | F6: Doktor/ Doktor Terapan/ Spesialis | Q6: Dosen yang mengajar tidak sesuai bidang keahlian | R6: 0 | T6: Dosen dengan Sertifikat Pendidik | U6: 4 | W6: Dosen Profesor | X6: =1 -> 1
B7: 1 | C7: 2 | D7: 3 | E7: 4 | G7: 5 | H7: 6 | I7: 7 | J7: 8 | K7: 9 | L7: 10 | M7: 11 | N7: 12 | Q7: Jumlah Dosen | R7: 4 | T7: Dosen dengan Sertifikat profesi/kompetensi | U7: 1 | W7: Dosen Lektor Kepala | X7: 1
B8: 1 | C8: Prof.Dr. Rakaka | D8: 0022134 | F8: V | G8: Desain Produk | H8: V | I8: Profesor | J8: tautan | K8: tautan | L8: Desain Produk 1 | M8: V | N8: Desain Produk 1 | Q8: Prosentasi Dosen mengajar tidak sesuai bidang keahlian | R8: =R6/R7 -> 0 | T8: Jumlah Dosen | U8: 4 | W8: Jumlah Dosen | X8: 4
B9: 2 | C9: Dr. Eng. Riki Riki | D9: 0022135 | F9: V | G9: Perencanaan Wilayah | H9: V | I9: Lektor Kepala | J9: tautan | K9: tautan | L9: Teori Perencanaan | M9: V | N9: Teori Perencanaan | T9: Prosentasi dosen dengan sertifikat pendidik | U9: =U6/U8 -> 1 | W9: Prosentasi Dosen (Profesor dan Lektor Kepala) | X9: =2/4 -> 0.5
B10: 3 | C10: Ruku Ruku, ST., MDP | D10: 0022136 | E10: v | G10: Pengelolaan Lingkungan | H10: V | I10: Lektor | J10: tautan | K10: tautan | L10: Ekonomi sumberdaya Lingkungan | M10: V | N10: Ekonomi sumberdaya Lingkungan | T10: Prosentasi dosen dengan sertifikat Profesi/kompetensi | U10: =U7/U8 -> 0.25
B11: 4 | C11: Roko Roko, ST., MT. Ph.D | D11: 0022137 | F11: V | G11: Arsitektur | H11: V | I11: Asisten Ahli | J11: tautan | K11: tautan | L11: Konstruksi Bangunan | M11: V | N11: Konstruksi Bangunan
C12: Dst
B19: Tabel P.1.2 Dosen Pembimbing Utama Tugas Akhir
B20: No. | C20: Nama Dosen | D20: Jumlah Mahasiswa yang Dibimbing | L20: Rata-rata Jumlah Bimbingan di semua Program/ Semester | Q20: Analisis Tabel P.1.2 (Distribusi dosen pembimbingan tugas akhir) | T20: Analisis Tabel P.1.2 (Distribusi dosen pembimbingan tugas akhir lebih dari 6 mahasiswa S1/S2/S3)
D21: Pada PS yang Diakreditasi | H21: Pada PS Lain pada Program yang sama di PT* | Q21: Dosen yang membimbing tugas akhir | R21: 4 | T21: Dosen yang membimbing tugas akhir lebih dari 6 mhs | U21: 4
D22: TS-2 | E22: TS-1 | F22: TS | G22: Rata-rata | H22: TS-2 | I22: TS-1 | J22: TS | K22: Rata-rata | Q22: Jumlah Dosen | R22: 4 | T22: Jumlah Dosen | U22: 4
B23: 1 | C23: 2 | D23: 3 | E23: 4 | F23: 5 | G23: 6 | H23: 7 | I23: 8 | J23: 9 | K23: 10 | L23: 11 | Q23: Prosentasi Dosen mengajar tidak sesuai bidang keahlian | R23: =R21/R22 -> 1 | T23: Prosentasi Dosen mengajar tidak sesuai bidang keahlian | U23: =U21/U22 -> 1
B24: 1 | C24: Prof.Dr. Rakaka | D24: 6 | E24: 6 | F24: 4 | G24: =AVERAGE(D24:F24) -> 5.3333333 | H24: 2 | I24: 1 | J24: 1 | K24: =AVERAGE(H24:J24) -> 1.3333333 | L24: =AVERAGE(D24:K24) -> 3.3333333
B25: 2 | C25: Dr. Eng. Riki Riki | D25: 2 | E25: 2 | F25: 2 | G25: =AVERAGE(D25:F25) -> 2 | H25: 2 | I25: 0 | J25: 1 | K25: =AVERAGE(H25:J25) -> 1 | L25: =AVERAGE(D25:K25) -> 1.5
B26: 3 | C26: Ruku Ruku, ST., MDP | D26: 3 | E26: 4 | F26: 2 | G26: =AVERAGE(D26:F26) -> 3 | H26: 2 | I26: 0 | J26: 1 | K26: =AVERAGE(H26:J26) -> 1 | L26: =AVERAGE(D26:K26) -> 2
B27: 4 | C27: Roko Roko, ST., MT. Ph.D | D27: 4 | E27: 3 | F27: 1 | G27: =AVERAGE(D27:F27) -> 2.6666667 | H27: 2 | I27: 0 | J27: 1 | K27: =AVERAGE(H27:J27) -> 1 | L27: =AVERAGE(D27:K27) -> 1.8333333
C28: Dst
B37: Pada PS Lain pada Program yang sama di PT* adalah PS dalam cakupan LAMDEPILAR
B40: Tabel P.1.3 Ekuivalen Waktu Mengajar Penuh (EWMP) Dosen Tetap Perguruan Tinggi
B41: No. | C41: Nama Dosen | D41: DTPS | E41: Ekuivalen Waktu Mengajar Penuh (EWMP) pada saat TS dalam satuan kredit semester (SKS) | L41: Rata-rata per Semester (sks) pada 3 Tahun Terakhir | Q41: Analisis Tabel P.1.3 (dosen dengan EWPM Kurang dari 12 SKS) | T41: Analisis Tabel P.1.3 (dosen dengan EWPM Kurang lebih dari 20 SKS)
E42: PS yang Diakreditasi | F42: PS Lain di dalam PT | G42: PS Lain di luar PT | H42: Penelitian | I42: PkM | J42: Tugas Tambahan dan/atau Penunjang | K42: Jumlah (sks) | Q42: Dosen dengan EMPM kurang dari 12 SKS | R42: 0 | T42: Dosen dengan EMPM lebih dari 20 SKS | U42: 0
Q43: Jumlah Dosen | R43: 4 | T43: Jumlah Dosen | U43: 4
B44: 1 | C44: 2 | D44: 3 | E44: 4 | F44: 5 | G44: 6 | H44: 7 | I44: 8 | J44: 9 | K44: 10 | L44: 11 | Q44: Prosentasi Dosen mengajar tidak sesuai bidang keahlian | R44: =R42/R43 -> 0 | T44: Prosentasi Dosen mengajar tidak sesuai bidang keahlian | U44: =U42/U43 -> 0
B45: 1 | C45: Prof.Dr. Rakaka | D45: V | E45: 6 | F45: 2 | G45: 0 | H45: 4 | I45: 2 | J45: 2 | K45: =SUM(E45:J45) -> 16 | L45: 15.4
B46: 2 | C46: Dr. Eng. Riki Riki | D46: V | E46: 6 | F46: 1 | G46: 0 | H46: 3 | I46: 2 | J46: 4 | K46: =SUM(E46:J46) -> 16 | L46: 13.2
B47: 3 | C47: Ruku Ruku, ST., MDP | D47: v | E47: 6 | F47: 1 | G47: 1 | H47: 2 | I47: 2 | J47: 0 | K47: =SUM(E47:J47) -> 12 | L47: 14.7
B48: 4 | C48: Roko Roko, ST., MT. Ph.D | D48: V | E48: 6 | F48: 1 | G48: 1 | H48: 2 | I48: 2 | J48: 0 | K48: =SUM(E48:J48) -> 12 | L48: 14.9
C49: Dst
B52: Tabel P.1.4 Dosen Tidak Tetap
B53: No. | C53: Nama Dosen | D53: No.Induk Kependudukan | E53: Pendidikan Pasca Sarjana | F53: Bidang Keahlian | G53: Jabatan Akademik | H53: Sertifikat Pendidik Profesional | I53: Sertifikat Kompetensi/ Profesi/ Industri | J53: Mata Kuliah yang Diampu pada PS yang Diakreditasi | K53: Kesesuaian Bidang Keahlian dengan Mata Kuliah yang Diampu
B54: 1 | C54: 2 | D54: 3 | E54: 4 | F54: 5 | G54: 6 | H54: 7 | I54: 8 | J54: 9 | K54: 10 | Q54: Analisis Tabel P.1.4 (dosen tidak tetap)
B55: 1 | Q55: Dosen tidak tetap | R55: 0
B56: 2 | Q56: Jumlah Dosen | R56: 4
C57: Dst | Q57: Prosentasi Dosen tidak tetap | R57: =R55/R56 -> 0
B62: Tabel P.1.5 Dosen Industri/Praktisi
B63: Diisi oleh pengusul dari Program Studi pada program Diploma Tiga/Sarjana Terapan
B64: No. | C64: Nama Dosen Industri/Praktisi | D64: No.Induk Kependudukan | E64: Perusahaan/ Industri | F64: Pendidikan Tertinggi | G64: Bidang Keahlian | H64: Sertifikat Profesi/ Kompetensi/ Industri | I64: Mata Kuliah yang Diampu | J64: Bobot Kredit (sks)
B65: 1 | C65: 2 | D65: 3 | E65: 4 | F65: 5 | G65: 6 | H65: 7 | I65: 8 | J65: 9 | Q65: Analisis Tabel P.1.5 (dosen praktisi)
B66: 1 | Q66: Dosen praktisi | R66: 0
B67: 2 | Q67: Jumlah Dosen | R67: 4
C68: Dst | Q68: Prosentasi Dosen praktisi | R68: =R66/R67 -> 0
B73: Tabel P.1.6 Pengakuan/Rekognisi DTPS
B74: No | C74: Nama Dosen | D74: Bidang Keahlian | E74: Rekognisi | F74: Bukti Dukung Rekognisi | I74: Tingkat
F75: Undangan | G75: Web penyelenggara | H75: Surat Tugas/Surat Ijin Setneg untuk Kegiatan Luar Negeri | I75: Wilayah | J75: Nasional | K75: Internasional | L75: Tahun (yyyy)
B76: 1 | C76: 2 | D76: 3 | E76: 4 | I76: 5 | J76: 6 | K76: 7 | L76: 8 | Q76: Analisis Tabel P.1.6 (Rekognisi dosen ) | R76: Jumlah | S76: Prosentase
B77: 1 | C77: Prof.Dr. Rakaka | D77: Desain Produk | E77: Pameran Produk Desain | F77: tautan | G77: tautan | H77: tautan | J77: v | Q77: Dosen Dengan Rekognisi Wilayah | R77: 0 | S77: =R77/R80 -> 0
B78: 2 | C78: Dr. Eng. Riki Riki | D78: Perencanaan Wilayah | E78: Pembicara utama conference | F78: tautan | G78: tautan | H78: tautan | J78: v | Q78: Dosen dengan rekognisi Nasional | R78: 2 | S78: =R78/R80 -> 0.5
B79: 3 | C79: Ruku Ruku, ST., MDP | D79: Pengelolaan Lingkungan | E79: Pembicara utama workshop internasional | F79: tautan | G79: tautan | H79: tautan | K79: v | Q79: Dosen dengan Rekognisi Internasional | R79: 2 | S79: =R79/R80 -> 0.5
B80: 4 | C80: Roko Roko, ST., MT. Ph.D | D80: Arsitektur | E80: Pameran Tunggal Produk Desain | F80: tautan | G80: tautan | H80: tautan | K80: v | Q80: Jumlah Dosen | R80: 4
C81: Dst
B84: Tabel P.1.7 Tenaga Kependidikan
B85: No. | C85: Nama Tenaga Kependidikan | D85: Nomor Induk Pegawai | E85: Pendidikan Terakhir | L85: Sertifikat Kompetensi/ Keahlian | M85: Tugas | N85: Unit Kerja
E86: SMP/Sederajat | F86: SMA/Sederajat | G86: DI/DII | H86: DIII | I86: DIV | J86: S1 | K86: S2/Magister Terapan
B87: 1 | C87: 2 | D87: 3 | E87: 4 | G87: 5 | H87: 6 | I87: 7 | J87: 8 | K87: 9 | L87: 10 | M87: 11 | N87: 12 | Q87: Analisis Tabel P.1.6 (Rekognisi dosen ) | R87: Jumlah | S87: Prosentase
B88: 1 | C88: Nama Tendik | E88: v | Q88: Tenaga Pendidikan SMP/Sederajat | R88: 1 | S88: =R88/$R$94 -> 0.14285714
B89: 2 | C89: Nama Tendik | F89: v | Q89: Tenaga Pendidikan SMA/Sederajat | R89: 2 | S89: =R89/$R$94 -> 0.28571429
B90: 3 | C90: Nama Tendik | G90: v | Q90: Tenaga Pendidikan DI/DII | R90: 1 | S90: =R90/$R$94 -> 0.14285714
B91: 4 | C91: Nama Tendik | H91: v | Q91: Tenaga Pendidikan DIII | R91: 1 | S91: =R91/$R$94 -> 0.14285714
B92: 5 | C92: Nama Tendik | I92: v | Q92: Tenaga Pendidikan DIV/ S1 | R92: 1 | S92: =R92/$R$94 -> 0.14285714
B93: 6 | C93: Nama Tendik | J93: v | Q93: Tenaga Pendidikan S2 | R93: 1 | S93: =R93/$R$94 -> 0.14285714
B94: 7 | C94: Nama Tendik | F94: v | K94: v | Q94: Jumlah Tenaga Kependidikan | R94: =SUM(R88:R93) -> 7 | S94: =SUM(S88:S93) -> 1

Sheet L.1
B1: L. Lingkungan, Sumber Pembelajaran, dan Pendukung Mahasiswa
B3: Tabel L.1.1 Sarana dan Prasarana Belajar (Kelas)
B4: No. | C4: Nama Sarana dan Prasarana | D4: Lokasi | E4: Ukuran | F4: Acuan Standar | H4: Kondisi Eksisting
F5: Nama Standar | G5: Occupancy | H5: Standar ditetapkan | I5: Ukuran
B6: 1 | C6: 2 | D6: 3 | E6: 4 | F6: 5 | G6: 6 | H6: 7 | I6: 8
B7: 1 | C7: Perabot Utama
C8: 1. Meja dan kursi terpadu (singgle table chair) | D8: B.101 | E8: tinggi keseluruhan 80 cm; tinggi dudukan 45 cm; ukuran papan meja 50 cm; ukuran dudukan 40 cm | F8: - SNI ISO 6385:2016 (Prinsip Ergonomi) | G8: 1,5 m2 - 2 m2 per mahasiswa | H8: 2 m2 | I8: Luas minimal 50 * 2m2/mahasiswa = 100 m 2
F9: - SNI ISO 5970:2012 | G9: 40-60 mahasiswa | H9: 50 mahasiswa | I9: Ukuran Kelas Mininal = 10 m x10m x 3 M
F10: -Standar Kementerian Pendidikan, Kebudayaan, Riset, dan Teknologi (Kemendikbudristek) untuk fasilitas kampus | G10: jarak antar baris 90 cm, tinggi ruangan 3 meter
C11: 2. Meja dan Kursi kuliah Dosen
B12: 2 | C12: Peralatan dan Media Pembelajaran
C13: 1. LCD proyektor dan screen
C14: 2. Komputer Kelas
C15: 3. Papan tulis
C16: 4. Sistem Suara
B17: 3 | C17: Perlengkapan Kenyamanan
C18: 1. Pengkondisian Udara (AC)
C19: 2. Sistem Pencahayaan
C20: 3. Sistem Kelistrikan (stop kontak)
C21: 4. Akses Internet (wifi)
B22: 4 | C22: Perlengkapan Adminsitrasi dan Operasional
C23: 1. Jam dinding
C24: 2. Papan Informasi/Jadwal
C25: 3. Sistem Absendi Digital
C26: 4. Tempat Sampah
B27: 5 | C27: Perlengkapan Keamanan dan Keselamatan (K3)
C28: 1. Alat Pemadam Api Ringan (APAR)
C29: 2. Kamera CCTV
C30: 3. Petunjuk Jalur Evakuasi
B31: *Standar dan Ukuran dapat mengacu pada peratuan kementerian, ISO dan Peraturan yang Sesuai Untuk Ruang Kuliah
B34: Tabel L.1.2 Sarana dan Prasarana Kerja/Praktek (Ruang Praktikum, Studio, dll Ruang Kerja Mahasiswa dan Dosen)
B35: No. | C35: Nama Sarana dan Prasarana | D35: Lokasi | E35: Ukuran | F35: Acuan Standar | H35: Kondisi Eksisting
F36: Nama Standar | G36: Occupancy | H36: Standar ditetapkan | I36: Ukuran
B37: 1 | C37: 2 | D37: 3 | E37: 4 | F37: 5 | G37: 6 | H37: 7 | I37: 8
B55: Tabel L.1.3 Sarana dan Prasarana Deseminasi (Ruang Deseminasi Produk/Karya, Conference/Seminar, Publik Meeting atau Sebutan lain)
B56: No. | C56: Nama Sarana dan Prasarana | D56: Lokasi | E56: Ukuran | F56: Acuan Standar | H56: Kondisi Eksisting
F57: Nama Standar | G57: Occupancy | H57: Standar ditetapkan | I57: Ukuran
B58: 1 | C58: 2 | D58: 3 | E58: 4 | F58: 5 | G58: 6 | H58: 7 | I58: 8
B76: Tabel L.1.4 Sarana dan Prasarana Pendukung Kesejahteraan (Ruang Bimbingan dan Konseling atau sebutan lain, Keagamaan atau sebutan lain)
B77: NO | C77: Nama Sarana dan Prasarana | D77: Lokasi | E77: Ukuran | F77: Acuan Standar | H77: Kondisi Eksisting
F78: Nama Standar | G78: Occupancy | H78: Standar ditetapkan | I78: Ukuran
B79: 1 | C79: 2 | D79: 3 | E79: 4 | F79: 5 | G79: 6 | H79: 7 | I79: 8

Sheet L.4
B2: L. Lingkungan, Sumber Pembelajaran, dan Pendukung Mahasiswa
B4: Tabel L.4.1 Waktu Tunggu Lulusan Sarjana Terapan/Magister /Doktor*
B5: Tahun Lulus | C5: Jumlah Lulusan | D5: Jumlah Lulusan Terlacak | E5: Jumlah Lulusan yang dipesan sebelum lulus | F5: Jumlah Lulusan Terlacak dengan waktu tunggu kerja (WT) mendapatkan pekerjaan
F6: WT< 3 Bulan | G6: 3 Bulan≤ WT ≤ 6 Bulan | H6: WT> 6 Bulan | J6: Analisis Tabel L.4.1
B7: 1 | C7: 2 | D7: 3 | E7: 4 | F7: 5 | G7: 6 | H7: 7 | J7: Rerata Jumlah Lulusan | K7: 10
B8: TS-2 | C8: 10 | D8: 4 | E8: 0 | F8: 0 | G8: 1 | H8: 3 | J8: Rerata Prosentasi Jumlah lulusan mahasiswa dengan WT<3 | K8: =F11/K7 -> 0
B9: TS-1 | C9: 10 | D9: 5 | E9: 0 | F9: 0 | G9: 1 | H9: 4 | J9: Rerata Prosentase Jumlah lulusan mahasiswa dengan 3 Bulan≤ WT ≤ 6 Bulan | K9: =G11/K7 -> 0.13333333
B10: TS | C10: 10 | D10: 6 | E10: 0 | F10: 0 | G10: 2 | H10: 6 | J10: Rerata Prosentase Jumlah lulusan mahasiswa dengan WT> 6 Bulan | K10: =H11/K7 -> 0.43333333
B11: Rerata | C11: =SUM(C8:C10)/3 -> 10 | D11: =SUM(D8:D10)/3 -> 5 | E11: =SUM(E8:E10) -> 0 | F11: =SUM(F8:F10) -> 0 | G11: =SUM(G8:G10)/3 -> 1.3333333 | H11: =SUM(H8:H10)/3 -> 4.3333333
B13: *di isi untuk setiap program studi
B16: Tabel L.4.2 Waktu Tunggu Lulusan Lulusan Diploma Dua/ Diploma Tiga Sarjana Terapan/Magister Terapan/Doktor Terapan*
B17: Tahun Lulus | C17: Jumlah Lulusan | D17: Jumlah Lulusan Terlacak | E17: Jumlah Lulusan yang dipesan sebelum lulus | F17: Jumlah Lulusan Terlacak dengan waktu tunggu kerja (WT) mendapatkan pekerjaan
F18: WT< 3 Bulan | G18: 3 Bulan≤ WT ≤ 6 Bulan | H18: WT> 6 Bulan | J18: Analisis Tabel L.4.1
B19: 1 | C19: 2 | D19: 3 | E19: 4 | F19: 5 | G19: 6 | H19: 7 | J19: Rerata Jumlah Lulusan | K19: 10
B20: TS-2 | C20: 10 | D20: 4 | E20: 0 | F20: 0 | G20: 1 | H20: 3 | J20: Rerata Prosentasi Jumlah lulusan mahasiswa dengan WT<3 | K20: =F23/K19 -> 0
B21: TS-1 | C21: 10 | D21: 5 | E21: 0 | F21: 0 | G21: 1 | H21: 4 | J21: Rerata Prosentase Jumlah lulusan mahasiswa dengan 3 Bulan≤ WT ≤ 6 Bulan | K21: =G23/K19 -> 0.13333333
B22: TS | C22: 10 | D22: 6 | E22: 0 | F22: 0 | G22: 2 | H22: 6 | J22: Rerata Prosentase Jumlah lulusan mahasiswa dengan WT> 6 Bulan | K22: =H23/K19 -> 0.43333333
B23: Rerata | C23: =SUM(C20:C22)/3 -> 10 | D23: =SUM(D20:D22)/3 -> 5 | E23: =SUM(E20:E22) -> 0 | F23: =SUM(F20:F22) -> 0 | G23: =SUM(G20:G22)/3 -> 1.3333333 | H23: =SUM(H20:H22)/3 -> 4.3333333
B25: *di isi untuk setiap program studi

Sheet A.1
B2: A. Akuntabilitas dan Tata Kelola
B4: Tabel A.1 Kemitraan dan Kerjasama
B5: No. | C5: Lembaga Mitra | D5: Tingkat | G5: Judul Kegiatan Kerjasama | H5: Manfaat bagi PS yang Diakreditasi | I5: Tanggal Awal Kerjasama (HH/BB/TTTT) | J5: Tanggal Akhir Kerjasama (HH/BB/TTTT) | K5: Durasi (dalam tahun) | L5: Status Kerjasama | M5: Bukti Kerjasama
D6: Internasional | E6: Nasional | F6: Lokal/Wilayah | O6: Analisis Tabel L.4.1
B7: 1 | C7: 2 | D7: 3 | E7: 4 | F7: 5 | G7: 6 | H7: 7 | I7: 8 | J7: 9 | K7: 10 | L7: 11 | M7: 12 | O7: Jumlah Kemitraan/Kerjasama | P7: 5
B8: 1 | C8: Dana dana | E8: 1 | G8: Pengabdian Masyarakat di Desa Y | K8: 1 | L8: 1 | O8: Prosentasi Jumlah kemitraan/kerjasama Wilayah | P8: =2/5 -> 0.4
B9: 2 | C9: Mitra Dana | E9: 1 | G9: Penelitian Berbasis Model AA | O9: Prosentasi Jumlah kemitraan/kerjasama Nasional | P9: =2/5 -> 0.4
B10: 3 | C10: Mandiri Sejahtera | F10: 1 | G10: Pembuaatan Model Ajar Berbasis Proyek | O10: Prosentasi Jumlah kemitraan/kerjasama Internasional | P10: =1/5 -> 0.2
B11: 4 | C11: Pemerintah Kota AA | F11: 1 | G11: Kajian Kelembagaan Lingkungan
B12: 5 | C12: Fundrise | D12: 1 | G12: Internasional Expo for Building and Design
C13: Dst

Sheet A.5.1 
B2: A. Akuntabilitas dan Tata Kelola
B3: A.5 Keuangan, Keberlanjutan, dan Mitigasi Risiko
B4: Tabel A.5.1 Realisasi Pemasukan Dana Program Studi Sarjana/Profesi/Magister/Doktor
B5: Realisasi Pemasukan Program Sarjana
B6: No. | C6: Pemasukan Dana | D6: Unit Pengelola Program Studi IDR x Juta | H6: Program Studi IDR x Juta | L6: Ratio Pemasukan (PS dgn Kelolaan RKAT UPPS)
D7: TS-2 | E7: TS-1 | F7: TS | G7: Rata-rata | H7: TS-2 | I7: TS-1 | J7: TS | K7: Rata-rata
B8: 1 | C8: 2 | D8: 3 | E8: 4 | F8: 5 | G8: 6 | H8: 3 | I8: 4 | J8: 5 | K8: 6 | L8: 7
B9: A | C9: Realisasi Pemasukan Dana UKT
B10: 1 | C10: UKT Profesi Bergelar | G10: =SUM(D10:F10)/3 -> 0 | K10: =SUM(H10:J10)/3 -> 0 | L10: =K10/$G$224 -> #DIV/0!
B11: 2 | C11: UKT Profesi Non Gelar | G11: =SUM(D11:F11)/3 -> 0 | K11: =SUM(H11:J11)/3 -> 0 | L11: =K11/$G$224 -> #DIV/0!
C12: Jumlah Pemasukan Dana UKT | D12: =SUM(D10:D11) -> 0 | E12: =SUM(E10:E11) -> 0 | F12: =SUM(F10:F11) -> 0 | G12: =SUM(D12:F12)/3 -> 0 | H12: =SUM(H10:H11) -> 0 | I12: =SUM(I10:I11) -> 0 | J12: =SUM(J10:J11) -> 0 | K12: =SUM(H12:J12)/3 -> 0 | L12: =K12/$G$224 -> #DIV/0!
B13: B | C13: Realisasi Pemasukan Dana Penelitian, Perancangan, Pengembangan Karya/Inovasi Karya
B14: 3 | C14: Penelitian Mhs Mandiri (Tugas Akhir, Proyek, dll) | G14: =SUM(D14:F14)/3 -> 0 | K14: =SUM(H14:J14)/3 -> 0 | L14: =K14/$G$224 -> #DIV/0!
B15: 4 | C15: Penelitian DTPS Mandiri | G15: =SUM(D15:F15)/3 -> 0 | K15: =SUM(H15:J15)/3 -> 0 | L15: =K15/$G$224 -> #DIV/0!
B16: 5 | C16: Penelitian (Kolaborasi DTPS dan Mhs ) Mandiri | G16: =SUM(D16:F16)/3 -> 0 | K16: =SUM(H16:J16)/3 -> 0 | L16: =K16/$G$224 -> #DIV/0!
B17: 6 | C17: Penelitian Program Universitas/Institute | G17: =SUM(D17:F17)/3 -> 0 | K17: =SUM(H17:J17)/3 -> 0 | L17: =K17/$G$224 -> #DIV/0!
B18: 7 | C18: Penelitian Internasional | G18: =SUM(D18:F18)/3 -> 0 | K18: =SUM(H18:J18)/3 -> 0 | L18: =K18/$G$224 -> #DIV/0!
C19: Jumlah Realisasi Pemasukan Dana Penelitian, Perancangan, Pengembangan Karya/Inovasi Karya | D19: =SUM(D14:D18) -> 0 | E19: =SUM(E13:E18) -> 0 | F19: =SUM(F13:F18) -> 0 | G19: =SUM(D19:F19)/3 -> 0 | H19: =SUM(H13:H18) -> 0 | I19: =SUM(I13:I18) -> 0 | J19: =SUM(J13:J18) -> 0 | K19: =SUM(H19:J19)/3 -> 0 | L19: =K19/$G$224 -> #DIV/0!
B20: C | C20: Realisasi Pemasukan Dana PkM
B21: 31 | C21: PkM Mhs Mandiri (Program Perorangan, Kelompok, Himpunan, dll) | G21: =SUM(D21:F21)/3 -> 0 | K21: =SUM(H21:J21)/3 -> 0 | L21: =K21/$G$224 -> #DIV/0!
B22: 32 | C22: PkM DTPS Mandiri | G22: =SUM(D22:F22)/3 -> 0 | K22: =SUM(H22:J22)/3 -> 0 | L22: =K22/$G$224 -> #DIV/0!
B23: 33 | C23: PkM (Kolaborasi DTPS dan Mhs ) Mandiri | G23: =SUM(D23:F23)/3 -> 0 | K23: =SUM(H23:J23)/3 -> 0 | L23: =K23/$G$224 -> #DIV/0!
B24: 34 | C24: PkM Program Universitas/Institute | G24: =SUM(D24:F24)/3 -> 0 | K24: =SUM(H24:J24)/3 -> 0 | L24: =K24/$G$224 -> #DIV/0!
B25: 35 | C25: PkM Internasional | G25: =SUM(D25:F25)/3 -> 0 | K25: =SUM(H25:J25)/3 -> 0 | L25: =K25/$G$224 -> #DIV/0!
C26: Jumlah Realisasi Pemasukan Dana PkM | D26: =SUM(D21:D25) -> 0 | E26: =SUM(E21:E25) -> 0 | F26: =SUM(F21:F25) -> 0 | G26: =SUM(D26:F26)/3 -> 0 | H26: =SUM(H21:H25) -> 0 | I26: =SUM(I21:I25) -> 0 | J26: =SUM(J21:J25) -> 0 | K26: =SUM(H26:J26)/3 -> 0 | L26: =K26/$G$224 -> #DIV/0!
B27: D | C27: Realisasi Pemasukan Dana Kerjasama
B28: 36 | C28: Pemasukan Dana Kerjasama Pendidikan Bergelar | G28: =SUM(D28:F28)/3 -> 0 | K28: =SUM(H28:J28)/3 -> 0 | L28: =K28/$G$224 -> #DIV/0!
B29: 37 | C29: Pemasukan Dana Kerjasama Pendidikan Non gelar | G29: =SUM(D29:F29)/3 -> 0 | K29: =SUM(H29:J29)/3 -> 0 | L29: =K29/$G$224 -> #DIV/0!
C30: Jumlah Realisasi Pemasukan Kerjasama Pendidikan | D30: =SUM(D28:D29) -> 0 | E30: =SUM(E28:E29) -> 0 | F30: =SUM(F28:F29) -> 0 | G30: =SUM(D30:F30)/3 -> 0 | H30: =SUM(H28:H29) -> 0 | I30: =SUM(I28:I29) -> 0 | J30: =SUM(J28:J29) -> 0 | K30: =SUM(H30:J30)/3 -> 0 | L30: =K30/$G$224 -> #DIV/0!
B31: F | C31: Realisasi Pemasukan Dana Kerjasama Penelitian, Perancangan, Pengembangan Karya, Inovasi Karya
B32: 38 | C32: Kerjasama Penelitian Skala Lokal (Kab/Kota) | G32: =SUM(D32:F32)/3 -> 0 | K32: =SUM(H32:J32)/3 -> 0 | L32: =K32/$G$224 -> #DIV/0!
B33: 39 | C33: Kerjasama Penelitian Skala Wilayah (Provinsi) | G33: =SUM(D33:F33)/3 -> 0 | K33: =SUM(H33:J33)/3 -> 0 | L33: =K33/$G$224 -> #DIV/0!
B34: 40 | C34: Kerjasama Penelitian Skala Nasional | G34: =SUM(D34:F34)/3 -> 0 | K34: =SUM(H34:J34)/3 -> 0 | L34: =K34/$G$224 -> #DIV/0!
B35: 41 | C35: Kerjasama Penelitian Skala Internasional | G35: =SUM(D35:F35)/3 -> 0 | K35: =SUM(H35:J35)/3 -> 0 | L35: =K35/$G$224 -> #DIV/0!
C36: Jumlah Realisasi Pemasukan Dana Kerjasama Penelitian, Perancangan, Pengembangan Karya, Inovasi Karya | D36: =SUM(D32:D35) -> 0 | E36: =SUM(E32:E35) -> 0 | F36: =SUM(F32:F35) -> 0 | G36: =SUM(D36:F36)/3 -> 0 | H36: =SUM(H32:H35) -> 0 | I36: =SUM(I32:I35) -> 0 | J36: =SUM(J32:J35) -> 0 | K36: =SUM(H36:J36)/3 -> 0 | L36: =K36/$G$224 -> #DIV/0!
B37: G | C37: Realisasi Pemasukan Dana Kerjasama PkM
B38: 38 | C38: Kerjasama Penelitian Skala Lokal (Kab/Kota) | G38: =SUM(D38:F38)/3 -> 0 | K38: =SUM(H38:J38)/3 -> 0 | L38: =K38/$G$224 -> #DIV/0!
B39: 39 | C39: Kerjasama Penelitian Skala Wilayah (Provinsi) | G39: =SUM(D39:F39)/3 -> 0 | K39: =SUM(H39:J39)/3 -> 0 | L39: =K39/$G$224 -> #DIV/0!
B40: 40 | C40: Kerjasama Penelitian Skala Nasional | G40: =SUM(D40:F40)/3 -> 0 | K40: =SUM(H40:J40)/3 -> 0 | L40: =K40/$G$224 -> #DIV/0!
B41: 41 | C41: Kerjasama Penelitian Skala Internasional | G41: =SUM(D41:F41)/3 -> 0 | K41: =SUM(H41:J41)/3 -> 0 | L41: =K41/$G$224 -> #DIV/0!
C42: Jumlah Realisasi Pemasukan Dana Kerjasama PkM | D42: =SUM(D38:D41) -> 0 | E42: =SUM(E38:E41) -> 0 | F42: =SUM(F38:F41) -> 0 | G42: =SUM(D42:F42)/3 -> 0 | H42: =SUM(H38:H41) -> 0 | I42: =SUM(I38:I41) -> 0 | J42: =SUM(J38:J41) -> 0 | K42: =SUM(H42:J42)/3 -> 0 | L42: =K42/$G$224 -> #DIV/0!
B43: H | C43: Sumber Pemasukan dari Pemerintah dan Lain lain yang sah
B44: 42 | C44: a. Gaji dan atau honor dosen | G44: =SUM(D44:F44)/3 -> 0 | K44: =SUM(H44:J44)/3 -> 0 | L44: =K44/$G$224 -> #DIV/0!
B45: 43 | C45: b. Gaji dan atau Honor Tenaga Kependidikan | G45: =SUM(D45:F45)/3 -> 0 | K45: =SUM(H45:J45)/3 -> 0 | L45: =K45/$G$224 -> #DIV/0!
B46: 44 | C46: c. Bantuan Operasional Pembelajaran (Bahan dan Peralatan Habis Pakai) | G46: =SUM(D46:F46)/3 -> 0 | K46: =SUM(H46:J46)/3 -> 0 | L46: =K46/$G$224 -> #DIV/0!
B47: 45 | C47: d. Bantuan Operasional Tidak Langsung (Listrik, Gas, Air, Pemeliharaan Gedung, Pemeliharaan Sarana, Uang Lembur, Telekomunikasi, Konsumsi, Transport) | G47: =SUM(D47:F47)/3 -> 0 | K47: =SUM(H47:J47)/3 -> 0 | L47: =K47/$G$224 -> #DIV/0!
B48: 46 | C48: e.Biaya operasional kemahasiswaan (penalaran, minat, bakat, dan kesejahteraan). | G48: =SUM(D48:F48)/3 -> 0 | K48: =SUM(H48:J48)/3 -> 0 | L48: =K48/$G$224 -> #DIV/0!
C49: Jumlah Sumber Pemasukan dari Pemerintah dan Lain lain yang sah | D49: =SUM(D44:D48) -> 0 | E49: =SUM(E44:E48) -> 0 | F49: =SUM(F44:F48) -> 0 | G49: =SUM(D49:F49)/3 -> 0 | H49: =SUM(H44:H48) -> 0 | I49: =SUM(I44:I48) -> 0 | J49: =SUM(J44:J48) -> 0 | K49: =SUM(H49:J49)/3 -> 0 | L49: =K49/$G$224 -> #DIV/0!
B50: I | C50: Bantuan dan atau Invesasi SDM, Sarana dan Prasarana dari Negara dan sumber lain yang sah
B51: 47 | C51: Investasi SDM | G51: =SUM(D51:F51)/3 -> 0 | K51: =SUM(H51:J51)/3 -> 0 | L51: =K51/$G$224 -> #DIV/0!
B52: 48 | C52: Investasi Sarana | G52: =SUM(D52:F52)/3 -> 0 | K52: =SUM(H52:J52)/3 -> 0 | L52: =K52/$G$224 -> #DIV/0!
B53: 49 | C53: Investasi Prasarana | G53: =SUM(D53:F53)/3 -> 0 | K53: =SUM(H53:J53)/3 -> 0 | L53: =K53/$G$224 -> #DIV/0!
B54: 49 | C54: Investasi Prasarana | G54: =SUM(D54:F54)/3 -> 0 | K54: =SUM(H54:J54)/3 -> 0 | L54: =K54/$G$224 -> #DIV/0!
C55: Jumlah Bantuan dan atau Invesasi SDM, Sarana dan Prasarana dari Negara dan sumber lain yang sah | D55: =SUM(D51:D54)/3 -> 0 | E55: =SUM(E51:E54)/3 -> 0 | F55: =SUM(F51:F54)/3 -> 0 | G55: =SUM(D55:F55)/3 -> 0 | H55: =SUM(H51:H54) -> 0 | I55: =SUM(I51:I54) -> 0 | J55: =SUM(J51:J54) -> 0 | K55: =SUM(H55:J55)/3 -> 0 | L55: =K55/$G$224 -> #DIV/0!
C56: Jumlah Total Realisasi Pemasukan | D56: =D12+D19+D26+D30+D36+D42+D49+D55 -> 0 | E56: =E12+E19+E26+E30+E36+E42+E49+E55 -> 0 | F56: =F12+F19+F26+F30+F36+F42+F49+F55 -> 0 | G56: =SUM(D56:F56)/3 -> 0 | H56: =H12+H19+H26+H30+H36+H42+H49+H55 -> 0 | I56: =I12+I19+I26+I30+I36+I42+I49+I55 -> 0 | J56: =J12+J19+J26+J30+J36+J42+J49+J55 -> 0 | K56: =SUM(H56:J56)/3 -> 0 | L56: =K56/$G$224 -> #DIV/0!
C57: Realisasi Kelolaan RKAT | D57: =70%*D56 -> 0 | E57: =70%*E56 -> 0 | F57: =70%*F56 -> 0 | G57: =SUM(D57:F57)/3 -> 0 | H57: =70%*H56 -> 0 | I57: =70%*I56 -> 0 | J57: =70%*J56 -> 0 | K57: =SUM(H57:J57)/3 -> 0
B59: Realisasi Pemasukan Program Studi Profesi
B60: No. | C60: Pemasukan Dana | D60: Unit Pengelola Program Studi IDR x Juta | H60: Program Studi IDR x Juta | L60: Ratio Pemasukan (PS dgn Kelolaan RKAT UPPS)
D61: TS-2 | E61: TS-1 | F61: TS | G61: Rata-rata | H61: TS-2 | I61: TS-1 | J61: TS | K61: Rata-rata
B62: 1 | C62: 2 | D62: 3 | E62: 4 | F62: 5 | G62: 6 | H62: 3 | I62: 4 | J62: 5 | K62: 6 | L62: 7
B63: A | C63: Realisasi Pemasukan Dana UKT
B64: 1 | C64: UKT Profesi Bergelar | G64: =SUM(D64:F64)/3 -> 0 | K64: =SUM(H64:J64)/3 -> 0 | L64: =K64/$G$224 -> #DIV/0!
B65: 2 | C65: UKT Profesi Non Gelar | G65: =SUM(D65:F65)/3 -> 0 | K65: =SUM(H65:J65)/3 -> 0 | L65: =K65/$G$224 -> #DIV/0!
C66: Jumlah Pemasukan Dana UKT | D66: =SUM(D64:D65) -> 0 | E66: =SUM(E64:E65) -> 0 | F66: =SUM(F64:F65) -> 0 | G66: =SUM(D66:F66)/3 -> 0 | H66: =SUM(H64:H65) -> 0 | I66: =SUM(I64:I65) -> 0 | J66: =SUM(J64:J65) -> 0 | K66: =SUM(H66:J66)/3 -> 0 | L66: =K66/$G$224 -> #DIV/0!
B67: B | C67: Realisasi Pemasukan Dana Penelitian, Perancangan, Pengembangan Karya/Inovasi Karya
B68: 3 | C68: Penelitian Mhs Mandiri (Tugas Akhir, Proyek, dll) | G68: =SUM(D68:F68)/3 -> 0 | K68: =SUM(H68:J68)/3 -> 0 | L68: =K68/$G$224 -> #DIV/0!
B69: 4 | C69: Penelitian DTPS Mandiri | G69: =SUM(D69:F69)/3 -> 0 | K69: =SUM(H69:J69)/3 -> 0 | L69: =K69/$G$224 -> #DIV/0!
B70: 5 | C70: Penelitian (Kolaborasi DTPS dan Mhs ) Mandiri | G70: =SUM(D70:F70)/3 -> 0 | K70: =SUM(H70:J70)/3 -> 0 | L70: =K70/$G$224 -> #DIV/0!
B71: 6 | C71: Penelitian Program Universitas/Institute | G71: =SUM(D71:F71)/3 -> 0 | K71: =SUM(H71:J71)/3 -> 0 | L71: =K71/$G$224 -> #DIV/0!
B72: 7 | C72: Penelitian Internasional | G72: =SUM(D72:F72)/3 -> 0 | K72: =SUM(H72:J72)/3 -> 0 | L72: =K72/$G$224 -> #DIV/0!
C73: Jumlah Realisasi Pemasukan Dana Penelitian, Perancangan, Pengembangan Karya/Inovasi Karya | D73: =SUM(D68:D72) -> 0 | E73: =SUM(E67:E72) -> 0 | F73: =SUM(F67:F72) -> 0 | G73: =SUM(D73:F73)/3 -> 0 | H73: =SUM(H67:H72) -> 0 | I73: =SUM(I67:I72) -> 0 | J73: =SUM(J67:J72) -> 0 | K73: =SUM(H73:J73)/3 -> 0 | L73: =K73/$G$224 -> #DIV/0!
B74: C | C74: Realisasi Pemasukan Dana PkM
B75: 31 | C75: PkM Mhs Mandiri (Program Perorangan, Kelompok, Himpunan, dll) | G75: =SUM(D75:F75)/3 -> 0 | K75: =SUM(H75:J75)/3 -> 0 | L75: =K75/$G$224 -> #DIV/0!
B76: 32 | C76: PkM DTPS Mandiri | G76: =SUM(D76:F76)/3 -> 0 | K76: =SUM(H76:J76)/3 -> 0 | L76: =K76/$G$224 -> #DIV/0!
B77: 33 | C77: PkM (Kolaborasi DTPS dan Mhs ) Mandiri | G77: =SUM(D77:F77)/3 -> 0 | K77: =SUM(H77:J77)/3 -> 0 | L77: =K77/$G$224 -> #DIV/0!
B78: 34 | C78: PkM Program Universitas/Institute | G78: =SUM(D78:F78)/3 -> 0 | K78: =SUM(H78:J78)/3 -> 0 | L78: =K78/$G$224 -> #DIV/0!
B79: 35 | C79: PkM Internasional | G79: =SUM(D79:F79)/3 -> 0 | K79: =SUM(H79:J79)/3 -> 0 | L79: =K79/$G$224 -> #DIV/0!
C80: Jumlah Realisasi Pemasukan Dana PkM | D80: =SUM(D75:D79) -> 0 | E80: =SUM(E75:E79) -> 0 | F80: =SUM(F75:F79) -> 0 | G80: =SUM(D80:F80)/3 -> 0 | H80: =SUM(H75:H79) -> 0 | I80: =SUM(I75:I79) -> 0 | J80: =SUM(J75:J79) -> 0 | K80: =SUM(H80:J80)/3 -> 0 | L80: =K80/$G$224 -> #DIV/0!
B81: D | C81: Realisasi Pemasukan Dana Kerjasama
B82: 36 | C82: Pemasukan Dana Kerjasama Pendidikan Bergelar | G82: =SUM(D82:F82)/3 -> 0 | K82: =SUM(H82:J82)/3 -> 0 | L82: =K82/$G$224 -> #DIV/0!
B83: 37 | C83: Pemasukan Dana Kerjasama Pendidikan Non gelar | G83: =SUM(D83:F83)/3 -> 0 | K83: =SUM(H83:J83)/3 -> 0 | L83: =K83/$G$224 -> #DIV/0!
C84: Jumlah Realisasi Pemasukan Kerjasama Pendidikan | D84: =SUM(D82:D83) -> 0 | E84: =SUM(E82:E83) -> 0 | F84: =SUM(F82:F83) -> 0 | G84: =SUM(D84:F84)/3 -> 0 | H84: =SUM(H82:H83) -> 0 | I84: =SUM(I82:I83) -> 0 | J84: =SUM(J82:J83) -> 0 | K84: =SUM(H84:J84)/3 -> 0 | L84: =K84/$G$224 -> #DIV/0!
B85: F | C85: Realisasi Pemasukan Dana Kerjasama Penelitian, Perancangan, Pengembangan Karya, Inovasi Karya
B86: 38 | C86: Kerjasama Penelitian Skala Lokal (Kab/Kota) | G86: =SUM(D86:F86)/3 -> 0 | K86: =SUM(H86:J86)/3 -> 0 | L86: =K86/$G$224 -> #DIV/0!
B87: 39 | C87: Kerjasama Penelitian Skala Wilayah (Provinsi) | G87: =SUM(D87:F87)/3 -> 0 | K87: =SUM(H87:J87)/3 -> 0 | L87: =K87/$G$224 -> #DIV/0!
B88: 40 | C88: Kerjasama Penelitian Skala Nasional | G88: =SUM(D88:F88)/3 -> 0 | K88: =SUM(H88:J88)/3 -> 0 | L88: =K88/$G$224 -> #DIV/0!
B89: 41 | C89: Kerjasama Penelitian Skala Internasional | G89: =SUM(D89:F89)/3 -> 0 | K89: =SUM(H89:J89)/3 -> 0 | L89: =K89/$G$224 -> #DIV/0!
C90: Jumlah Realisasi Pemasukan Dana Kerjasama Penelitian, Perancangan, Pengembangan Karya, Inovasi Karya | D90: =SUM(D86:D89) -> 0 | E90: =SUM(E86:E89) -> 0 | F90: =SUM(F86:F89) -> 0 | G90: =SUM(D90:F90)/3 -> 0 | H90: =SUM(H86:H89) -> 0 | I90: =SUM(I86:I89) -> 0 | J90: =SUM(J86:J89) -> 0 | K90: =SUM(H90:J90)/3 -> 0 | L90: =K90/$G$224 -> #DIV/0!
B91: G | C91: Realisasi Pemasukan Dana Kerjasama PkM
B92: 38 | C92: Kerjasama Penelitian Skala Lokal (Kab/Kota) | G92: =SUM(D92:F92)/3 -> 0 | K92: =SUM(H92:J92)/3 -> 0 | L92: =K92/$G$224 -> #DIV/0!
B93: 39 | C93: Kerjasama Penelitian Skala Wilayah (Provinsi) | G93: =SUM(D93:F93)/3 -> 0 | K93: =SUM(H93:J93)/3 -> 0 | L93: =K93/$G$224 -> #DIV/0!
B94: 40 | C94: Kerjasama Penelitian Skala Nasional | G94: =SUM(D94:F94)/3 -> 0 | K94: =SUM(H94:J94)/3 -> 0 | L94: =K94/$G$224 -> #DIV/0!
B95: 41 | C95: Kerjasama Penelitian Skala Internasional | G95: =SUM(D95:F95)/3 -> 0 | K95: =SUM(H95:J95)/3 -> 0 | L95: =K95/$G$224 -> #DIV/0!
C96: Jumlah Realisasi Pemasukan Dana Kerjasama PkM | D96: =SUM(D92:D95) -> 0 | E96: =SUM(E92:E95) -> 0 | F96: =SUM(F92:F95) -> 0 | G96: =SUM(D96:F96)/3 -> 0 | H96: =SUM(H92:H95) -> 0 | I96: =SUM(I92:I95) -> 0 | J96: =SUM(J92:J95) -> 0 | K96: =SUM(H96:J96)/3 -> 0 | L96: =K96/$G$224 -> #DIV/0!
B97: H | C97: Sumber Pemasukan dari Pemerintah dan Lain lain yang sah
B98: 42 | C98: a. Gaji dan atau honor dosen | G98: =SUM(D98:F98)/3 -> 0 | K98: =SUM(H98:J98)/3 -> 0 | L98: =K98/$G$224 -> #DIV/0!
B99: 43 | C99: b. Gaji dan atau Honor Tenaga Kependidikan | G99: =SUM(D99:F99)/3 -> 0 | K99: =SUM(H99:J99)/3 -> 0 | L99: =K99/$G$224 -> #DIV/0!
B100: 44 | C100: c. Bantuan Operasional Pembelajaran (Bahan dan Peralatan Habis Pakai) | G100: =SUM(D100:F100)/3 -> 0 | K100: =SUM(H100:J100)/3 -> 0 | L100: =K100/$G$224 -> #DIV/0!
B101: 45 | C101: d. Bantuan Operasional Tidak Langsung (Listrik, Gas, Air, Pemeliharaan Gedung, Pemeliharaan Sarana, Uang Lembur, Telekomunikasi, Konsumsi, Transport) | G101: =SUM(D101:F101)/3 -> 0 | K101: =SUM(H101:J101)/3 -> 0 | L101: =K101/$G$224 -> #DIV/0!
B102: 46 | C102: e.Biaya operasional kemahasiswaan (penalaran, minat, bakat, dan kesejahteraan). | G102: =SUM(D102:F102)/3 -> 0 | K102: =SUM(H102:J102)/3 -> 0 | L102: =K102/$G$224 -> #DIV/0!
...

Sheet A.5.2 
B2: A. Akuntabilitas dan Tata Kelola
B3: A.5 Keuangan, Keberlanjutan, dan Mitigasi Risiko
B4: Tabel A.5.2 Realisasi Pembiayaan Program Sarjana/Profesi/Magister/Doktor
B5: Realisasi Pembiayaan Program Sarjana
B6: No. | C6: Jenis Biaya | D6: Unit Pengelola Program Studi IDR x Juta | H6: Program Studi IDR x Juta | L6: Ratio Biaya (PS dgn Kelolaan UPPS)
D7: TS-2 | E7: TS-1 | F7: TS | G7: Rata-rata | H7: TS-2 | I7: TS-1 | J7: TS | K7: Rata-rata
B8: 1 | C8: 2 | D8: 3 | E8: 4 | F8: 5 | G8: 6 | H8: 3 | I8: 4 | J8: 5 | K8: 6 | L8: 7
B9: 1 | C9: Biaya Operasional Pendidikan Bergelar
C10: a. Biaya Dosen (Gaji, Honor) | G10: =AVERAGE(D10:F10) -> #DIV/0! | K10: =AVERAGE(H10:J10) -> #DIV/0! | L10: =K10/$G$119 -> #DIV/0!
C11: b. Biaya Tenaga Kependidikan (Gaji, Honor) | G11: =AVERAGE(D11:F11) -> #DIV/0! | K11: =AVERAGE(H11:J11) -> #DIV/0! | L11: =K11/$G$119 -> #DIV/0!
C12: c. Biaya Operasional Pembelajaran (Bahan dan Peralatan Habis Pakai) | G12: =AVERAGE(D12:F12) -> #DIV/0! | K12: =AVERAGE(H12:J12) -> #DIV/0! | L12: =K12/$G$119 -> #DIV/0!
C13: d. Biaya Operasional Tidak Langsung (Listrik, Gas, Air, Pemeliharaan Gedung, Pemeliharaan Sarana, Uang Lembur, Telekomunikasi, Konsumsi, Transport Lokal, Pajak, Asuransi, dll.) | G13: =AVERAGE(D13:F13) -> #DIV/0! | K13: =AVERAGE(H13:J13) -> #DIV/0! | L13: =K13/$G$119 -> #DIV/0!
B14: 2 | C14: e.Biaya operasional kemahasiswaan (penalaran, minat, bakat, dan kesejahteraan). | G14: =AVERAGE(D14:F14) -> #DIV/0! | K14: =AVERAGE(H14:J14) -> #DIV/0! | L14: =K14/$G$119 -> #DIV/0!
C15: Jumlah Biaya Pendidikan Bergelar | D15: =SUM(D9:D14) -> 0 | E15: =SUM(E9:E14) -> 0 | F15: =SUM(F9:F14) -> 0 | G15: =AVERAGE(D15:F15) -> 0 | H15: =SUM(H9:H14) -> 0 | I15: =SUM(I9:I14) -> 0 | J15: =SUM(J9:J14) -> 0 | K15: =AVERAGE(H15:J15) -> 0 | L15: =K15/$G$119 -> #DIV/0!
B16: 3 | C16: Biaya Operasional Pendidikan Non Gelar Bergelar ((jika ada) | L16: =K16/$G$119 -> #DIV/0!
C17: a. Biaya Dosen (Gaji, Honor) | G17: =AVERAGE(D17:F17) -> #DIV/0! | K17: =AVERAGE(H17:J17) -> #DIV/0! | L17: =K17/$G$119 -> #DIV/0!
C18: b. Biaya Tenaga Kependidikan (Gaji, Honor) | G18: =AVERAGE(D18:F18) -> #DIV/0! | K18: =AVERAGE(H18:J18) -> #DIV/0! | L18: =K18/$G$119 -> #DIV/0!
C19: c. Biaya Operasional Pembelajaran (Bahan dan Peralatan Habis Pakai) | G19: =AVERAGE(D19:F19) -> #DIV/0! | K19: =AVERAGE(H19:J19) -> #DIV/0! | L19: =K19/$G$119 -> #DIV/0!
C20: d. Biaya Operasional Tidak Langsung (Listrik, Gas, Air, Pemeliharaan Gedung, Pemeliharaan Sarana, Uang Lembur, Telekomunikasi, Konsumsi, Transport Lokal, Pajak, Asuransi, dll) | G20: =AVERAGE(D20:F20) -> #DIV/0! | K20: =AVERAGE(H20:J20) -> #DIV/0! | L20: =K20/$G$119 -> #DIV/0!
B21: 4 | C21: Biaya operasional kemahasiswaan (penalaran, minat, bakat, dan kesejahteraan). | G21: =AVERAGE(D21:F21) -> #DIV/0! | K21: =AVERAGE(H21:J21) -> #DIV/0! | L21: =K21/$G$119 -> #DIV/0!
C22: Jumlah Biaya Pendidikan Non Gelar | D22: =SUM(D17:D21) -> 0 | E22: =SUM(E17:E21) -> 0 | F22: =SUM(F17:F21) -> 0 | G22: =AVERAGE(D22:F22) -> 0 | H22: =SUM(H17:H21) -> 0 | I22: =SUM(I17:I21) -> 0 | J22: =SUM(J17:J21) -> 0 | K22: =AVERAGE(H22:J22) -> 0 | L22: =K22/$G$119 -> #DIV/0!
B23: 5 | C23: Biaya Penelitian, Perancangan, Pengembangan Karya/Inovasi Karya | G23: =AVERAGE(D23:F23) -> #DIV/0! | K23: =AVERAGE(H23:J23) -> #DIV/0! | L23: =K23/$G$119 -> #DIV/0!
B24: 6 | C24: Biaya PkM | G24: =AVERAGE(D24:F24) -> #DIV/0! | K24: =AVERAGE(H24:J24) -> #DIV/0! | L24: =K24/$G$119 -> #DIV/0!
C25: Jumlah Biaya Penelitian, Perancangangan, Penengembangan Karya/Inovasi Karya | D25: =SUM(D23:D24) -> 0 | E25: =SUM(E23:E24) -> 0 | F25: =SUM(F23:F24) -> 0 | G25: =AVERAGE(D25:F25) -> 0 | H25: =SUM(H23:H24) -> 0 | I25: =SUM(I23:I24) -> 0 | J25: =SUM(J23:J24) -> 0 | K25: =AVERAGE(H25:J25) -> 0 | L25: =K25/$G$119 -> #DIV/0!
B26: 7 | C26: Biaya Investasi SDM | G26: =AVERAGE(D26:F26) -> #DIV/0! | K26: =AVERAGE(H26:J26) -> #DIV/0! | L26: =K26/$G$119 -> #DIV/0!
B27: 8 | C27: Biaya Investasi Sarana | G27: =AVERAGE(D27:F27) -> #DIV/0! | K27: =AVERAGE(H27:J27) -> #DIV/0! | L27: =K27/$G$119 -> #DIV/0!
B28: 9 | C28: Biaya Investasi Prasarana | G28: =AVERAGE(D28:F28) -> #DIV/0! | K28: =AVERAGE(H28:J28) -> #DIV/0! | L28: =K28/$G$119 -> #DIV/0!
C29: Jumlah Biaya Invesasi SDM, Sarana dan Prasarana | D29: =SUM(D26:D28) -> 0 | E29: =SUM(E26:E28) -> 0 | F29: =SUM(F26:F28) -> 0 | G29: =AVERAGE(D29:F29) -> 0 | H29: =SUM(H26:H28) -> 0 | I29: =SUM(I26:I28) -> 0 | J29: =SUM(J26:J28) -> 0 | K29: =AVERAGE(H29:J29) -> 0 | L29: =K29/$G$119 -> #DIV/0!
L30: =K30/$G$119 -> #DIV/0!
C31: Jumlah Realisasi Pembiayaan Program Sarjana S1 | D31: =D15+D22+D25+D29 -> 0 | E31: =E15+E22+E25+E29 -> 0 | F31: =F15+F22+F25+F29 -> 0 | G31: =AVERAGE(D31:F31) -> 0 | H31: =H15+H22+H25+H29 -> 0 | I31: =I15+I22+I25+I29 -> 0 | J31: =J15+J22+J25+J29 -> 0 | K31: =AVERAGE(H31:J31) -> 0 | L31: =K31/$G$119 -> #DIV/0!
B33: Realisasi Pengeluaran Pembiayaan Program Profesi
B34: No. | C34: Jenis Biaya | D34: Unit Pengelola Program Studi IDR x Juta | H34: Program Studi IDR x Juta | L34: Ratio Biaya (PS dgn Kelolaan UPPS)
D35: TS-2 | E35: TS-1 | F35: TS | G35: Rata-rata | H35: TS-2 | I35: TS-1 | J35: TS | K35: Rata-rata
B36: 1 | C36: 2 | D36: 3 | E36: 4 | F36: 5 | G36: 6 | H36: 3 | I36: 4 | J36: 5 | K36: 6 | L36: 7
B37: 1 | C37: Biaya Operasional Pendidikan Bergelar
C38: a. Biaya Dosen (Gaji, Honor) | G38: =AVERAGE(D38:F38) -> #DIV/0! | K38: =AVERAGE(H38:J38) -> #DIV/0! | L38: =K38/$G$119 -> #DIV/0!
C39: b. Biaya Tenaga Kependidikan (Gaji, Honor) | G39: =AVERAGE(D39:F39) -> #DIV/0! | K39: =AVERAGE(H39:J39) -> #DIV/0! | L39: =K39/$G$119 -> #DIV/0!
C40: c. Biaya Operasional Pembelajaran (Bahan dan Peralatan Habis Pakai) | G40: =AVERAGE(D40:F40) -> #DIV/0! | K40: =AVERAGE(H40:J40) -> #DIV/0! | L40: =K40/$G$119 -> #DIV/0!
C41: d. Biaya Operasional Tidak Langsung (Listrik, Gas, Air, Pemeliharaan Gedung, Pemeliharaan Sarana, Uang Lembur, Telekomunikasi, Konsumsi, Transport Lokal, Pajak, Asuransi, dll) | G41: =AVERAGE(D41:F41) -> #DIV/0! | K41: =AVERAGE(H41:J41) -> #DIV/0! | L41: =K41/$G$119 -> #DIV/0!
B42: 2 | C42: Biaya operasional kemahasiswaan (penalaran, minat, bakat, dan kesejahteraan) | G42: =AVERAGE(D42:F42) -> #DIV/0! | K42: =AVERAGE(H42:J42) -> #DIV/0! | L42: =K42/$G$119 -> #DIV/0!
C43: Jumlah Biaya Pendidikan Bergelar | D43: =SUM(D37:D42) -> 0 | E43: =SUM(E37:E42) -> 0 | F43: =SUM(F37:F42) -> 0 | G43: =AVERAGE(D43:F43) -> 0 | H43: =SUM(H37:H42) -> 0 | I43: =SUM(I37:I42) -> 0 | J43: =SUM(J37:J42) -> 0 | K43: =AVERAGE(H43:J43) -> 0 | L43: =K43/$G$119 -> #DIV/0!
B44: 3 | C44: Biaya Operasional Pendidikan Non Gelar Bergelar | L44: =K44/$G$119 -> #DIV/0!
C45: a. Biaya Dosen (Gaji, Honor) | G45: =AVERAGE(D45:F45) -> #DIV/0! | K45: =AVERAGE(H45:J45) -> #DIV/0! | L45: =K45/$G$119 -> #DIV/0!
C46: b. Biaya Tenaga Kependidikan (Gaji, Honor) | G46: =AVERAGE(D46:F46) -> #DIV/0! | K46: =AVERAGE(H46:J46) -> #DIV/0! | L46: =K46/$G$119 -> #DIV/0!
C47: c. Biaya Operasional Pembelajaran (Bahan dan Peralatan Habis Pakai) | G47: =AVERAGE(D47:F47) -> #DIV/0! | K47: =AVERAGE(H47:J47) -> #DIV/0! | L47: =K47/$G$119 -> #DIV/0!
C48: d. Biaya Operasional Tidak Langsung (Listrik, Gas, Air, Pemeliharaan Gedung, Pemeliharaan Sarana, Uang Lembur, Telekomunikasi, Konsumsi, Transport Lokal, Pajak, Asuransi, dll.) | G48: =AVERAGE(D48:F48) -> #DIV/0! | K48: =AVERAGE(H48:J48) -> #DIV/0! | L48: =K48/$G$119 -> #DIV/0!
B49: 4 | C49: Biaya operasional kemahasiswaan (penalaran, minat, bakat, dan kesejahteraan) | G49: =AVERAGE(D49:F49) -> #DIV/0! | K49: =AVERAGE(H49:J49) -> #DIV/0! | L49: =K49/$G$119 -> #DIV/0!
C50: Jumlah Biaya Pendidikan Non Gelar | D50: =SUM(D45:D49) -> 0 | E50: =SUM(E45:E49) -> 0 | F50: =SUM(F45:F49) -> 0 | G50: =AVERAGE(D50:F50) -> 0 | H50: =SUM(H45:H49) -> 0 | I50: =SUM(I45:I49) -> 0 | J50: =SUM(J45:J49) -> 0 | K50: =AVERAGE(H50:J50) -> 0 | L50: =K50/$G$119 -> #DIV/0!
B51: 5 | C51: Biaya Penelitian, Perancangan, Pengembangan Karya/Inovasi Karya | G51: =AVERAGE(D51:F51) -> #DIV/0! | K51: =AVERAGE(H51:J51) -> #DIV/0! | L51: =K51/$G$119 -> #DIV/0!
B52: 6 | C52: Biaya PkM | G52: =AVERAGE(D52:F52) -> #DIV/0! | K52: =AVERAGE(H52:J52) -> #DIV/0! | L52: =K52/$G$119 -> #DIV/0!
C53: Jumlah Biaya Penelitian, Perancangangan, Penengembangan Karya/Inovasi Karya | D53: =SUM(D51:D52) -> 0 | E53: =SUM(E51:E52) -> 0 | F53: =SUM(F51:F52) -> 0 | G53: =AVERAGE(D53:F53) -> 0 | H53: =SUM(H51:H52) -> 0 | I53: =SUM(I51:I52) -> 0 | J53: =SUM(J51:J52) -> 0 | K53: =AVERAGE(H53:J53) -> 0 | L53: =K53/$G$119 -> #DIV/0!
B54: 7 | C54: Biaya Investasi SDM | G54: =AVERAGE(D54:F54) -> #DIV/0! | K54: =AVERAGE(H54:J54) -> #DIV/0! | L54: =K54/$G$119 -> #DIV/0!
B55: 8 | C55: Biaya Investasi Sarana | G55: =AVERAGE(D55:F55) -> #DIV/0! | K55: =AVERAGE(H55:J55) -> #DIV/0! | L55: =K55/$G$119 -> #DIV/0!
B56: 9 | C56: Biaya Investasi Prasarana | G56: =AVERAGE(D56:F56) -> #DIV/0! | K56: =AVERAGE(H56:J56) -> #DIV/0! | L56: =K56/$G$119 -> #DIV/0!
C57: Jumlah Biaya Invesasi SDM, Sarana dan Prasarana | D57: =SUM(D54:D56) -> 0 | E57: =SUM(E54:E56) -> 0 | F57: =SUM(F54:F56) -> 0 | G57: =AVERAGE(D57:F57) -> 0 | H57: =SUM(H54:H56) -> 0 | I57: =SUM(I54:I56) -> 0 | J57: =SUM(J54:J56) -> 0 | K57: =AVERAGE(H57:J57) -> 0 | L57: =K57/$G$119 -> #DIV/0!
L58: =K58/$G$119 -> #DIV/0!
C59: ='[1]A.5.2 non Diploma & Terapan'!$C$58 -> Jumlah Realisasi Pembiayaan Program Profesi | D59: =D43+D50+D53+D57 -> 0 | E59: =E43+E50+E53+E57 -> 0 | F59: =F43+F50+F53+F57 -> 0 | G59: =AVERAGE(D59:F59) -> 0 | H59: =H43+H50+H53+H57 -> 0 | I59: =I43+I50+I53+I57 -> 0 | J59: =J43+J50+J53+J57 -> 0 | K59: =AVERAGE(H59:J59) -> 0 | L59: =K59/$G$119 -> #DIV/0!
B61: Realisasi Pengeluaran Pembiayaan Program Magister
B62: No. | C62: Jenis Biaya | D62: Unit Pengelola Program Studi IDR x Juta | H62: Program Studi IDR x Juta | L62: Ratio Biaya (PS dgn Kelolaan UPPS)
D63: TS-2 | E63: TS-1 | F63: TS | G63: Rata-rata | H63: TS-2 | I63: TS-1 | J63: TS | K63: Rata-rata
B64: 1 | C64: 2 | D64: 3 | E64: 4 | F64: 5 | G64: 6 | H64: 3 | I64: 4 | J64: 5 | K64: 6 | L64: 7
B65: 1 | C65: Biaya Operasional Pendidikan Bergelar
C66: a. Biaya Dosen (Gaji, Honor) | G66: =AVERAGE(D66:F66) -> #DIV/0! | K66: =AVERAGE(H66:J66) -> #DIV/0! | L66: =K66/$G$119 -> #DIV/0!
C67: b. Biaya Tenaga Kependidikan (Gaji, Honor) | G67: =AVERAGE(D67:F67) -> #DIV/0! | K67: =AVERAGE(H67:J67) -> #DIV/0! | L67: =K67/$G$119 -> #DIV/0!
C68: c. Biaya Operasional Pembelajaran (Bahan dan Peralatan Habis Pakai) | G68: =AVERAGE(D68:F68) -> #DIV/0! | K68: =AVERAGE(H68:J68) -> #DIV/0! | L68: =K68/$G$119 -> #DIV/0!
C69: d. Biaya Operasional Tidak Langsung (Listrik, Gas, Air, Pemeliharaan Gedung, Pemeliharaan Sarana, Uang Lembur, Telekomunikasi, Konsumsi, Transport Lokal, Pajak, Asuransi, dll.) | G69: =AVERAGE(D69:F69) -> #DIV/0! | K69: =AVERAGE(H69:J69) -> #DIV/0! | L69: =K69/$G$119 -> #DIV/0!
B70: 2 | C70: Biaya operasional kemahasiswaan (penalaran, minat, bakat, dan kesejahteraan). | G70: =AVERAGE(D70:F70) -> #DIV/0! | K70: =AVERAGE(H70:J70) -> #DIV/0! | L70: =K70/$G$119 -> #DIV/0!
C71: Jumlah Biaya Pendidikan Bergelar | D71: =SUM(D65:D70) -> 0 | E71: =SUM(E65:E70) -> 0 | F71: =SUM(F65:F70) -> 0 | G71: =AVERAGE(D71:F71) -> 0 | H71: =SUM(H65:H70) -> 0 | I71: =SUM(I65:I70) -> 0 | J71: =SUM(J65:J70) -> 0 | K71: =AVERAGE(H71:J71) -> 0 | L71: =K71/$G$119 -> #DIV/0!
B72: 3 | C72: Biaya Operasional Pendidikan Non Gelar Bergelar | L72: =K72/$G$119 -> #DIV/0!
C73: a. Biaya Dosen (Gaji, Honor) | G73: =AVERAGE(D73:F73) -> #DIV/0! | K73: =AVERAGE(H73:J73) -> #DIV/0! | L73: =K73/$G$119 -> #DIV/0!
C74: b. Biaya Tenaga Kependidikan (Gaji, Honor) | G74: =AVERAGE(D74:F74) -> #DIV/0! | K74: =AVERAGE(H74:J74) -> #DIV/0! | L74: =K74/$G$119 -> #DIV/0!
C75: c. Biaya Operasional Pembelajaran (Bahan dan Peralatan Habis Pakai) | G75: =AVERAGE(D75:F75) -> #DIV/0! | K75: =AVERAGE(H75:J75) -> #DIV/0! | L75: =K75/$G$119 -> #DIV/0!
C76: d. Biaya Operasional Tidak Langsung (Listrik, Gas, Air, Pemeliharaan Gedung, Pemeliharaan Sarana, Uang Lembur, Telekomunikasi, Konsumsi, Transport Lokal, Pajak, Asuransi, dll.) | G76: =AVERAGE(D76:F76) -> #DIV/0! | K76: =AVERAGE(H76:J76) -> #DIV/0! | L76: =K76/$G$119 -> #DIV/0!
B77: 4 | C77: Biaya operasional kemahasiswaan (penalaran, minat, bakat, dan kesejahteraan). | G77: =AVERAGE(D77:F77) -> #DIV/0! | K77: =AVERAGE(H77:J77) -> #DIV/0! | L77: =K77/$G$119 -> #DIV/0!
C78: Jumlah Biaya Pendidikan Non Gelar | D78: =SUM(D73:D77) -> 0 | E78: =SUM(E73:E77) -> 0 | F78: =SUM(F73:F77) -> 0 | G78: =AVERAGE(D78:F78) -> 0 | H78: =SUM(H73:H77) -> 0 | I78: =SUM(I73:I77) -> 0 | J78: =SUM(J73:J77) -> 0 | K78: =AVERAGE(H78:J78) -> 0 | L78: =K78/$G$119 -> #DIV/0!
B79: 5 | C79: Biaya Penelitian, Perancangan, Pengembangan Karya/Inovasi Karya | G79: =AVERAGE(D79:F79) -> #DIV/0! | K79: =AVERAGE(H79:J79) -> #DIV/0! | L79: =K79/$G$119 -> #DIV/0!
B80: 6 | C80: Biaya PkM | G80: =AVERAGE(D80:F80) -> #DIV/0! | K80: =AVERAGE(H80:J80) -> #DIV/0! | L80: =K80/$G$119 -> #DIV/0!
C81: Jumlah Biaya Penelitian, Perancangangan, Penengembangan Karya/Inovasi Karya | D81: =SUM(D79:D80) -> 0 | E81: =SUM(E79:E80) -> 0 | F81: =SUM(F79:F80) -> 0 | G81: =AVERAGE(D81:F81) -> 0 | H81: =SUM(H79:H80) -> 0 | I81: =SUM(I79:I80) -> 0 | J81: =SUM(J79:J80) -> 0 | K81: =AVERAGE(H81:J81) -> 0 | L81: =K81/$G$119 -> #DIV/0!
B82: 7 | C82: Biaya Investasi SDM | G82: =AVERAGE(D82:F82) -> #DIV/0! | K82: =AVERAGE(H82:J82) -> #DIV/0! | L82: =K82/$G$119 -> #DIV/0!
B83: 8 | C83: Biaya Investasi Sarana | G83: =AVERAGE(D83:F83) -> #DIV/0! | K83: =AVERAGE(H83:J83) -> #DIV/0! | L83: =K83/$G$119 -> #DIV/0!
B84: 9 | C84: Biaya Investasi Prasarana | G84: =AVERAGE(D84:F84) -> #DIV/0! | K84: =AVERAGE(H84:J84) -> #DIV/0! | L84: =K84/$G$119 -> #DIV/0!
C85: Jumlah Biaya Invesasi SDM, Sarana dan Prasarana | D85: =SUM(D82:D84) -> 0 | E85: =SUM(E82:E84) -> 0 | F85: =SUM(F82:F84) -> 0 | G85: =AVERAGE(D85:F85) -> 0 | H85: =SUM(H82:H84) -> 0 | I85: =SUM(I82:I84) -> 0 | J85: =SUM(J82:J84) -> 0 | K85: =AVERAGE(H85:J85) -> 0 | L85: =K85/$G$119 -> #DIV/0!
L86: =K86/$G$119 -> #DIV/0!
C87: Jumlah Realisasi Pembiayaan Program Magister S2 | D87: =D71+D78+D81+D85 -> 0 | E87: =E71+E78+E81+E85 -> 0 | F87: =F71+F78+F81+F85 -> 0 | G87: =AVERAGE(D87:F87) -> 0 | H87: =H71+H78+H81+H85 -> 0 | I87: =I71+I78+I81+I85 -> 0 | J87: =J71+J78+J81+J85 -> 0 | K87: =AVERAGE(H87:J87) -> 0 | L87: =K87/$G$119 -> #DIV/0!
B89: Realisasi Pengeluaran Pembiayaan Program Doktor
B90: No. | C90: Jenis Biaya | D90: Unit Pengelola Program Studi IDR x Juta | H90: Program Studi IDR x Juta | L90: Ratio Biaya (PS dgn Kelolaan UPPS)
D91: TS-2 | E91: TS-1 | F91: TS | G91: Rata-rata | H91: TS-2 | I91: TS-1 | J91: TS | K91: Rata-rata
B92: 1 | C92: 2 | D92: 3 | E92: 4 | F92: 5 | G92: 6 | H92: 3 | I92: 4 | J92: 5 | K92: 6 | L92: 7
B93: 1 | C93: Biaya Operasional Pendidikan Bergelar
C94: a. Biaya Dosen (Gaji, Honor) | G94: =AVERAGE(D94:F94) -> #DIV/0! | K94: =AVERAGE(H94:J94) -> #DIV/0! | L94: =K94/$G$119 -> #DIV/0!
C95: b. Biaya Tenaga Kependidikan (Gaji, Honor) | G95: =AVERAGE(D95:F95) -> #DIV/0! | K95: =AVERAGE(H95:J95) -> #DIV/0! | L95: =K95/$G$119 -> #DIV/0!
C96: c. Biaya Operasional Pembelajaran (Bahan dan Peralatan Habis Pakai) | G96: =AVERAGE(D96:F96) -> #DIV/0! | K96: =AVERAGE(H96:J96) -> #DIV/0! | L96: =K96/$G$119 -> #DIV/0!
C97: d. Biaya Operasional Tidak Langsung (Listrik, Gas, Air, Pemeliharaan Gedung, Pemeliharaan Sarana, Uang Lembur, Telekomunikasi, Konsumsi, Transport Lokal, Pajak, Asuransi, dll.) | G97: =AVERAGE(D97:F97) -> #DIV/0! | K97: =AVERAGE(H97:J97) -> #DIV/0! | L97: =K97/$G$119 -> #DIV/0!
B98: 2 | C98: Biaya operasional kemahasiswaan (penalaran, minat, bakat, dan kesejahteraan). | G98: =AVERAGE(D98:F98) -> #DIV/0! | K98: =AVERAGE(H98:J98) -> #DIV/0! | L98: =K98/$G$119 -> #DIV/0!
C99: Jumlah Biaya Pendidikan Bergelar | D99: =SUM(D93:D98) -> 0 | E99: =SUM(E93:E98) -> 0 | F99: =SUM(F93:F98) -> 0 | G99: =AVERAGE(D99:F99) -> 0 | H99: =SUM(H93:H98) -> 0 | I99: =SUM(I93:I98) -> 0 | J99: =SUM(J93:J98) -> 0 | K99: =AVERAGE(H99:J99) -> 0 | L99: =K99/$G$119 -> #DIV/0!
B100: 3 | C100: Biaya Operasional Pendidikan Non Gelar Bergelar | L100: =K100/$G$119 -> #DIV/0!
C101: a. Biaya Dosen (Gaji, Honor) | G101: =AVERAGE(D101:F101) -> #DIV/0! | K101: =AVERAGE(H101:J101) -> #DIV/0! | L101: =K101/$G$119 -> #DIV/0!
C102: b. Biaya Tenaga Kependidikan (Gaji, Honor) | G102: =AVERAGE(D102:F102) -> #DIV/0! | K102: =AVERAGE(H102:J102) -> #DIV/0! | L102: =K102/$G$119 -> #DIV/0!
C103: c. Biaya Operasional Pembelajaran (Bahan dan Peralatan Habis Pakai) | G103: =AVERAGE(D103:F103) -> #DIV/0! | K103: =AVERAGE(H103:J103) -> #DIV/0! | L103: =K103/$G$119 -> #DIV/0!
C104: d. Biaya Operasional Tidak Langsung (Listrik, Gas, Air, Pemeliharaan Gedung, Pemeliharaan Sarana, Uang Lembur, Telekomunikasi, Konsumsi, Transport Lokal, Pajak, Asuransi, dll.) | G104: =AVERAGE(D104:F104) -> #DIV/0! | K104: =AVERAGE(H104:J104) -> #DIV/0! | L104: =K104/$G$119 -> #DIV/0!
...

Sheet A.5.3
B2: A. Akuntabilitas dan Tata Kelola
B3: A.5 Keuangan, Keberlanjutan, dan Mitigasi Risiko
B4: Tabel A.5.3 Neraca Pemasukan-Pembiayaan Program Sarjana/Profesi/Magister/Doktor
B5: No. | C5: Uraian | D5: Unit Pengelola Program Studi IDR x Juta | H5: Program Studi IDR x Juta
D6: TS-2 | E6: TS-1 | F6: TS | G6: Rata-rata | H6: TS-2 | I6: TS-1 | J6: TS | K6: Rata-rata
B7: 1 | C7: Realisasi Pemasukan | D7: ='A.5.1 '!D56 -> 0 | E7: ='A.5.1 '!E56 -> 0 | F7: ='A.5.1 '!F56 -> 0 | G7: =SUM(D7:F7)/3 -> 0 | H7: ='A.5.1 '!H56 -> 0 | I7: ='A.5.1 '!I56 -> 0 | J7: ='A.5.1 '!J56 -> 0 | K7: =SUM(H7:J7)/3 -> 0
B9: 2 | C9: Realiasasi Pembiayaan | D9: ='A.5.2 '!D31 -> 0 | E9: ='A.5.2 '!E31 -> 0 | F9: ='A.5.2 '!F31 -> 0 | G9: =SUM(D9:F9)/3 -> 0 | H9: ='A.5.2 '!H31 -> 0 | I9: ='A.5.2 '!I31 -> 0 | J9: ='A.5.2 '!J31 -> 0 | K9: =SUM(H9:J9)/3 -> 0
B11: 3 | C11: Realiasasi Pemasukan - Pembiayaan | D11: =D7-D9 -> 0 | E11: =E7-E9 -> 0 | F11: =F7-F9 -> 0 | G11: =G7-G9 -> 0 | H11: =H7-H9 -> 0 | I11: =I7-I9 -> 0 | J11: =J7-J9 -> 0 | K11: =K7-K9 -> 0
B13: 4 | C13: Ratio (Realisasi Pemasukan-Pembiayaan)/(Realisasi Pemasukan) | D13: =D11/D7 -> #DIV/0! | E13: =E11/E7 -> #DIV/0! | F13: =F11/F7 -> #DIV/0! | G13: =G11/G7 -> #DIV/0! | H13: =H11/H7 -> #DIV/0! | I13: =I11/I7 -> #DIV/0! | J13: =J11/J7 -> #DIV/0! | K13: =K11/K7 -> #DIV/0!
B15: Neraca Pemasukan-Pembiayaan Program Profesi
B16: No. | C16: Uraian | D16: Unit Pengelola Program Studi IDR x Juta | H16: Program Studi IDR x Juta
D17: TS-2 | E17: TS-1 | F17: TS | G17: Rata-rata | H17: TS-2 | I17: TS-1 | J17: TS | K17: Rata-rata
B18: 1 | C18: Realisasi Pemasukan | D18: ='A.5.1 '!D110 -> 0 | E18: ='A.5.1 '!E110 -> 0 | F18: ='A.5.1 '!F110 -> 0 | G18: =SUM(D18:F18)/3 -> 0 | H18: ='A.5.1 '!H110 -> 0 | I18: ='A.5.1 '!I110 -> 0 | J18: ='A.5.1 '!J110 -> 0 | K18: =SUM(H18:J18)/3 -> 0
B20: 2 | C20: Realiasasi Pembiayaan | D20: ='A.5.2 '!D59 -> 0 | E20: ='A.5.2 '!E59 -> 0 | F20: ='A.5.2 '!F59 -> 0 | G20: =SUM(D20:F20)/3 -> 0 | H20: ='A.5.2 '!H59 -> 0 | I20: ='A.5.2 '!I59 -> 0 | J20: ='A.5.2 '!J59 -> 0 | K20: =SUM(H20:J20)/3 -> 0
B22: 3 | C22: Realiasasi Pemasukan - Pembiayaan | D22: =D18-D20 -> 0 | E22: =E18-E20 -> 0 | F22: =F18-F20 -> 0 | G22: =SUM(D22:F22)/3 -> 0 | H22: =H18-H20 -> 0 | I22: =I18-I20 -> 0 | J22: =J18-J20 -> 0 | K22: =SUM(H22:J22)/3 -> 0
B24: 4 | C24: Ratio (Realisasi Pemasukan-Pembiayaan)/(Realisasi Pemasukan) | D24: =D22/D18 -> #DIV/0! | E24: =E22/E18 -> #DIV/0! | F24: =F22/F18 -> #DIV/0! | G24: =G22/G18 -> #DIV/0! | H24: =H22/H18 -> #DIV/0! | I24: =I22/I18 -> #DIV/0! | J24: =J22/J18 -> #DIV/0! | K24: =K22/K18 -> #DIV/0!
B26: Neraca Pemasukan-Pembiayaan Program Magister S2
B27: No. | C27: Uraian | D27: Unit Pengelola Program Studi IDR x Juta | H27: Program Studi IDR x Juta
D28: TS-2 | E28: TS-1 | F28: TS | G28: Rata-rata | H28: TS-2 | I28: TS-1 | J28: TS | K28: Rata-rata
B29: 1 | C29: Realisasi Pemasukan | D29: ='A.5.1 '!D164 -> 0 | E29: ='A.5.1 '!E164 -> 0 | F29: ='A.5.1 '!F164 -> 0 | G29: =SUM(D29:F29)/3 -> 0 | H29: ='A.5.1 '!H164 -> 0 | I29: ='A.5.1 '!I164 -> 0 | J29: ='A.5.1 '!J164 -> 0 | K29: =SUM(H29:J29)/3 -> 0
B31: 2 | C31: Realiasasi Pembiayaan | D31: ='A.5.2 '!D87 -> 0 | E31: ='A.5.2 '!E87 -> 0 | F31: ='A.5.2 '!F87 -> 0 | G31: =SUM(D31:F31)/3 -> 0 | H31: ='A.5.2 '!H87 -> 0 | I31: ='A.5.2 '!I87 -> 0 | J31: ='A.5.2 '!J87 -> 0 | K31: =SUM(H31:J31)/3 -> 0
B33: 3 | C33: Realiasasi Pemasukan - Pembiayaan | D33: =D29-D31 -> 0 | E33: =E29-E31 -> 0 | F33: =F29-F31 -> 0 | G33: =SUM(D33:F33)/3 -> 0 | H33: =H29-H31 -> 0 | I33: =I29-I31 -> 0 | J33: =J29-J31 -> 0 | K33: =SUM(H33:J33)/3 -> 0
B35: 4 | C35: Ratio (Realisasi Pemasukan-Pembiayaan)/(Realisasi Pemasukan) | D35: =D33/D29 -> #DIV/0! | E35: =E33/E29 -> #DIV/0! | F35: =F33/F29 -> #DIV/0! | G35: =SUM(D35:F35)/3 -> #DIV/0! | H35: =H33/H29 -> #DIV/0! | I35: =I33/I29 -> #DIV/0! | J35: =J33/J29 -> #DIV/0! | K35: =SUM(H35:J35)/3 -> #DIV/0!
B37: Neraca Pemasukan-Pembiayaan Program Doktor S3
B38: No. | C38: Uraian | D38: Unit Pengelola Program Studi IDR x Juta | H38: Program Studi IDR x Juta
D39: TS-2 | E39: TS-1 | F39: TS | G39: Rata-rata | H39: TS-2 | I39: TS-1 | J39: TS | K39: Rata-rata
B40: 1 | C40: Realisasi Pemasukan | D40: ='A.5.1 '!D218 -> 0 | E40: ='A.5.1 '!E218 -> 0 | F40: ='A.5.1 '!F218 -> 0 | G40: =SUM(D40:F40)/3 -> 0 | H40: ='A.5.1 '!H218 -> 0 | I40: ='A.5.1 '!I218 -> 0 | J40: ='A.5.1 '!J218 -> 0 | K40: =SUM(H40:J40)/3 -> 0
B42: 2 | C42: Realiasasi Pembiayaan | D42: ='A.5.2 '!D115 -> 0 | E42: ='A.5.2 '!E115 -> 0 | F42: ='A.5.2 '!F115 -> 0 | G42: =SUM(D42:F42)/3 -> 0 | H42: ='A.5.2 '!H115 -> 0 | I42: ='A.5.2 '!I115 -> 0 | J42: ='A.5.2 '!J115 -> 0 | K42: =SUM(H42:J42)/3 -> 0
B44: 3 | C44: Realiasasi Pemasukan - Pembiayaan | D44: =D40-D42 -> 0 | E44: =E40-E42 -> 0 | F44: =F40-F42 -> 0 | G44: =SUM(D44:F44)/3 -> 0 | H44: =H40-H42 -> 0 | I44: =I40-I42 -> 0 | J44: =J40-J42 -> 0 | K44: =SUM(H44:J44)/3 -> 0
B46: 4 | C46: Ratio (Realisasi Pemasukan-Pembiayaan)/(Realisasi Pemasukan) | D46: =D44/D40 -> #DIV/0! | E46: =E44/E40 -> #DIV/0! | F46: =F44/F40 -> #DIV/0! | G46: =SUM(D46:F46)/3 -> #DIV/0! | H46: =H44/H40 -> #DIV/0! | I46: =I44/I40 -> #DIV/0! | J46: =J44/J40 -> #DIV/0! | K46: =SUM(H46:J46)/3 -> #DIV/0!
B49: catatan:
B50: Apabila DTPS mengajar pada Program Studi Sarjana, Magister dan Doktor
B51: Perhitungan Keuangan di dasarkan atas jumlah pemasukan dan pengeluaran berbasis nama untuk menghidari perhitungan ganda

Sheet A.5.4 Terapan
B2: A. Akuntabilitas dan Tata Kelola
B3: A.5 Keuangan, Keberlanjutan, dan Mitigasi Risiko
B4: Tabel A.5.4 Realisasi Pemasukan Dana Program Studi Diploma Dua/Tiga/Sarjana/Magister/Doktor Terapan
B5: Realisasi Pemasukan Dana Program studi Diploma Dua
B6: No. | C6: Pemasukan Dana | D6: Unit Pengelola Program Studi IDR x Juta | H6: Program Studi IDR x Juta | L6: Ratio Pemasukan (PS dgn Kelolaan RKAT UPPS)
D7: TS-2 | E7: TS-1 | F7: TS | G7: Rata-rata | H7: TS-2 | I7: TS-1 | J7: TS | K7: Rata-rata
B8: 1 | C8: 2 | D8: 3 | E8: 4 | F8: 5 | G8: 6 | H8: 3 | I8: 4 | J8: 5 | K8: 6 | L8: 7
B9: A | C9: Realisasi Pemasukan Dana UKT
B10: 1 | C10: UKT Profesi Bergelar | D10: 1 | E10: 1 | F10: 1 | G10: =SUM(D10:F10)/3 -> 1 | H10: 1 | I10: 1 | J10: 1 | K10: =SUM(H10:J10)/3 -> 1 | L10: =K10/$G$278 -> #DIV/0!
B11: 2 | C11: UKT Profesi Non Gelar | G11: =SUM(D11:F11)/3 -> 0 | K11: =SUM(H11:J11)/3 -> 0 | L11: =K11/$G$278 -> #DIV/0!
C12: Jumlah Pemasukan Dana UKT | D12: =SUM(D10:D11) -> 1 | E12: =SUM(E10:E11) -> 1 | F12: =SUM(F10:F11) -> 1 | G12: =SUM(D12:F12)/3 -> 1 | H12: =SUM(H10:H11) -> 1 | I12: =SUM(I10:I11) -> 1 | J12: =SUM(J10:J11) -> 1 | K12: =SUM(H12:J12)/3 -> 1 | L12: =K12/$G$278 -> #DIV/0!
B13: B | C13: Realisasi Pemasukan Dana Penelitian, Perancangan, Pengembangan Karya/Inovasi Karya
B14: 3 | C14: Penelitian Mhs Mandiri (Tugas Akhir, Proyek, dll) | G14: =SUM(D14:F14)/3 -> 0 | K14: =SUM(H14:J14)/3 -> 0 | L14: =K14/$G$278 -> #DIV/0!
B15: 4 | C15: Penelitian DTPS Mandiri | G15: =SUM(D15:F15)/3 -> 0 | K15: =SUM(H15:J15)/3 -> 0 | L15: =K15/$G$278 -> #DIV/0!
B16: 5 | C16: Penelitian (Kolaborasi DTPS dan Mhs ) Mandiri | G16: =SUM(D16:F16)/3 -> 0 | K16: =SUM(H16:J16)/3 -> 0 | L16: =K16/$G$278 -> #DIV/0!
B17: 6 | C17: Penelitian Program Universitas/Institute | G17: =SUM(D17:F17)/3 -> 0 | K17: =SUM(H17:J17)/3 -> 0 | L17: =K17/$G$278 -> #DIV/0!
B18: 7 | C18: Penelitian Internasional | G18: =SUM(D18:F18)/3 -> 0 | K18: =SUM(H18:J18)/3 -> 0 | L18: =K18/$G$278 -> #DIV/0!
C19: Jumlah Realisasi Pemasukan Dana Penelitian, Perancangan, Pengembangan Karya/Inovasi Karya | D19: =SUM(D14:D18) -> 0 | E19: =SUM(E13:E18) -> 0 | F19: =SUM(F13:F18) -> 0 | G19: =SUM(D19:F19)/3 -> 0 | H19: =SUM(H13:H18) -> 0 | I19: =SUM(I13:I18) -> 0 | J19: =SUM(J13:J18) -> 0 | K19: =SUM(H19:J19)/3 -> 0 | L19: =K19/$G$278 -> #DIV/0!
B20: C | C20: Realisasi Pemasukan Dana PkM
B21: 31 | C21: PkM Mhs Mandiri (Program Perorangan, Kelompok, Himpunan, dll) | G21: =SUM(D21:F21)/3 -> 0 | K21: =SUM(H21:J21)/3 -> 0 | L21: =K21/$G$278 -> #DIV/0!
B22: 32 | C22: PkM DTPS Mandiri | G22: =SUM(D22:F22)/3 -> 0 | K22: =SUM(H22:J22)/3 -> 0 | L22: =K22/$G$278 -> #DIV/0!
B23: 33 | C23: PkM (Kolaborasi DTPS dan Mhs ) Mandiri | G23: =SUM(D23:F23)/3 -> 0 | K23: =SUM(H23:J23)/3 -> 0 | L23: =K23/$G$278 -> #DIV/0!
B24: 34 | C24: PkM Program Universitas/Institute | G24: =SUM(D24:F24)/3 -> 0 | K24: =SUM(H24:J24)/3 -> 0 | L24: =K24/$G$278 -> #DIV/0!
B25: 35 | C25: PkM Internasional | G25: =SUM(D25:F25)/3 -> 0 | K25: =SUM(H25:J25)/3 -> 0 | L25: =K25/$G$278 -> #DIV/0!
C26: Jumlah Realisasi Pemasukan Dana PkM | D26: =SUM(D21:D25) -> 0 | E26: =SUM(E21:E25) -> 0 | F26: =SUM(F21:F25) -> 0 | G26: =SUM(D26:F26)/3 -> 0 | H26: =SUM(H21:H25) -> 0 | I26: =SUM(I21:I25) -> 0 | J26: =SUM(J21:J25) -> 0 | K26: =SUM(H26:J26)/3 -> 0 | L26: =K26/$G$278 -> #DIV/0!
B27: D | C27: Realisasi Pemasukan Dana Kerjasama | L27: =K27/$G$278 -> #DIV/0!
B28: 36 | C28: Pemasukan Dana Kerjasama Pendidikan Bergelar | G28: =SUM(D28:F28)/3 -> 0 | K28: =SUM(H28:J28)/3 -> 0 | L28: =K28/$G$278 -> #DIV/0!
B29: 37 | C29: Pemasukan Dana Kerjasama Pendidikan Non gelar | G29: =SUM(D29:F29)/3 -> 0 | K29: =SUM(H29:J29)/3 -> 0 | L29: =K29/$G$278 -> #DIV/0!
C30: Jumlah Realisasi Pemasukan Kerjasama Pendidikan | D30: =SUM(D28:D29) -> 0 | E30: =SUM(E28:E29) -> 0 | F30: =SUM(F28:F29) -> 0 | G30: =SUM(D30:F30)/3 -> 0 | H30: =SUM(H28:H29) -> 0 | I30: =SUM(I28:I29) -> 0 | J30: =SUM(J28:J29) -> 0 | K30: =SUM(H30:J30)/3 -> 0 | L30: =K30/$G$278 -> #DIV/0!
B31: F | C31: Realisasi Pemasukan Dana Kerjasama Penelitian, Perancangan, Pengembangan Karya, Inovasi Karya
B32: 38 | C32: Kerjasama Penelitian Skala Lokal (Kab/Kota) | G32: =SUM(D32:F32)/3 -> 0 | K32: =SUM(H32:J32)/3 -> 0 | L32: =K32/$G$278 -> #DIV/0!
B33: 39 | C33: Kerjasama Penelitian Skala Wilayah (Provinsi) | G33: =SUM(D33:F33)/3 -> 0 | K33: =SUM(H33:J33)/3 -> 0 | L33: =K33/$G$278 -> #DIV/0!
B34: 40 | C34: Kerjasama Penelitian Skala Nasional | G34: =SUM(D34:F34)/3 -> 0 | K34: =SUM(H34:J34)/3 -> 0 | L34: =K34/$G$278 -> #DIV/0!
B35: 41 | C35: Kerjasama Penelitian Skala Internasional | G35: =SUM(D35:F35)/3 -> 0 | K35: =SUM(H35:J35)/3 -> 0 | L35: =K35/$G$278 -> #DIV/0!
C36: Jumlah Realisasi Pemasukan Dana Kerjasama Penelitian, Perancangan, Pengembangan Karya, Inovasi Karya | D36: =SUM(D32:D35) -> 0 | E36: =SUM(E32:E35) -> 0 | F36: =SUM(F32:F35) -> 0 | G36: =SUM(D36:F36)/3 -> 0 | H36: =SUM(H32:H35) -> 0 | I36: =SUM(I32:I35) -> 0 | J36: =SUM(J32:J35) -> 0 | K36: =SUM(H36:J36)/3 -> 0 | L36: =K36/$G$278 -> #DIV/0!
B37: G | C37: Realisasi Pemasukan Dana Kerjasama PkM
B38: 38 | C38: Kerjasama Penelitian Skala Lokal (Kab/Kota) | G38: =SUM(D38:F38)/3 -> 0 | K38: =SUM(H38:J38)/3 -> 0 | L38: =K38/$G$278 -> #DIV/0!
B39: 39 | C39: Kerjasama Penelitian Skala Wilayah (Provinsi) | G39: =SUM(D39:F39)/3 -> 0 | K39: =SUM(H39:J39)/3 -> 0 | L39: =K39/$G$278 -> #DIV/0!
B40: 40 | C40: Kerjasama Penelitian Skala Nasional | G40: =SUM(D40:F40)/3 -> 0 | K40: =SUM(H40:J40)/3 -> 0 | L40: =K40/$G$278 -> #DIV/0!
B41: 41 | C41: Kerjasama Penelitian Skala Internasional | G41: =SUM(D41:F41)/3 -> 0 | K41: =SUM(H41:J41)/3 -> 0 | L41: =K41/$G$278 -> #DIV/0!
C42: Jumlah Realisasi Pemasukan Dana Kerjasama PkM | D42: =SUM(D38:D41) -> 0 | E42: =SUM(E38:E41) -> 0 | F42: =SUM(F38:F41) -> 0 | G42: =SUM(D42:F42)/3 -> 0 | H42: =SUM(H38:H41) -> 0 | I42: =SUM(I38:I41) -> 0 | J42: =SUM(J38:J41) -> 0 | K42: =SUM(H42:J42)/3 -> 0 | L42: =K42/$G$278 -> #DIV/0!
B43: H | C43: Sumber Pemasukan dari Pemerintah dan Lain lain yang sah | L43: =K43/$G$278 -> #DIV/0!
B44: 42 | C44: a. Gaji dan atau honor dosen | G44: =SUM(D44:F44)/3 -> 0 | K44: =SUM(H44:J44)/3 -> 0 | L44: =K44/$G$278 -> #DIV/0!
B45: 43 | C45: b. Gaji dan atau Honor Tenaga Kependidikan | G45: =SUM(D45:F45)/3 -> 0 | K45: =SUM(H45:J45)/3 -> 0 | L45: =K45/$G$278 -> #DIV/0!
B46: 44 | C46: c. Bantuan Operasional Pembelajaran (Bahan dan Peralatan Habis Pakai) | G46: =SUM(D46:F46)/3 -> 0 | K46: =SUM(H46:J46)/3 -> 0 | L46: =K46/$G$278 -> #DIV/0!
B47: 45 | C47: d. Bantuan Operasional Tidak Langsung (Listrik, Gas, Air, Pemeliharaan Gedung, Pemeliharaan Sarana, Uang Lembur, Telekomunikasi, Konsumsi, Transport) | G47: =SUM(D47:F47)/3 -> 0 | K47: =SUM(H47:J47)/3 -> 0 | L47: =K47/$G$278 -> #DIV/0!
B48: 46 | C48: e.Biaya operasional kemahasiswaan (penalaran, minat, bakat, dan kesejahteraan). | G48: =SUM(D48:F48)/3 -> 0 | K48: =SUM(H48:J48)/3 -> 0 | L48: =K48/$G$278 -> #DIV/0!
C49: Jumlah Sumber Pemasukan dari Pemerintah dan Lain lain yang sah | D49: =SUM(D44:D48) -> 0 | E49: =SUM(E44:E48) -> 0 | F49: =SUM(F44:F48) -> 0 | G49: =SUM(D49:F49)/3 -> 0 | H49: =SUM(H44:H48) -> 0 | I49: =SUM(I44:I48) -> 0 | J49: =SUM(J44:J48) -> 0 | K49: =SUM(H49:J49)/3 -> 0 | L49: =K49/$G$278 -> #DIV/0!
B50: I | C50: Bantuan dan atau Invesasi SDM, Sarana dan Prasarana dari Negara dan sumber lain yang sah
B51: 47 | C51: Investasi SDM | G51: =SUM(D51:F51)/3 -> 0 | K51: =SUM(H51:J51)/3 -> 0 | L51: =K51/$G$278 -> #DIV/0!
B52: 48 | C52: Investasi Sarana | G52: =SUM(D52:F52)/3 -> 0 | K52: =SUM(H52:J52)/3 -> 0 | L52: =K52/$G$278 -> #DIV/0!
B53: 49 | C53: Investasi Prasarana | G53: =SUM(D53:F53)/3 -> 0 | K53: =SUM(H53:J53)/3 -> 0 | L53: =K53/$G$278 -> #DIV/0!
B54: 49 | C54: Investasi Prasarana | G54: =SUM(D54:F54)/3 -> 0 | K54: =SUM(H54:J54)/3 -> 0 | L54: =K54/$G$278 -> #DIV/0!
C55: Jumlah Bantuan dan atau Invesasi SDM, Sarana dan Prasarana dari Negara dan sumber lain yang sah | D55: =SUM(D51:D54)/3 -> 0 | E55: =SUM(E51:E54)/3 -> 0 | F55: =SUM(F51:F54)/3 -> 0 | G55: =SUM(D55:F55)/3 -> 0 | H55: =SUM(H51:H54) -> 0 | I55: =SUM(I51:I54) -> 0 | J55: =SUM(J51:J54) -> 0 | K55: =SUM(H55:J55)/3 -> 0 | L55: =K55/$G$278 -> #DIV/0!
C56: Jumlah Total Realisasi Pemasukan | D56: =D12+D19+D26+D30+D36+D42+D49+D55 -> 1 | E56: =E12+E19+E26+E30+E36+E42+E49+E55 -> 1 | F56: =F12+F19+F26+F30+F36+F42+F49+F55 -> 1 | G56: =SUM(D56:F56)/3 -> 1 | H56: =H12+H19+H26+H30+H36+H42+H49+H55 -> 1 | I56: =I12+I19+I26+I30+I36+I42+I49+I55 -> 1 | J56: =J12+J19+J26+J30+J36+J42+J49+J55 -> 1 | K56: =SUM(H56:J56)/3 -> 1 | L56: =K56/$G$278 -> #DIV/0!
C57: Realisasi Kelolaan RKAT | D57: =70%*D56 -> 0.7 | E57: =70%*E56 -> 0.7 | F57: =70%*F56 -> 0.7 | G57: =SUM(D57:F57)/3 -> 0.7 | H57: =70%*H56 -> 0.7 | I57: =70%*I56 -> 0.7 | J57: =70%*J56 -> 0.7 | K57: =SUM(H57:J57)/3 -> 0.7
B59: Realisasi Pemasukan Dana Program Studi Diploma Tiga
B60: No. | C60: Pemasukan Dana | D60: Unit Pengelola Program Studi IDR x Juta | H60: Program Studi IDR x Juta | L60: Ratio Pemasukan (PS dgn Kelolaan RKAT UPPS)
D61: TS-2 | E61: TS-1 | F61: TS | G61: Rata-rata | H61: TS-2 | I61: TS-1 | J61: TS | K61: Rata-rata
B62: 1 | C62: 2 | D62: 3 | E62: 4 | F62: 5 | G62: 6 | H62: 3 | I62: 4 | J62: 5 | K62: 6 | L62: 7
B63: A | C63: Realisasi Pemasukan Dana UKT
B64: 1 | C64: UKT Profesi Bergelar | G64: =SUM(D64:F64)/3 -> 0 | K64: =SUM(H64:J64)/3 -> 0 | L64: =H64/$G$278 -> #DIV/0!
B65: 2 | C65: UKT Profesi Non Gelar | G65: =SUM(D65:F65)/3 -> 0 | K65: =SUM(H65:J65)/3 -> 0 | L65: =H65/$G$278 -> #DIV/0!
C66: Jumlah Pemasukan Dana UKT | D66: =SUM(D64:D65) -> 0 | E66: =SUM(E64:E65) -> 0 | F66: =SUM(F64:F65) -> 0 | G66: =SUM(D66:F66)/3 -> 0 | H66: =SUM(H64:H65) -> 0 | I66: =SUM(I64:I65) -> 0 | J66: =SUM(J64:J65) -> 0 | K66: =SUM(H66:J66)/3 -> 0 | L66: =H66/$G$278 -> #DIV/0!
B67: B | C67: Realisasi Pemasukan Dana Penelitian, Perancangan, Pengembangan Karya/Inovasi Karya
B68: 3 | C68: Penelitian Mhs Mandiri (Tugas Akhir, Proyek, dll) | G68: =SUM(D68:F68)/3 -> 0 | K68: =SUM(H68:J68)/3 -> 0 | L68: =H68/$G$278 -> #DIV/0!
B69: 4 | C69: Penelitian DTPS Mandiri | G69: =SUM(D69:F69)/3 -> 0 | K69: =SUM(H69:J69)/3 -> 0 | L69: =H69/$G$278 -> #DIV/0!
B70: 5 | C70: Penelitian (Kolaborasi DTPS dan Mhs ) Mandiri | G70: =SUM(D70:F70)/3 -> 0 | K70: =SUM(H70:J70)/3 -> 0 | L70: =H70/$G$278 -> #DIV/0!
B71: 6 | C71: Penelitian Program Universitas/Institute | G71: =SUM(D71:F71)/3 -> 0 | K71: =SUM(H71:J71)/3 -> 0 | L71: =H71/$G$278 -> #DIV/0!
B72: 7 | C72: Penelitian Internasional | G72: =SUM(D72:F72)/3 -> 0 | K72: =SUM(H72:J72)/3 -> 0 | L72: =H72/$G$278 -> #DIV/0!
C73: Jumlah Realisasi Pemasukan Dana Penelitian, Perancangan, Pengembangan Karya/Inovasi Karya | D73: =SUM(D68:D72) -> 0 | E73: =SUM(E67:E72) -> 0 | F73: =SUM(F67:F72) -> 0 | G73: =SUM(D73:F73)/3 -> 0 | H73: =SUM(H67:H72) -> 0 | I73: =SUM(I67:I72) -> 0 | J73: =SUM(J67:J72) -> 0 | K73: =SUM(H73:J73)/3 -> 0 | L73: =H73/$G$278 -> #DIV/0!
B74: C | C74: Realisasi Pemasukan Dana PkM
B75: 31 | C75: PkM Mhs Mandiri (Program Perorangan, Kelompok, Himpunan, dll) | G75: =SUM(D75:F75)/3 -> 0 | K75: =SUM(H75:J75)/3 -> 0 | L75: =H75/$G$278 -> #DIV/0!
B76: 32 | C76: PkM DTPS Mandiri | G76: =SUM(D76:F76)/3 -> 0 | K76: =SUM(H76:J76)/3 -> 0 | L76: =H76/$G$278 -> #DIV/0!
B77: 33 | C77: PkM (Kolaborasi DTPS dan Mhs ) Mandiri | G77: =SUM(D77:F77)/3 -> 0 | K77: =SUM(H77:J77)/3 -> 0 | L77: =H77/$G$278 -> #DIV/0!
B78: 34 | C78: PkM Program Universitas/Institute | G78: =SUM(D78:F78)/3 -> 0 | K78: =SUM(H78:J78)/3 -> 0 | L78: =H78/$G$278 -> #DIV/0!
B79: 35 | C79: PkM Internasional | G79: =SUM(D79:F79)/3 -> 0 | K79: =SUM(H79:J79)/3 -> 0 | L79: =H79/$G$278 -> #DIV/0!
C80: Jumlah Realisasi Pemasukan Dana PkM | D80: =SUM(D75:D79) -> 0 | E80: =SUM(E75:E79) -> 0 | F80: =SUM(F75:F79) -> 0 | G80: =SUM(D80:F80)/3 -> 0 | H80: =SUM(H75:H79) -> 0 | I80: =SUM(I75:I79) -> 0 | J80: =SUM(J75:J79) -> 0 | K80: =SUM(H80:J80)/3 -> 0 | L80: =H80/$G$278 -> #DIV/0!
B81: D | C81: Realisasi Pemasukan Dana Kerjasama
B82: 36 | C82: Pemasukan Dana Kerjasama Pendidikan Bergelar | G82: =SUM(D82:F82)/3 -> 0 | K82: =SUM(H82:J82)/3 -> 0 | L82: =H82/$G$278 -> #DIV/0!
B83: 37 | C83: Pemasukan Dana Kerjasama Pendidikan Non gelar | G83: =SUM(D83:F83)/3 -> 0 | K83: =SUM(H83:J83)/3 -> 0 | L83: =H83/$G$278 -> #DIV/0!
C84: Jumlah Realisasi Pemasukan Kerjasama Pendidikan | D84: =SUM(D82:D83) -> 0 | E84: =SUM(E82:E83) -> 0 | F84: =SUM(F82:F83) -> 0 | G84: =SUM(D84:F84)/3 -> 0 | H84: =SUM(H82:H83) -> 0 | I84: =SUM(I82:I83) -> 0 | J84: =SUM(J82:J83) -> 0 | K84: =SUM(H84:J84)/3 -> 0 | L84: =H84/$G$278 -> #DIV/0!
B85: F | C85: Realisasi Pemasukan Dana Kerjasama Penelitian, Perancangan, Pengembangan Karya, Inovasi Karya
B86: 38 | C86: Kerjasama Penelitian Skala Lokal (Kab/Kota) | G86: =SUM(D86:F86)/3 -> 0 | K86: =SUM(H86:J86)/3 -> 0 | L86: =H86/$G$278 -> #DIV/0!
B87: 39 | C87: Kerjasama Penelitian Skala Wilayah (Provinsi) | G87: =SUM(D87:F87)/3 -> 0 | K87: =SUM(H87:J87)/3 -> 0 | L87: =H87/$G$278 -> #DIV/0!
B88: 40 | C88: Kerjasama Penelitian Skala Nasional | G88: =SUM(D88:F88)/3 -> 0 | K88: =SUM(H88:J88)/3 -> 0 | L88: =H88/$G$278 -> #DIV/0!
B89: 41 | C89: Kerjasama Penelitian Skala Internasional | G89: =SUM(D89:F89)/3 -> 0 | K89: =SUM(H89:J89)/3 -> 0 | L89: =H89/$G$278 -> #DIV/0!
C90: Jumlah Realisasi Pemasukan Dana Kerjasama Penelitian, Perancangan, Pengembangan Karya, Inovasi Karya | D90: =SUM(D86:D89) -> 0 | E90: =SUM(E86:E89) -> 0 | F90: =SUM(F86:F89) -> 0 | G90: =SUM(D90:F90)/3 -> 0 | H90: =SUM(H86:H89) -> 0 | I90: =SUM(I86:I89) -> 0 | J90: =SUM(J86:J89) -> 0 | K90: =SUM(H90:J90)/3 -> 0 | L90: =H90/$G$278 -> #DIV/0!
B91: G | C91: Realisasi Pemasukan Dana Kerjasama PkM
B92: 38 | C92: Kerjasama Penelitian Skala Lokal (Kab/Kota) | G92: =SUM(D92:F92)/3 -> 0 | K92: =SUM(H92:J92)/3 -> 0 | L92: =H92/$G$278 -> #DIV/0!
B93: 39 | C93: Kerjasama Penelitian Skala Wilayah (Provinsi) | G93: =SUM(D93:F93)/3 -> 0 | K93: =SUM(H93:J93)/3 -> 0 | L93: =H93/$G$278 -> #DIV/0!
B94: 40 | C94: Kerjasama Penelitian Skala Nasional | G94: =SUM(D94:F94)/3 -> 0 | K94: =SUM(H94:J94)/3 -> 0 | L94: =H94/$G$278 -> #DIV/0!
B95: 41 | C95: Kerjasama Penelitian Skala Internasional | G95: =SUM(D95:F95)/3 -> 0 | K95: =SUM(H95:J95)/3 -> 0 | L95: =H95/$G$278 -> #DIV/0!
C96: Jumlah Realisasi Pemasukan Dana Kerjasama PkM | D96: =SUM(D92:D95) -> 0 | E96: =SUM(E92:E95) -> 0 | F96: =SUM(F92:F95) -> 0 | G96: =SUM(D96:F96)/3 -> 0 | H96: =SUM(H92:H95) -> 0 | I96: =SUM(I92:I95) -> 0 | J96: =SUM(J92:J95) -> 0 | K96: =SUM(H96:J96)/3 -> 0 | L96: =H96/$G$278 -> #DIV/0!
B97: H | C97: Sumber Pemasukan dari Pemerintah dan Lain lain yang sah | L97: =H97/$G$278 -> #DIV/0!
B98: 42 | C98: a. Gaji dan atau honor dosen | G98: =SUM(D98:F98)/3 -> 0 | K98: =SUM(H98:J98)/3 -> 0 | L98: =H98/$G$278 -> #DIV/0!
B99: 43 | C99: b. Gaji dan atau Honor Tenaga Kependidikan | G99: =SUM(D99:F99)/3 -> 0 | K99: =SUM(H99:J99)/3 -> 0 | L99: =H99/$G$278 -> #DIV/0!
B100: 44 | C100: c. Bantuan Operasional Pembelajaran (Bahan dan Peralatan Habis Pakai) | G100: =SUM(D100:F100)/3 -> 0 | K100: =SUM(H100:J100)/3 -> 0 | L100: =H100/$G$278 -> #DIV/0!
B101: 45 | C101: d. Bantuan Operasional Tidak Langsung (Listrik, Gas, Air, Pemeliharaan Gedung, Pemeliharaan Sarana, Uang Lembur, Telekomunikasi, Konsumsi, Transport) | G101: =SUM(D101:F101)/3 -> 0 | K101: =SUM(H101:J101)/3 -> 0 | L101: =H101/$G$278 -> #DIV/0!
B102: 46 | C102: e.Biaya operasional kemahasiswaan (penalaran, minat, bakat, dan kesejahteraan). | G102: =SUM(D102:F102)/3 -> 0 | K102: =SUM(H102:J102)/3 -> 0 | L102: =H102/$G$278 -> #DIV/0!
...

Sheet A.5.5 Terapan
B2: A. Akuntabilitas dan Tata Kelola
B3: A.5 Keuangan, Keberlanjutan, dan Mitigasi Risiko
B4: Tabel A.5.5 Realisasi Pembiayaan Program Studi Diploma Dua/Tiga/Sarjana/Magister/Doktor Terapan
B5: Realisasi Pembiayaan Program Studi Diploma Dua
B6: No. | C6: Jenis Biaya | D6: Unit Pengelola Program Studi IDR x Juta | H6: Program Studi IDR x Juta | L6: Ratio Biaya (PS dgn Kelolaan UPPS)
D7: TS-2 | E7: TS-1 | F7: TS | G7: Rata-rata | H7: TS-2 | I7: TS-1 | J7: TS | K7: Rata-rata
B8: 1 | C8: 2 | D8: 3 | E8: 4 | F8: 5 | G8: 6 | H8: 3 | I8: 4 | J8: 5 | K8: 6 | L8: 7
B9: 1 | C9: Biaya Operasional Pendidikan Bergelar
C10: a. Biaya Dosen (Gaji, Honor) | G10: =AVERAGE(D10:F10) -> #DIV/0! | K10: =AVERAGE(H10:J10) -> #DIV/0! | L10: =K10/$G$147 -> #DIV/0!
C11: b. Biaya Tenaga Kependidikan (Gaji, Honor) | G11: =AVERAGE(D11:F11) -> #DIV/0! | K11: =AVERAGE(H11:J11) -> #DIV/0! | L11: =K11/$G$147 -> #DIV/0!
C12: c. Biaya Operasional Pembelajaran (Bahan dan Peralatan Habis Pakai) | G12: =AVERAGE(D12:F12) -> #DIV/0! | K12: =AVERAGE(H12:J12) -> #DIV/0! | L12: =K12/$G$147 -> #DIV/0!
C13: d. Biaya Operasional Tidak Langsung (Listrik, Gas, Air, Pemeliharaan Gedung, Pemeliharaan Sarana, Uang Lembur, Telekomunikasi, Konsumsi, Transport Lokal, Pajak, Asuransi, dll.) | G13: =AVERAGE(D13:F13) -> #DIV/0! | K13: =AVERAGE(H13:J13) -> #DIV/0! | L13: =K13/$G$147 -> #DIV/0!
B14: 2 | C14: Biaya operasional kemahasiswaan (penalaran, minat, bakat, dan kesejahteraan). | G14: =AVERAGE(D14:F14) -> #DIV/0! | K14: =AVERAGE(H14:J14) -> #DIV/0! | L14: =K14/$G$147 -> #DIV/0!
C15: Jumlah Biaya Pendidikan Bergelar | D15: =SUM(D9:D14) -> 0 | E15: =SUM(E9:E14) -> 0 | F15: =SUM(F9:F14) -> 0 | G15: =AVERAGE(D15:F15) -> 0 | H15: =SUM(H9:H14) -> 0 | I15: =SUM(I9:I14) -> 0 | J15: =SUM(J9:J14) -> 0 | K15: =AVERAGE(H15:J15) -> 0 | L15: =K15/$G$147 -> #DIV/0!
B16: 3 | C16: Biaya Operasional Pendidikan Non Gelar Bergelar | L16: =K16/$G$147 -> #DIV/0!
C17: a. Biaya Dosen (Gaji, Honor) | G17: =AVERAGE(D17:F17) -> #DIV/0! | K17: =AVERAGE(H17:J17) -> #DIV/0! | L17: =K17/$G$147 -> #DIV/0!
C18: b. Biaya Tenaga Kependidikan (Gaji, Honor) | G18: =AVERAGE(D18:F18) -> #DIV/0! | K18: =AVERAGE(H18:J18) -> #DIV/0! | L18: =K18/$G$147 -> #DIV/0!
C19: c. Biaya Operasional Pembelajaran (Bahan dan Peralatan Habis Pakai) | G19: =AVERAGE(D19:F19) -> #DIV/0! | K19: =AVERAGE(H19:J19) -> #DIV/0! | L19: =K19/$G$147 -> #DIV/0!
C20: d. Biaya Operasional Tidak Langsung (Listrik, Gas, Air, Pemeliharaan Gedung, Pemeliharaan Sarana, Uang Lembur, Telekomunikasi, Konsumsi, Transport Lokal, Pajak, Asuransi, dll.) | G20: =AVERAGE(D20:F20) -> #DIV/0! | K20: =AVERAGE(H20:J20) -> #DIV/0! | L20: =K20/$G$147 -> #DIV/0!
B21: 4 | C21: Biaya operasional kemahasiswaan (penalaran, minat, bakat, dan kesejahteraan). | G21: =AVERAGE(D21:F21) -> #DIV/0! | K21: =AVERAGE(H21:J21) -> #DIV/0! | L21: =K21/$G$147 -> #DIV/0!
C22: Jumlah Biaya Pendidikan Non Gelar | D22: =SUM(D17:D21) -> 0 | E22: =SUM(E17:E21) -> 0 | F22: =SUM(F17:F21) -> 0 | G22: =AVERAGE(D22:F22) -> 0 | H22: =SUM(H17:H21) -> 0 | I22: =SUM(I17:I21) -> 0 | J22: =SUM(J17:J21) -> 0 | K22: =AVERAGE(H22:J22) -> 0 | L22: =K22/$G$147 -> #DIV/0!
B23: 5 | C23: Biaya Penelitian, Perancangan, Pengembangan Karya/Inovasi Karya | G23: =AVERAGE(D23:F23) -> #DIV/0! | K23: =AVERAGE(H23:J23) -> #DIV/0! | L23: =K23/$G$147 -> #DIV/0!
B24: 6 | C24: Biaya PkM | G24: =AVERAGE(D24:F24) -> #DIV/0! | K24: =AVERAGE(H24:J24) -> #DIV/0! | L24: =K24/$G$147 -> #DIV/0!
C25: Jumlah Biaya Penelitian, Perancangangan, Penengembangan Karya/Inovasi Karya | D25: =SUM(D23:D24) -> 0 | E25: =SUM(E23:E24) -> 0 | F25: =SUM(F23:F24) -> 0 | G25: =AVERAGE(D25:F25) -> 0 | H25: =SUM(H23:H24) -> 0 | I25: =SUM(I23:I24) -> 0 | J25: =SUM(J23:J24) -> 0 | K25: =AVERAGE(H25:J25) -> 0 | L25: =K25/$G$147 -> #DIV/0!
B26: 7 | C26: Biaya Investasi SDM | G26: =AVERAGE(D26:F26) -> #DIV/0! | K26: =AVERAGE(H26:J26) -> #DIV/0! | L26: =K26/$G$147 -> #DIV/0!
B27: 8 | C27: Biaya Investasi Sarana | G27: =AVERAGE(D27:F27) -> #DIV/0! | K27: =AVERAGE(H27:J27) -> #DIV/0! | L27: =K27/$G$147 -> #DIV/0!
B28: 9 | C28: Biaya Investasi Prasarana | G28: =AVERAGE(D28:F28) -> #DIV/0! | K28: =AVERAGE(H28:J28) -> #DIV/0! | L28: =K28/$G$147 -> #DIV/0!
C29: Jumlah Biaya Invesasi SDM, Sarana dan Prasarana | D29: =SUM(D26:D28) -> 0 | E29: =SUM(E26:E28) -> 0 | F29: =SUM(F26:F28) -> 0 | G29: =AVERAGE(D29:F29) -> 0 | H29: =SUM(H26:H28) -> 0 | I29: =SUM(I26:I28) -> 0 | J29: =SUM(J26:J28) -> 0 | K29: =AVERAGE(H29:J29) -> 0 | L29: =K29/$G$147 -> #DIV/0!
L30: =K30/$G$147 -> #DIV/0!
C31: Jumlah Realisasi Pembiayaan Program Diploma Dua | D31: =D15+D22+D25+D29 -> 0 | E31: =E15+E22+E25+E29 -> 0 | F31: =F15+F22+F25+F29 -> 0 | G31: =AVERAGE(D31:F31) -> 0 | H31: =H15+H22+H25+H29 -> 0 | I31: =I15+I22+I25+I29 -> 0 | J31: =J15+J22+J25+J29 -> 0 | K31: =AVERAGE(H31:J31) -> 0 | L31: =K31/$G$147 -> #DIV/0!
B33: Realisasi Pengeluaran Pembiayaan Program Diploma Tiga
B34: No. | C34: Jenis Biaya | D34: Unit Pengelola Program Studi IDR x Juta | H34: Program Studi IDR x Juta | L34: Ratio Biaya (PS dgn Kelolaan UPPS)
D35: TS-2 | E35: TS-1 | F35: TS | G35: Rata-rata | H35: TS-2 | I35: TS-1 | J35: TS | K35: Rata-rata
B36: 1 | C36: 2 | D36: 3 | E36: 4 | F36: 5 | G36: 6 | H36: 3 | I36: 4 | J36: 5 | K36: 6 | L36: 7
B37: 1 | C37: Biaya Operasional Pendidikan Bergelar
C38: a. Biaya Dosen (Gaji, Honor) | G38: =AVERAGE(D38:F38) -> #DIV/0! | K38: =AVERAGE(H38:J38) -> #DIV/0! | L38: =K38/$G$147 -> #DIV/0!
C39: b. Biaya Tenaga Kependidikan (Gaji, Honor) | G39: =AVERAGE(D39:F39) -> #DIV/0! | K39: =AVERAGE(H39:J39) -> #DIV/0! | L39: =K39/$G$147 -> #DIV/0!
C40: c. Biaya Operasional Pembelajaran (Bahan dan Peralatan Habis Pakai) | G40: =AVERAGE(D40:F40) -> #DIV/0! | K40: =AVERAGE(H40:J40) -> #DIV/0! | L40: =K40/$G$147 -> #DIV/0!
C41: d. Biaya Operasional Tidak Langsung (Listrik, Gas, Air, Pemeliharaan Gedung, Pemeliharaan Sarana, Uang Lembur, Telekomunikasi, Konsumsi, Transport Lokal, Pajak, Asuransi, dll.) | G41: =AVERAGE(D41:F41) -> #DIV/0! | K41: =AVERAGE(H41:J41) -> #DIV/0! | L41: =K41/$G$147 -> #DIV/0!
B42: 2 | C42: Biaya operasional kemahasiswaan (penalaran, minat, bakat, dan kesejahteraan). | G42: =AVERAGE(D42:F42) -> #DIV/0! | K42: =AVERAGE(H42:J42) -> #DIV/0! | L42: =K42/$G$147 -> #DIV/0!
C43: Jumlah Biaya Pendidikan Bergelar | D43: =SUM(D37:D42) -> 0 | E43: =SUM(E37:E42) -> 0 | F43: =SUM(F37:F42) -> 0 | G43: =AVERAGE(D43:F43) -> 0 | H43: =SUM(H37:H42) -> 0 | I43: =SUM(I37:I42) -> 0 | J43: =SUM(J37:J42) -> 0 | K43: =AVERAGE(H43:J43) -> 0 | L43: =K43/$G$147 -> #DIV/0!
B44: 3 | C44: Biaya Operasional Pendidikan Non Gelar Bergelar | L44: =K44/$G$147 -> #DIV/0!
C45: a. Biaya Dosen (Gaji, Honor) | G45: =AVERAGE(D45:F45) -> #DIV/0! | K45: =AVERAGE(H45:J45) -> #DIV/0! | L45: =K45/$G$147 -> #DIV/0!
C46: b. Biaya Tenaga Kependidikan (Gaji, Honor) | G46: =AVERAGE(D46:F46) -> #DIV/0! | K46: =AVERAGE(H46:J46) -> #DIV/0! | L46: =K46/$G$147 -> #DIV/0!
C47: c. Biaya Operasional Pembelajaran (Bahan dan Peralatan Habis Pakai) | G47: =AVERAGE(D47:F47) -> #DIV/0! | K47: =AVERAGE(H47:J47) -> #DIV/0! | L47: =K47/$G$147 -> #DIV/0!
C48: d. Biaya Operasional Tidak Langsung (Listrik, Gas, Air, Pemeliharaan Gedung, Pemeliharaan Sarana, Uang Lembur, Telekomunikasi, Konsumsi, Transport Lokal, Pajak, Asuransi, dll.) | G48: =AVERAGE(D48:F48) -> #DIV/0! | K48: =AVERAGE(H48:J48) -> #DIV/0! | L48: =K48/$G$147 -> #DIV/0!
B49: 4 | C49: Biaya operasional kemahasiswaan (penalaran, minat, bakat, dan kesejahteraan). | G49: =AVERAGE(D49:F49) -> #DIV/0! | K49: =AVERAGE(H49:J49) -> #DIV/0! | L49: =K49/$G$147 -> #DIV/0!
C50: Jumlah Biaya Pendidikan Non Gelar | D50: =SUM(D45:D49) -> 0 | E50: =SUM(E45:E49) -> 0 | F50: =SUM(F45:F49) -> 0 | G50: =AVERAGE(D50:F50) -> 0 | H50: =SUM(H45:H49) -> 0 | I50: =SUM(I45:I49) -> 0 | J50: =SUM(J45:J49) -> 0 | K50: =AVERAGE(H50:J50) -> 0 | L50: =K50/$G$147 -> #DIV/0!
B51: 5 | C51: Biaya Penelitian, Perancangan, Pengembangan Karya/Inovasi Karya | G51: =AVERAGE(D51:F51) -> #DIV/0! | K51: =AVERAGE(H51:J51) -> #DIV/0! | L51: =K51/$G$147 -> #DIV/0!
B52: 6 | C52: Biaya PkM | G52: =AVERAGE(D52:F52) -> #DIV/0! | K52: =AVERAGE(H52:J52) -> #DIV/0! | L52: =K52/$G$147 -> #DIV/0!
C53: Jumlah Biaya Penelitian, Perancangangan, Penengembangan Karya/Inovasi Karya | D53: =SUM(D51:D52) -> 0 | E53: =SUM(E51:E52) -> 0 | F53: =SUM(F51:F52) -> 0 | G53: =AVERAGE(D53:F53) -> 0 | H53: =SUM(H51:H52) -> 0 | I53: =SUM(I51:I52) -> 0 | J53: =SUM(J51:J52) -> 0 | K53: =AVERAGE(H53:J53) -> 0 | L53: =K53/$G$147 -> #DIV/0!
B54: 7 | C54: Biaya Investasi SDM | G54: =AVERAGE(D54:F54) -> #DIV/0! | K54: =AVERAGE(H54:J54) -> #DIV/0! | L54: =K54/$G$147 -> #DIV/0!
B55: 8 | C55: Biaya Investasi Sarana | G55: =AVERAGE(D55:F55) -> #DIV/0! | K55: =AVERAGE(H55:J55) -> #DIV/0! | L55: =K55/$G$147 -> #DIV/0!
B56: 9 | C56: Biaya Investasi Prasarana | G56: =AVERAGE(D56:F56) -> #DIV/0! | K56: =AVERAGE(H56:J56) -> #DIV/0! | L56: =K56/$G$147 -> #DIV/0!
C57: Jumlah Biaya Invesasi SDM, Sarana dan Prasarana | D57: =SUM(D54:D56) -> 0 | E57: =SUM(E54:E56) -> 0 | F57: =SUM(F54:F56) -> 0 | G57: =AVERAGE(D57:F57) -> 0 | H57: =SUM(H54:H56) -> 0 | I57: =SUM(I54:I56) -> 0 | J57: =SUM(J54:J56) -> 0 | K57: =AVERAGE(H57:J57) -> 0 | L57: =K57/$G$147 -> #DIV/0!
L58: =K58/$G$147 -> #DIV/0!
C59: Jumlah Realisasi Pembiayaan Program Diploma Tiga | D59: =D43+D50+D53+D57 -> 0 | E59: =E43+E50+E53+E57 -> 0 | F59: =F43+F50+F53+F57 -> 0 | G59: =AVERAGE(D59:F59) -> 0 | H59: =H43+H50+H53+H57 -> 0 | I59: =I43+I50+I53+I57 -> 0 | J59: =J43+J50+J53+J57 -> 0 | K59: =AVERAGE(H59:J59) -> 0 | L59: =K59/$G$147 -> #DIV/0!
B61: Realisasi Pengeluaran Pembiayaan Program Sarjana Terapan
B62: No. | C62: Jenis Biaya | D62: Unit Pengelola Program Studi IDR x Juta | H62: Program Studi IDR x Juta | L62: Ratio Biaya (PS dgn Kelolaan UPPS)
D63: TS-2 | E63: TS-1 | F63: TS | G63: Rata-rata | H63: TS-2 | I63: TS-1 | J63: TS | K63: Rata-rata
B64: 1 | C64: 2 | D64: 3 | E64: 4 | F64: 5 | G64: 6 | H64: 3 | I64: 4 | J64: 5 | K64: 6 | L64: 7
B65: 1 | C65: Biaya Operasional Pendidikan Bergelar
C66: a. Biaya Dosen (Gaji, Honor) | G66: =AVERAGE(D66:F66) -> #DIV/0! | K66: =AVERAGE(H66:J66) -> #DIV/0! | L66: =K66/$G$147 -> #DIV/0!
C67: b. Biaya Tenaga Kependidikan (Gaji, Honor) | G67: =AVERAGE(D67:F67) -> #DIV/0! | K67: =AVERAGE(H67:J67) -> #DIV/0! | L67: =K67/$G$147 -> #DIV/0!
C68: c. Biaya Operasional Pembelajaran (Bahan dan Peralatan Habis Pakai) | G68: =AVERAGE(D68:F68) -> #DIV/0! | K68: =AVERAGE(H68:J68) -> #DIV/0! | L68: =K68/$G$147 -> #DIV/0!
C69: d. Biaya Operasional Tidak Langsung (Listrik, Gas, Air, Pemeliharaan Gedung, Pemeliharaan Sarana, Uang Lembur, Telekomunikasi, Konsumsi, Transport Lokal, Pajak, Asuransi, dll.) | G69: =AVERAGE(D69:F69) -> #DIV/0! | K69: =AVERAGE(H69:J69) -> #DIV/0! | L69: =K69/$G$147 -> #DIV/0!
B70: 2 | C70: Biaya operasional kemahasiswaan (penalaran, minat, bakat, dan kesejahteraan). | G70: =AVERAGE(D70:F70) -> #DIV/0! | K70: =AVERAGE(H70:J70) -> #DIV/0! | L70: =K70/$G$147 -> #DIV/0!
C71: Jumlah Biaya Pendidikan Bergelar | D71: =SUM(D65:D70) -> 0 | E71: =SUM(E65:E70) -> 0 | F71: =SUM(F65:F70) -> 0 | G71: =AVERAGE(D71:F71) -> 0 | H71: =SUM(H65:H70) -> 0 | I71: =SUM(I65:I70) -> 0 | J71: =SUM(J65:J70) -> 0 | K71: =AVERAGE(H71:J71) -> 0 | L71: =K71/$G$147 -> #DIV/0!
B72: 3 | C72: Biaya Operasional Pendidikan Non Gelar Bergelar | L72: =K72/$G$147 -> #DIV/0!
C73: a. Biaya Dosen (Gaji, Honor) | G73: =AVERAGE(D73:F73) -> #DIV/0! | K73: =AVERAGE(H73:J73) -> #DIV/0! | L73: =K73/$G$147 -> #DIV/0!
C74: b. Biaya Tenaga Kependidikan (Gaji, Honor) | G74: =AVERAGE(D74:F74) -> #DIV/0! | K74: =AVERAGE(H74:J74) -> #DIV/0! | L74: =K74/$G$147 -> #DIV/0!
C75: c. Biaya Operasional Pembelajaran (Bahan dan Peralatan Habis Pakai) | G75: =AVERAGE(D75:F75) -> #DIV/0! | K75: =AVERAGE(H75:J75) -> #DIV/0! | L75: =K75/$G$147 -> #DIV/0!
C76: d. Biaya Operasional Tidak Langsung (Listrik, Gas, Air, Pemeliharaan Gedung, Pemeliharaan Sarana, Uang Lembur, Telekomunikasi, Konsumsi, Transport Lokal, Pajak, Asuransi, dll.) | G76: =AVERAGE(D76:F76) -> #DIV/0! | K76: =AVERAGE(H76:J76) -> #DIV/0! | L76: =K76/$G$147 -> #DIV/0!
B77: 4 | C77: Biaya operasional kemahasiswaan (penalaran, minat, bakat, dan kesejahteraan). | G77: =AVERAGE(D77:F77) -> #DIV/0! | K77: =AVERAGE(H77:J77) -> #DIV/0! | L77: =K77/$G$147 -> #DIV/0!
C78: Jumlah Biaya Pendidikan Non Gelar | D78: =SUM(D73:D77) -> 0 | E78: =SUM(E73:E77) -> 0 | F78: =SUM(F73:F77) -> 0 | G78: =AVERAGE(D78:F78) -> 0 | H78: =SUM(H73:H77) -> 0 | I78: =SUM(I73:I77) -> 0 | J78: =SUM(J73:J77) -> 0 | K78: =AVERAGE(H78:J78) -> 0 | L78: =K78/$G$147 -> #DIV/0!
B79: 5 | C79: Biaya Penelitian, Perancangan, Pengembangan Karya/Inovasi Karya | G79: =AVERAGE(D79:F79) -> #DIV/0! | K79: =AVERAGE(H79:J79) -> #DIV/0! | L79: =K79/$G$147 -> #DIV/0!
B80: 6 | C80: Biaya PkM | G80: =AVERAGE(D80:F80) -> #DIV/0! | K80: =AVERAGE(H80:J80) -> #DIV/0! | L80: =K80/$G$147 -> #DIV/0!
C81: Jumlah Biaya Penelitian, Perancangangan, Penengembangan Karya/Inovasi Karya | D81: =SUM(D79:D80) -> 0 | E81: =SUM(E79:E80) -> 0 | F81: =SUM(F79:F80) -> 0 | G81: =AVERAGE(D81:F81) -> 0 | H81: =SUM(H79:H80) -> 0 | I81: =SUM(I79:I80) -> 0 | J81: =SUM(J79:J80) -> 0 | K81: =AVERAGE(H81:J81) -> 0 | L81: =K81/$G$147 -> #DIV/0!
B82: 7 | C82: Biaya Investasi SDM | G82: =AVERAGE(D82:F82) -> #DIV/0! | K82: =AVERAGE(H82:J82) -> #DIV/0! | L82: =K82/$G$147 -> #DIV/0!
B83: 8 | C83: Biaya Investasi Sarana | G83: =AVERAGE(D83:F83) -> #DIV/0! | K83: =AVERAGE(H83:J83) -> #DIV/0! | L83: =K83/$G$147 -> #DIV/0!
B84: 9 | C84: Biaya Investasi Prasarana | G84: =AVERAGE(D84:F84) -> #DIV/0! | K84: =AVERAGE(H84:J84) -> #DIV/0! | L84: =K84/$G$147 -> #DIV/0!
C85: Jumlah Biaya Invesasi SDM, Sarana dan Prasarana | D85: =SUM(D82:D84) -> 0 | E85: =SUM(E82:E84) -> 0 | F85: =SUM(F82:F84) -> 0 | G85: =AVERAGE(D85:F85) -> 0 | H85: =SUM(H82:H84) -> 0 | I85: =SUM(I82:I84) -> 0 | J85: =SUM(J82:J84) -> 0 | K85: =AVERAGE(H85:J85) -> 0 | L85: =K85/$G$147 -> #DIV/0!
L86: =K86/$G$147 -> #DIV/0!
C87: Jumlah Realisasi Pembiayaan Program Sarjana Terapan | D87: =D71+D78+D81+D85 -> 0 | E87: =E71+E78+E81+E85 -> 0 | F87: =F71+F78+F81+F85 -> 0 | G87: =AVERAGE(D87:F87) -> 0 | H87: =H71+H78+H81+H85 -> 0 | I87: =I71+I78+I81+I85 -> 0 | J87: =J71+J78+J81+J85 -> 0 | K87: =AVERAGE(H87:J87) -> 0 | L87: =K87/$G$147 -> #DIV/0!
B89: Realisasi Pengeluaran Pembiayaan Program Magister Terapan
B90: No. | C90: Jenis Biaya | D90: Unit Pengelola Program Studi IDR x Juta | H90: Program Studi IDR x Juta | L90: Ratio Biaya (PS dgn Kelolaan UPPS)
D91: TS-2 | E91: TS-1 | F91: TS | G91: Rata-rata | H91: TS-2 | I91: TS-1 | J91: TS | K91: Rata-rata
B92: 1 | C92: 2 | D92: 3 | E92: 4 | F92: 5 | G92: 6 | H92: 3 | I92: 4 | J92: 5 | K92: 6 | L92: 7
B93: 1 | C93: Biaya Operasional Pendidikan Bergelar
C94: a. Biaya Dosen (Gaji, Honor) | G94: =AVERAGE(D94:F94) -> #DIV/0! | K94: =AVERAGE(H94:J94) -> #DIV/0! | L94: =K94/$G$147 -> #DIV/0!
C95: b. Biaya Tenaga Kependidikan (Gaji, Honor) | G95: =AVERAGE(D95:F95) -> #DIV/0! | K95: =AVERAGE(H95:J95) -> #DIV/0! | L95: =K95/$G$147 -> #DIV/0!
C96: c. Biaya Operasional Pembelajaran (Bahan dan Peralatan Habis Pakai) | G96: =AVERAGE(D96:F96) -> #DIV/0! | K96: =AVERAGE(H96:J96) -> #DIV/0! | L96: =K96/$G$147 -> #DIV/0!
C97: d. Biaya Operasional Tidak Langsung (Listrik, Gas, Air, Pemeliharaan Gedung, Pemeliharaan Sarana, Uang Lembur, Telekomunikasi, Konsumsi, Transport Lokal, Pajak, Asuransi, dll.) | G97: =AVERAGE(D97:F97) -> #DIV/0! | K97: =AVERAGE(H97:J97) -> #DIV/0! | L97: =K97/$G$147 -> #DIV/0!
B98: 2 | C98: Biaya operasional kemahasiswaan (penalaran, minat, bakat, dan kesejahteraan). | G98: =AVERAGE(D98:F98) -> #DIV/0! | K98: =AVERAGE(H98:J98) -> #DIV/0! | L98: =K98/$G$147 -> #DIV/0!
C99: Jumlah Biaya Pendidikan Bergelar | D99: =SUM(D93:D98) -> 0 | E99: =SUM(E93:E98) -> 0 | F99: =SUM(F93:F98) -> 0 | G99: =AVERAGE(D99:F99) -> 0 | H99: =SUM(H93:H98) -> 0 | I99: =SUM(I93:I98) -> 0 | J99: =SUM(J93:J98) -> 0 | K99: =AVERAGE(H99:J99) -> 0 | L99: =K99/$G$147 -> #DIV/0!
B100: 3 | C100: Biaya Operasional Pendidikan Non Gelar Bergelar | L100: =K100/$G$147 -> #DIV/0!
C101: a. Biaya Dosen (Gaji, Honor) | G101: =AVERAGE(D101:F101) -> #DIV/0! | K101: =AVERAGE(H101:J101) -> #DIV/0! | L101: =K101/$G$147 -> #DIV/0!
C102: b. Biaya Tenaga Kependidikan (Gaji, Honor) | G102: =AVERAGE(D102:F102) -> #DIV/0! | K102: =AVERAGE(H102:J102) -> #DIV/0! | L102: =K102/$G$147 -> #DIV/0!
C103: c. Biaya Operasional Pembelajaran (Bahan dan Peralatan Habis Pakai) | G103: =AVERAGE(D103:F103) -> #DIV/0! | K103: =AVERAGE(H103:J103) -> #DIV/0! | L103: =K103/$G$147 -> #DIV/0!
C104: d. Biaya Operasional Tidak Langsung (Listrik, Gas, Air, Pemeliharaan Gedung, Pemeliharaan Sarana, Uang Lembur, Telekomunikasi, Konsumsi, Transport Lokal, Pajak, Asuransi, dll.) | G104: =AVERAGE(D104:F104) -> #DIV/0! | K104: =AVERAGE(H104:J104) -> #DIV/0! | L104: =K104/$G$147 -> #DIV/0!
...

Sheet A.5.3 Terapan
B2: A. Akuntabilitas dan Tata Kelola
B3: A.5 Keuangan, Keberlanjutan, dan Mitigasi Risiko
B4: Tabel A.5.6 Neraca Pemasukan-Pembiayaan Program Studi Diploma Dua/Tiga/Sarjana/Magister/Doktor Terapan
B5: Neraca Pemasukan-Pembiayaan Program Studi Diploma Dua
B6: No. | C6: Uraian | D6: Unit Pengelola Program Studi IDR x Juta | H6: Program Studi IDR x Juta
D7: TS-2 | E7: TS-1 | F7: TS | G7: Rata-rata | H7: TS-2 | I7: TS-1 | J7: TS | K7: Rata-rata
B8: 1 | C8: 2 | D8: 3 | E8: 4 | F8: 5 | G8: 6 | H8: 7 | I8: 8 | J8: 9 | K8: 10
B9: 1 | C9: Realisasi Pemasukan | D9: ='A.5.4 Terapan'!D56 -> 1 | E9: ='A.5.4 Terapan'!E56 -> 1 | F9: ='A.5.4 Terapan'!F56 -> 1 | G9: =SUM(D9:F9)/3 -> 1 | H9: ='A.5.4 Terapan'!H56 -> 1 | I9: ='A.5.4 Terapan'!I56 -> 1 | J9: ='A.5.4 Terapan'!J56 -> 1 | K9: =SUM(H9:J9)/3 -> 1
B11: 2 | C11: Realiasasi Pembiayaan | D11: ='A.5.5 Terapan'!D31 -> 0 | E11: ='A.5.5 Terapan'!E31 -> 0 | F11: ='A.5.5 Terapan'!F31 -> 0 | G11: =SUM(D11:F11)/3 -> 0 | H11: ='A.5.5 Terapan'!H31 -> 0 | I11: ='A.5.5 Terapan'!I31 -> 0 | J11: ='A.5.5 Terapan'!J31 -> 0 | K11: =SUM(H11:J11)/3 -> 0
B13: 3 | C13: Realiasasi Pemasukan - Pembiayaan | D13: =D9-D11 -> 1 | E13: =E9-E11 -> 1 | F13: =F9-F11 -> 1 | G13: =G9-G11 -> 1 | H13: =H9-H11 -> 1 | I13: =I9-I11 -> 1 | J13: =J9-J11 -> 1 | K13: =SUM(H13:J13)/3 -> 1
B15: 4 | C15: Ratio (Realisasi Pemasukan-Pembiayaan)/(Realisasi Pemasukan) | D15: =D13/D9 -> 1 | E15: =E13/E9 -> 1 | F15: =F13/F9 -> 1 | G15: =SUM(D15:F15)/3 -> 1 | H15: =H13/H9 -> 1 | I15: =I13/I9 -> 1 | J15: =J13/J9 -> 1 | K15: =SUM(H15:J15)/3 -> 1
B17: Neraca Pemasukan-Pembiayaan Program Diploma Tiga
B18: No. | C18: Uraian | D18: Unit Pengelola Program Studi IDR x Juta | H18: Program Studi IDR x Juta
D19: TS-2 | E19: TS-1 | F19: TS | G19: Rata-rata | H19: TS-2 | I19: TS-1 | J19: TS | K19: Rata-rata
B20: 1 | C20: Realisasi Pemasukan | D20: ='A.5.4 Terapan'!D110 -> 0 | E20: ='A.5.4 Terapan'!E110 -> 0 | F20: ='A.5.4 Terapan'!F110 -> 0 | G20: =SUM(D20:F20)/3 -> 0 | H20: ='A.5.4 Terapan'!H110 -> 0 | I20: ='A.5.4 Terapan'!I110 -> 0 | J20: ='A.5.4 Terapan'!J110 -> 0 | K20: =SUM(H20:J20)/3 -> 0
B22: 2 | C22: Realiasasi Pembiayaan | D22: ='A.5.5 Terapan'!D59 -> 0 | E22: ='A.5.5 Terapan'!E59 -> 0 | F22: ='A.5.5 Terapan'!F59 -> 0 | G22: =SUM(D22:F22)/3 -> 0 | H22: ='A.5.5 Terapan'!H59 -> 0 | I22: ='A.5.5 Terapan'!I59 -> 0 | J22: ='A.5.5 Terapan'!J59 -> 0 | K22: =SUM(H22:J22)/3 -> 0
B24: 3 | C24: Realiasasi Pemasukan - Pembiayaan | D24: =D20-D22 -> 0 | E24: =E20-E22 -> 0 | F24: =F20-F22 -> 0 | G24: =SUM(D24:F24)/3 -> 0 | H24: =H20-H22 -> 0 | I24: =I20-I22 -> 0 | J24: =J20-J22 -> 0 | K24: =SUM(H24:J24)/3 -> 0
B26: 4 | C26: Ratio (Realisasi Pemasukan-Pembiayaan)/(Realisasi Pemasukan) | D26: =D24/D20 -> #DIV/0! | E26: =E24/E20 -> #DIV/0! | F26: =F24/F20 -> #DIV/0! | G26: =SUM(D26:F26)/3 -> #DIV/0! | H26: =H24/H20 -> #DIV/0! | I26: =I24/I20 -> #DIV/0! | J26: =J24/J20 -> #DIV/0! | K26: =SUM(H26:J26)/3 -> #DIV/0!
B28: Neraca Pemasukan-Pembiayaan Program Sarjana Terapan
B29: No. | C29: Uraian | D29: Unit Pengelola Program Studi IDR x Juta | H29: Program Studi IDR x Juta
D30: TS-2 | E30: TS-1 | F30: TS | G30: Rata-rata | H30: TS-2 | I30: TS-1 | J30: TS | K30: Rata-rata
B31: 1 | C31: Realisasi Pemasukan | D31: ='A.5.4 Terapan'!D164 -> 0 | E31: ='A.5.4 Terapan'!E164 -> 0 | F31: ='A.5.4 Terapan'!F164 -> 0 | G31: =SUM(D31:F31)/3 -> 0 | H31: ='A.5.4 Terapan'!H164 -> 0 | I31: ='A.5.4 Terapan'!I164 -> 0 | J31: ='A.5.4 Terapan'!J164 -> 0 | K31: =SUM(H31:J31)/3 -> 0
B33: 2 | C33: Realiasasi Pembiayaan | D33: ='A.5.5 Terapan'!D87 -> 0 | E33: ='A.5.5 Terapan'!E87 -> 0 | F33: ='A.5.5 Terapan'!F87 -> 0 | G33: =SUM(D33:F33)/3 -> 0 | H33: ='A.5.5 Terapan'!H87 -> 0 | I33: ='A.5.5 Terapan'!I87 -> 0 | J33: ='A.5.5 Terapan'!J87 -> 0 | K33: =SUM(H33:J33)/3 -> 0
B35: 3 | C35: Realiasasi Pemasukan - Pembiayaan | D35: =D31-D33 -> 0 | E35: =E31-E33 -> 0 | F35: =F31-F33 -> 0 | G35: =SUM(D35:F35)/3 -> 0 | H35: =H31-H33 -> 0 | I35: =I31-I33 -> 0 | J35: =J31-J33 -> 0 | K35: =SUM(H35:J35)/3 -> 0
B37: 4 | C37: Ratio (Realisasi Pemasukan-Pembiayaan)/(Realisasi Pemasukan) | D37: =D35/D31 -> #DIV/0! | E37: =E35/E31 -> #DIV/0! | F37: =F35/F31 -> #DIV/0! | G37: =SUM(D37:F37)/3 -> #DIV/0! | H37: =H35/H31 -> #DIV/0! | I37: =I35/I31 -> #DIV/0! | J37: =J35/J31 -> #DIV/0! | K37: =SUM(H37:J37)/3 -> #DIV/0!
B39: Neraca Pemasukan-Pembiayaan Program Magister Terapan
B40: No. | C40: Uraian | D40: Unit Pengelola Program Studi IDR x Juta | H40: Program Studi IDR x Juta
D41: TS-2 | E41: TS-1 | F41: TS | G41: Rata-rata | H41: TS-2 | I41: TS-1 | J41: TS | K41: Rata-rata
B42: 1 | C42: Realisasi Pemasukan | D42: ='A.5.4 Terapan'!D218 -> 0 | E42: ='A.5.4 Terapan'!E218 -> 0 | F42: ='A.5.4 Terapan'!F218 -> 0 | G42: =SUM(D42:F42)/3 -> 0 | H42: ='A.5.4 Terapan'!H218 -> 0 | I42: ='A.5.4 Terapan'!I218 -> 0 | J42: ='A.5.4 Terapan'!J218 -> 0 | K42: =SUM(H42:J42)/3 -> 0
B44: 2 | C44: Realiasasi Pembiayaan | D44: ='A.5.5 Terapan'!D115 -> 0 | E44: ='A.5.5 Terapan'!E115 -> 0 | F44: ='A.5.5 Terapan'!F115 -> 0 | G44: =SUM(D44:F44)/3 -> 0 | H44: ='A.5.5 Terapan'!H115 -> 0 | I44: ='A.5.5 Terapan'!I115 -> 0 | J44: ='A.5.5 Terapan'!J115 -> 0 | K44: =SUM(H44:J44)/3 -> 0
B46: 3 | C46: Realiasasi Pemasukan - Pembiayaan | D46: =D42-D44 -> 0 | E46: =E42-E44 -> 0 | F46: =F42-F44 -> 0 | G46: =SUM(D46:F46)/3 -> 0 | H46: =H42-H44 -> 0 | I46: =I42-I44 -> 0 | J46: =J42-J44 -> 0 | K46: =SUM(H46:J46)/3 -> 0
B48: 4 | C48: Ratio (Realisasi Pemasukan-Pembiayaan)/(Realisasi Pemasukan) | D48: =D46/D42 -> #DIV/0! | E48: =E46/E42 -> #DIV/0! | F48: =F46/F42 -> #DIV/0! | G48: =SUM(D48:F48)/3 -> #DIV/0! | H48: =H46/H42 -> #DIV/0! | I48: =I46/I42 -> #DIV/0! | J48: =J46/J42 -> #DIV/0! | K48: =SUM(H48:J48)/3 -> #DIV/0!
B50: Neraca Pemasukan-Pembiayaan Program Doktor Terapan
B51: No. | C51: Uraian | D51: Unit Pengelola Program Studi IDR x Juta | H51: Program Studi IDR x Juta
D52: TS-2 | E52: TS-1 | F52: TS | G52: Rata-rata | H52: TS-2 | I52: TS-1 | J52: TS | K52: Rata-rata
B53: 1 | C53: Realisasi Pemasukan | D53: ='A.5.4 Terapan'!D272 -> 0 | E53: ='A.5.4 Terapan'!E272 -> 0 | F53: ='A.5.4 Terapan'!F272 -> 0 | G53: =SUM(D53:F53)/3 -> 0 | H53: ='A.5.4 Terapan'!H272 -> 0 | I53: ='A.5.4 Terapan'!I272 -> 0 | J53: ='A.5.4 Terapan'!J272 -> 0 | K53: =SUM(H53:J53)/3 -> 0
B55: 2 | C55: Realiasasi Pembiayaan | D55: ='A.5.5 Terapan'!D143 -> 0 | E55: ='A.5.5 Terapan'!E143 -> 0 | F55: ='A.5.5 Terapan'!F143 -> 0 | G55: =SUM(D55:F55)/3 -> 0 | H55: ='A.5.5 Terapan'!H143 -> 0 | I55: ='A.5.5 Terapan'!I143 -> 0 | J55: ='A.5.5 Terapan'!J143 -> 0 | K55: =SUM(H55:J55)/3 -> 0
B57: 3 | C57: Realiasasi Pemasukan - Pembiayaan | D57: =D53-D55 -> 0 | E57: =E53-E55 -> 0 | F57: =F53-F55 -> 0 | G57: =SUM(D57:F57)/3 -> 0 | H57: =H53-H55 -> 0 | I57: =I53-I55 -> 0 | J57: =J53-J55 -> 0 | K57: =SUM(H57:J57)/3 -> 0
B59: 4 | C59: Ratio (Realisasi Pemasukan-Pembiayaan)/(Realisasi Pemasukan) | D59: =D57/D53 -> #DIV/0! | E59: =E57/E53 -> #DIV/0! | F59: =F57/F53 -> #DIV/0! | G59: =SUM(D59:F59)/3 -> #DIV/0! | H59: =H57/H53 -> #DIV/0! | I59: =I57/I53 -> #DIV/0! | J59: =J57/J53 -> #DIV/0! | K59: =SUM(H59:J59)/3 -> #DIV/0!
B62: catatan:
B63: Apabila DTPS mengajar pada Program Studi Sarjana , Magister dan Doktor (terapan)
B64: Perhitungan Keuangan di dasarkan atas jumlah pemasukan dan pengeluaran berbasis nama untuk menghidari perhitungan ganda

Sheet R.3.1
B2: R. Riset, Pengabdian, Suasana Ilmiah
B3: R.3 Luaran dan Dampak Penelitian
B4: Tabel R.3.1. Ratio Luaran/Dampak Penelitian/Pengembangan Karya/Inovasi DTPS, Mahasiswa Sarjana/Profesi/Magister/Doktoral
B5: NO | C5: Nama Program/Program Kerjasama untuk Penelitian/Pengembangan Karya/Inovasi | D5: Bukti MOU, MOA, Riset Collaboration Contract/Kontrak Penelitian | E5: DTPS yang terlibat | F5: Jumlah Mahasiswa yang terlibat | G5: Jumlah Luaran Penelitian/Pengembangan Karya/Inovasi | P5: Bukti (Link Publikasi; Luaran Paten/Paten Sederhana, HKI, Podcast, Media Sosial, link acess dan atau bukti dalam bentuk lain)
G6: Publikasi Ilmiah | J6: Book Chapter, Policy Brief | L6: Luaran Karya/Produk
G7: Publikasi Ilmiah Internasional Bereputasi | H7: Publikasi Ilmiah Nasional Terakreditasi | I7: Publikasi pada Prosiding Terindeks Scopus | J7: Book/Book Chapter | K7: Dokumen Naskah Akademik/ Policy Brief | L7: Karya/ Inovasi Karya | M7: Pameran Karya/Produk, Galery karya, Photo, Vidio, Rekaman | N7: Luaran dalam media masa dan/atau media sosial (podcast, vlog) | O7: Luaran Teknologi Tepat Guna atau Teknologi lainnya sesuai perkembangan
B8: 1 | C8: 2 | D8: 3 | E8: 4 | F8: 5 | G8: 6 | H8: 7 | I8: 8 | J8: 9 | K8: 10 | L8: 11 | M8: 12 | N8: 13 | O8: 14 | P8: 15
B9: A | C9: Program Penelitian/Pengembangan Karya/Inovasi Skala Internasional
B10: 1 | C10: Satrep 2026 | D10: tautan | E10: tulis nama | F10: tulis nama | G10: tautan | H10: tautan | I10: tautan | J10: tautan | K10: tautan | L10: tautan | M10: tautan | N10: tautan | O10: tautan | P10: tautan
B11: 2 | C11: Memorum of Understanding between Faculty … Indonesia and Faculty … Japan
B12: 3 | C12: Memorum of Understanding between Faculty … Indonesia, Faculty … Australia, and Faculty … New Zealand
C13: …... (etc) tambahkan baris yang diperlukan
B14: Rekaputulasi | D14: tulis angka | E14: tulis angka | F14: tulis angka | G14: tulis angka | H14: tulis angka | I14: tulis angka | J14: tulis angka | K14: tulis angka | L14: tulis angka | M14: tulis angka | N14: tulis angka | O14: tulis angka
B15: Rekapitulasi Total Luaran Penelitian/Pengembangan Karya/Inovasi | G15: =G14+H14+I14+J14+K14+L14+M14+N14+O14 -> #VALUE!
B16: B | C16: Program Penelitian/Pengembangan Karya/Inovasi Skala Nasional
B17: 1 | C17: Program Penelitian Kemendiktisainstek 2024 | D17: tautan | E17: tulis nama | F17: tulis nama | G17: tautan | H17: tautan | I17: tautan | J17: tautan | K17: tautan | L17: tautan | M17: tautan | N17: tautan | O17: tautan | P17: tautan
B18: 2 | C18: Program Penelitian BRIN 2025
B19: 3 | C19: Program Penelitian Kemendiktisainstek 2026
C21: …... (dst) tambahkan baris yang diperlukan
B22: Rekaputulasi | D22: tulis angka | E22: tulis angka | F22: tulis angka | G22: tulis angka | H22: tulis angka | I22: tulis angka | J22: tulis angka | K22: tulis angka | L22: tulis angka | M22: tulis angka | N22: tulis angka | O22: tulis angka
B23: Rekapitulasi Total Luaran Penelitian/Pengembangan Karya/Inovasi | G23: =G22+H22+I22+J22+K22+L22+M22+N22+O22 -> #VALUE!
B24: C | C24: Program Penelitian/Pengembangan Karya/Inovasi Skala Wilayah dan Lokal
B25: 1 | C25: Program Penelitian dan Inovasi Provinsi …..2024 | D25: tautan | E25: tulis nama | F25: tulis nama | G25: tautan | H25: tautan | I25: tautan | J25: tautan | K25: tautan | L25: tautan | M25: tautan | N25: tautan | O25: tautan | P25: tautan
B26: 2 | C26: Program Penelitian dan Inovasi Kab …..2025
B27: 3 | C27: Program Penelitian dan Inovasi Dinas …..2026
C28: …... (dst) tambahkan baris yang diperlukan
B29: Rekaputulasi | D29: tulis angka | E29: tulis angka | F29: tulis angka | G29: tulis angka | H29: tulis angka | I29: tulis angka | J29: tulis angka | K29: tulis angka | L29: tulis angka | M29: tulis angka | N29: tulis angka | O29: tulis angka
B30: Rekapitulasi Total Luaran Penelitian/Pengembangan Karya/Inovasi | G30: =G29+H29+I29+J29+K29+L29+M29+N29+O29 -> #VALUE!
B31: D | C31: Program Penelitian/Pengembangan Karya/Inovasi Reguler Perguruan Tinggi
B32: 1 | C32: Program Penelitian Perguruan Tinggi …..2024 | D32: tautan | E32: tulis nama | F32: tulis nama | G32: tautan | H32: tautan | I32: tautan | J32: tautan | K32: tautan | L32: tautan | M32: tautan | N32: tautan | O32: tautan | P32: tautan
B33: 2 | C33: Program Penelitian Perguruan Tinggi …..2025
B34: 3 | C34: Program Penelitian Perguruan Tinggi …..2026
C35: …... (dst) tambahkan baris yang diperlukan
B36: Rekaputulasi | D36: tulis angka | E36: tulis angka | F36: tulis angka | G36: tulis angka | H36: tulis angka | I36: tulis angka | J36: tulis angka | K36: tulis angka | L36: tulis angka | M36: tulis angka | N36: tulis angka | O36: tulis angka
B37: Rekapitulasi Total Luaran Penelitian/Pengembangan Karya/Inovasi | G37: =G36+H36+I36+J36+K36+L36+M36+N36+O36 -> #VALUE!
B38: E | C38: Program Penelitian/Pengembangan Karya/Inovasi Mahasiswa Sarjana, Mahasiswa Magister, Mahasiswa Doktor
B39: 1 | C39: Program penelitian/pengembangan karya/Inovasi mahasiswa sarjana | D39: tautan | E39: kosong | F39: tulis nama | G39: tautan | H39: tautan | I39: tautan | J39: tautan | K39: tautan | L39: tautan | M39: tautan | N39: tautan | O39: tautan | P39: tautan
B40: 2 | C40: Program penelitian/pengembangan karya/Inovasi mahasiswa Magister
B41: 3 | C41: Program penelitian/pengembangan karya/Inovasi mahasiswa Doktoral
B42: Rekaputulasi | D42: Tulis angka | E42: kosong | F42: tulis angka | G42: tulis angka | H42: tulis angka | I42: tulis angka | J42: tulis angka | K42: tulis angka | L42: tulis angka | M42: tulis angka | N42: tulis angka | O42: tulis angka
B43: Rekapitulasi Total Luaran Penelitian/Pengembangan Karya/Inovasi | G43: =G42+H42+I42+J42+K42+L42+M42+N42+O42 -> #VALUE!
B44: Rekaputulasi Total Luaran | G44: =G14+G22+G29+G36+G42 -> #VALUE! | H44: =H14+H22+H29+H36+H42 -> #VALUE! | I44: =I14+I22+I29+I36+I42 -> #VALUE! | J44: =J14+J22+J29+J36+J42 -> #VALUE! | K44: =K14+K22+K29+K36+K42 -> #VALUE! | L44: =L14+L22+L29+L36+L42 -> #VALUE! | M44: =M14+M22+M29+M36+M42 -> #VALUE! | N44: =N14+N22+N29+N36+N42 -> #VALUE! | O44: =O14+O22+O29+O36+O42 -> #VALUE!
B46: Ratio Program Penelitian/Pengembangan Karya/Inovasi yang dilaksanakan
B47: Jumlah Program Penelitian/Pengembangan Karya/Inovasi | D47: =D14+D22+D29+D36+D42 -> #VALUE!
B48: a | C48: Ratio Program Penelitian/Pengembangan Karya/Inovasi Skala Internasional | D48: =D14/D47 -> #VALUE!
B49: b | C49: Ratio Program Penelitian/Pengembangan Karya/Inovasi Skala Nasional | D49: =D22/D47 -> #VALUE!
B50: c | C50: Ratio Program Penelitian/Pengembangan Karya/Inovasi Skala Wilayah dan Lokal | D50: =D29/D47 -> #VALUE!
B51: d | C51: Ratio Program Penelitian/Pengembangan Karya/Inovasi Reguler Perguruan Tinggi | D51: =D36/D47 -> #VALUE!
B52: e | C52: Ratio Program penelitian/pengembangan karya/Inovasi mahasiswa sarjana, Magister, Doktor | D52: =D47/D42 -> #VALUE!
B54: Ratio DTPS yang terlibat dalam program Penelitian/Pengembangan Karya/Inovasi
B55: Jumlah DTPS | D55: Tulis Angka DTPS
B56: a | C56: Ratio DTPS yang terlibat dalam program Penelitian/Pengembangan Karya/Inovasi Internasioal | D56: =E14/D55 -> #VALUE!
B57: b | C57: Ratio DTPS yang terlibat dalam program Penelitian/Pengembangan Karya/Inovasi Nasional | D57: =E22/D55 -> #VALUE!
B58: c | C58: Ratio DTPS yang terlibat dalam program Penelitian/Pengembangan Karya/Inovasi Wilayah/Lokal | D58: =E29/D55 -> #VALUE!
B59: d | C59: Ratio DTPS yang terlibat dalam program Penelitian/Pengembangan Karya/Inovasi Reguler Perguruan Tinggi | D59: =D36/D55 -> #VALUE!
B60: Rekaputulasi Ratio DTPS yang terlibat dalam program Penelitian/Pengembangan Karya/Inovasi | D60: =SUM(D56:D59) -> #VALUE!
B62: Ratio Luaran Program Penelitian/Pengembangan Karya/Inovasi
B63: Jumlah Luaran Program Penelitian/Pengembangan Karya/Inovasi | D63: =G15+G30+G37+G43 -> #VALUE!
B64: 6 | C64: Ratio Luaran Publikasi Ilmiah Internasional Bereputasi | D64: =G44/D63 -> #VALUE!
B65: 7 | C65: Ratio Luaran Publikasi Ilmiah Nasional Terakreditasi | D65: =H44/D63 -> #VALUE!
B66: 8 | C66: Ratio Luaran Publikasi pada Prosiding Terindeks Scopus | D66: =I44/D63 -> #VALUE!
B67: 9 | C67: Ratio Luaran Book/Book Chapter | D67: =J44/D63 -> #VALUE!
B68: 10 | C68: Ratio Luaran Dokumen Naskah Akademik/ Policy Brief | D68: =K44/D63 -> #VALUE!
B69: 11 | C69: Ratio Luaran Karya/ Inovasi Karya | D69: =L44/D63 -> #VALUE!
B70: 12 | C70: Ratio Luaran Pameran Karya/Produk, Galery karya, Photo, Vidio, Rekaman | D70: =M44/D63 -> #VALUE!
B71: 13 | C71: Ratio Luaran dalam media masa dan/atau media sosial (podcast, vlog) | D71: =N44/D63 -> #VALUE!
B72: 14 | C72: Ratio Luaran Teknologi Tepat Guna atau Teknologi lainnya sesuai perkembangan | D72: =O44/D63 -> #VALUE!

Sheet R.3.2
B2: R. Riset, Pengabdian, Suasana Ilmiah
B3: R.3 Luaran dan Dampak Penelitian
B4: Tabel R.3.2. Ratio Luaran/Dampak Penelitian/Pengembangan Karya/Inovasi DTPS, Mahasiswa Diploma/Sarjana Terapan/Profesi Terapan/Magister Terapan/Doktoral Terapan
B5: NO | C5: Nama Program/Program Kerjasama untuk Penelitian/Pengembangan Karya/Inovasi | D5: Bukti MOU, MOA, Riset Collaboration Contract/Kontrak Penelitian | E5: DTPS yang terlibat | F5: Jumlah Mahasiswa yang terlibat | G5: Jumlah Luaran Penelitian/Pengembangan Karya/Inovasi | P5: Bukti (Link Publikasi; Luaran Paten/Paten Sederhana, HKI, Podcast, Media Sosial, link acess dan atau bukti dalam bentuk lain)
G6: Publikasi Ilmiah | J6: Book Chapter, Policy Brief | L6: Luaran Karya/Produk
G7: Publikasi Ilmiah Internasional Bereputasi | H7: Publikasi Ilmiah Nasional Terakreditasi | I7: Publikasi pada Prosiding Terindeks Scopus | J7: Book/Book Chapter | K7: Dokumen Naskah Akademik/ Policy Brief | L7: Karya/ Inovasi Karya | M7: Pameran Karya/Produk, Galery karya, Photo, Vidio, Rekaman | N7: Luaran dalam media masa dan/atau media sosial (podcast, vlog) | O7: Luaran Teknologi Tepat Guna atau Teknologi lainnya sesuai perkembangan
B8: 1 | C8: 2 | D8: 3 | E8: 4 | F8: 5 | G8: 6 | H8: 7 | I8: 8 | J8: 9 | K8: 10 | L8: 11 | M8: 12 | N8: 13 | O8: 14 | P8: 15
B9: A | C9: Program Penelitian/Pengembangan Karya/Inovasi Skala Internasional
B10: 1 | C10: Satrep 2026 | D10: tautan | E10: tulis nama | F10: tulis nama | G10: tautan | H10: tautan | I10: tautan | J10: tautan | K10: tautan | L10: tautan | M10: tautan | N10: tautan | O10: tautan | P10: tautan
B11: 2 | C11: Memorum of Understanding between Faculty … Indonesia and Faculty … Japan
B12: 3 | C12: Memorum of Understanding between Faculty … Indonesia, Faculty … Australia, and Faculty … New Zealand
C13: …... (etc) tambahkan baris yang diperlukan
B14: Rekaputulasi | D14: tulis angka | E14: tulis angka | F14: tulis angka | G14: tulis angka | H14: tulis angka | I14: tulis angka | J14: tulis angka | K14: tulis angka | L14: tulis angka | M14: tulis angka | N14: tulis angka | O14: tulis angka
B15: Rekapitulasi Total Luaran Penelitian/Pengembangan Karya/Inovasi | G15: =G14+H14+I14+J14+K14+L14+M14+N14+O14 -> #VALUE!
B16: B | C16: Program Penelitian/Pengembangan Karya/Inovasi Skala Nasional
B17: 1 | C17: Program Penelitian Kemendiktisainstek 2024 | D17: tautan | E17: tulis nama | F17: tulis nama | G17: tautan | H17: tautan | I17: tautan | J17: tautan | K17: tautan | L17: tautan | M17: tautan | N17: tautan | O17: tautan | P17: tautan
B18: 2 | C18: Program Penelitian BRIN 2025
B19: 3 | C19: Program Penelitian Kemendiktisainstek 2026
C21: …... (dst) tambahkan baris yang diperlukan
B22: Rekaputulasi | D22: tulis angka | E22: tulis angka | F22: tulis angka | G22: tulis angka | H22: tulis angka | I22: tulis angka | J22: tulis angka | K22: tulis angka | L22: tulis angka | M22: tulis angka | N22: tulis angka | O22: tulis angka
B23: Rekapitulasi Total Luaran Penelitian/Pengembangan Karya/Inovasi | G23: =G22+H22+I22+J22+K22+L22+M22+N22+O22 -> #VALUE!
B24: C | C24: Program Penelitian/Pengembangan Karya/Inovasi Skala Wilayah dan Lokal
B25: 1 | C25: Program Penelitian dan Inovasi Provinsi …..2024 | D25: tautan | E25: tulis nama | F25: tulis nama | G25: tautan | H25: tautan | I25: tautan | J25: tautan | K25: tautan | L25: tautan | M25: tautan | N25: tautan | O25: tautan | P25: tautan
B26: 2 | C26: Program Penelitian dan Inovasi Kab …..2025
B27: 3 | C27: Program Penelitian dan Inovasi Dinas …..2026
C28: …... (dst) tambahkan baris yang diperlukan
B29: Rekaputulasi | D29: tulis angka | E29: tulis angka | F29: tulis angka | G29: tulis angka | H29: tulis angka | I29: tulis angka | J29: tulis angka | K29: tulis angka | L29: tulis angka | M29: tulis angka | N29: tulis angka | O29: tulis angka
B30: Rekapitulasi Total Luaran Penelitian/Pengembangan Karya/Inovasi | G30: =G29+H29+I29+J29+K29+L29+M29+N29+O29 -> #VALUE!
B31: D | C31: Program Penelitian/Pengembangan Karya/Inovasi Reguler Perguruan Tinggi
B32: 1 | C32: Program Penelitian Perguruan Tinggi …..2024 | D32: tautan | E32: tulis nama | F32: tulis nama | G32: tautan | H32: tautan | I32: tautan | J32: tautan | K32: tautan | L32: tautan | M32: tautan | N32: tautan | O32: tautan | P32: tautan
B33: 2 | C33: Program Penelitian Perguruan Tinggi …..2025
B34: 3 | C34: Program Penelitian Perguruan Tinggi …..2026
C35: …... (dst) tambahkan baris yang diperlukan
B36: Rekaputulasi | D36: tulis angka | E36: tulis angka | F36: tulis angka | G36: tulis angka | H36: tulis angka | I36: tulis angka | J36: tulis angka | K36: tulis angka | L36: tulis angka | M36: tulis angka | N36: tulis angka | O36: tulis angka
B37: Rekapitulasi Total Luaran Penelitian/Pengembangan Karya/Inovasi | G37: =G36+H36+I36+J36+K36+L36+M36+N36+O36 -> #VALUE!
B38: E | C38: Program Penelitian/Pengembangan Karya/Inovasi Mahasiswa Sarjana, Mahasiswa Magister, Mahasiswa Doktor
B39: 1 | C39: Program penelitian/pengembangan karya/Inovasi mahasiswa sarjana | D39: tautan | E39: kosong | F39: tulis nama | G39: tautan | H39: tautan | I39: tautan | J39: tautan | K39: tautan | L39: tautan | M39: tautan | N39: tautan | O39: tautan | P39: tautan
B40: 2 | C40: Program penelitian/pengembangan karya/Inovasi mahasiswa Magister
B41: 3 | C41: Program penelitian/pengembangan karya/Inovasi mahasiswa Doktoral
B42: Rekaputulasi | D42: Tulis angka | E42: kosong | F42: tulis angka | G42: tulis angka | H42: tulis angka | I42: tulis angka | J42: tulis angka | K42: tulis angka | L42: tulis angka | M42: tulis angka | N42: tulis angka | O42: tulis angka
B43: Rekapitulasi Total Luaran Penelitian/Pengembangan Karya/Inovasi | G43: =G42+H42+I42+J42+K42+L42+M42+N42+O42 -> #VALUE!
B44: Rekaputulasi Total Luaran | G44: =G14+G22+G29+G36+G42 -> #VALUE! | H44: =H14+H22+H29+H36+H42 -> #VALUE! | I44: =I14+I22+I29+I36+I42 -> #VALUE! | J44: =J14+J22+J29+J36+J42 -> #VALUE! | K44: =K14+K22+K29+K36+K42 -> #VALUE! | L44: =L14+L22+L29+L36+L42 -> #VALUE! | M44: =M14+M22+M29+M36+M42 -> #VALUE! | N44: =N14+N22+N29+N36+N42 -> #VALUE! | O44: =O14+O22+O29+O36+O42 -> #VALUE!
B46: Ratio Program Penelitian/Pengembangan Karya/Inovasi yang dilaksanakan
B47: Jumlah Program Penelitian/Pengembangan Karya/Inovasi | D47: =D14+D22+D29+D36+D42 -> #VALUE!
B48: a | C48: Ratio Program Penelitian/Pengembangan Karya/Inovasi Skala Internasional | D48: =D14/D47 -> #VALUE!
B49: b | C49: Ratio Program Penelitian/Pengembangan Karya/Inovasi Skala Nasional | D49: =D22/D47 -> #VALUE!
B50: c | C50: Ratio Program Penelitian/Pengembangan Karya/Inovasi Skala Wilayah dan Lokal | D50: =D29/D47 -> #VALUE!
B51: d | C51: Ratio Program Penelitian/Pengembangan Karya/Inovasi Reguler Perguruan Tinggi | D51: =D36/D47 -> #VALUE!
B52: e | C52: Ratio Program penelitian/pengembangan karya/Inovasi mahasiswa sarjana, Magister, Doktor | D52: =D47/D42 -> #VALUE!
B54: Ratio DTPS yang terlibat dalam program Penelitian/Pengembangan Karya/Inovasi
B55: Jumlah DTPS | D55: Tulis Angka DTPS
B56: a | C56: Ratio DTPS yang terlibat dalam program Penelitian/Pengembangan Karya/Inovasi Internasioal | D56: =E14/D55 -> #VALUE!
B57: b | C57: Ratio DTPS yang terlibat dalam program Penelitian/Pengembangan Karya/Inovasi Nasional | D57: =E22/D55 -> #VALUE!
B58: c | C58: Ratio DTPS yang terlibat dalam program Penelitian/Pengembangan Karya/Inovasi Wilayah/Lokal | D58: =E29/D55 -> #VALUE!
B59: d | C59: Ratio DTPS yang terlibat dalam program Penelitian/Pengembangan Karya/Inovasi Reguler Perguruan Tinggi | D59: =D36/D55 -> #VALUE!
B60: Rekaputulasi Ratio DTPS yang terlibat dalam program Penelitian/Pengembangan Karya/Inovasi | D60: =SUM(D56:D59) -> #VALUE!
B62: Ratio Luaran Program Penelitian/Pengembangan Karya/Inovasi
B63: Jumlah Luaran Program Penelitian/Pengembangan Karya/Inovasi | D63: =G15+G30+G37+G43 -> #VALUE!
B64: 6 | C64: Ratio Luaran Publikasi Ilmiah Internasional Bereputasi | D64: =G44/D63 -> #VALUE!
B65: 7 | C65: Ratio Luaran Publikasi Ilmiah Nasional Terakreditasi | D65: =H44/D63 -> #VALUE!
B66: 8 | C66: Ratio Luaran Publikasi pada Prosiding Terindeks Scopus | D66: =I44/D63 -> #VALUE!
B67: 9 | C67: Ratio Luaran Book/Book Chapter | D67: =J44/D63 -> #VALUE!
B68: 10 | C68: Ratio Luaran Dokumen Naskah Akademik/ Policy Brief | D68: =K44/D63 -> #VALUE!
B69: 11 | C69: Ratio Luaran Karya/ Inovasi Karya | D69: =L44/D63 -> #VALUE!
B70: 12 | C70: Ratio Luaran Pameran Karya/Produk, Galery karya, Photo, Vidio, Rekaman | D70: =M44/D63 -> #VALUE!
B71: 13 | C71: Ratio Luaran dalam media masa dan/atau media sosial (podcast, vlog) | D71: =N44/D63 -> #VALUE!
B72: 14 | C72: Ratio Luaran Teknologi Tepat Guna atau Teknologi lainnya sesuai perkembangan | D72: =O44/D63 -> #VALUE!

Sheet R.6.1
B2: R. Riset, Pengabdian, Suasana Ilmiah
B3: R.6 Luaran dan Dampak Pengabdian kepada Masyarakat
B4: Tabel R.6.1. Ratio Luaran/Dampak Penelitian/Pengembangan Karya/Inovasi DTPS, Mahasiswa Sarjana/Profesi/Magister/Doktoral
B5: NO | C5: Nama Program Pengabdian kepada Masyarakat | D5: Bukti MOU, MOA, Riset Collaboration Contract/Kontrak Penelitian | E5: DTPS yang terlibat | F5: Jumlah Mahasiswa yang terlibat | G5: Jumlah Luaran Penelitian/Pengembangan Karya/Inovasi | P5: Bukti (Link Publikasi; Luaran Paten/Paten Sederhana, HKI, Podcast, Media Sosial, link acess dan atau bukti dalam bentuk lain)
G6: Publikasi Ilmiah | J6: Book Chapter, Policy Brief | L6: Luaran Karya/Produk
G7: Publikasi Ilmiah Internasional Bereputasi | H7: Publikasi Ilmiah Nasional Terakreditasi | I7: Publikasi pada Prosiding Terindeks Scopus | J7: Book/Book Chapter | K7: Dokumen Naskah Akademik/ Policy Brief | L7: Karya/ Inovasi Karya | M7: Pameran Karya/Produk, Galery karya, Photo, Vidio, Rekaman | N7: Luaran dalam media masa dan/atau media sosial (podcast, vlog) | O7: Luaran Teknologi Tepat Guna atau Teknologi lainnya sesuai perkembangan
B8: 1 | C8: 2 | D8: 3 | E8: 4 | F8: 5 | G8: 6 | H8: 7 | I8: 8 | J8: 9 | K8: 10 | L8: 11 | M8: 12 | N8: 13 | O8: 14 | P8: 15
B9: A | C9: Program Pengabdian kepada Masyarakat Skala Internasional
B10: 1 | C10: Satrep 2026 | D10: tautan | E10: tulis nama | F10: tulis nama | G10: tautan | H10: tautan | I10: tautan | J10: tautan | K10: tautan | L10: tautan | M10: tautan | N10: tautan | O10: tautan | P10: tautan
B11: 2 | C11: Memorum of Understanding between Faculty … Indonesia and Faculty … Japan
B12: 3 | C12: Memorum of Understanding between Faculty … Indonesia, Faculty … Australia, and Faculty … New Zealand
C13: …... (etc) tambahkan baris yang diperlukan
B14: Rekaputulasi | D14: tulis angka | E14: tulis angka | F14: tulis angka | G14: tulis angka | H14: tulis angka | I14: tulis angka | J14: tulis angka | K14: tulis angka | L14: tulis angka | M14: tulis angka | N14: tulis angka | O14: tulis angka
B15: Rekapitulasi Total Luaran Penelitian/Pengembangan Karya/Inovasi | G15: =G14+H14+I14+J14+K14+L14+M14+N14+O14 -> #VALUE!
B16: B | C16: Program Pengabdian kepada Masyarakat Skala Nasional
B17: 1 | C17: Program Penelitian Kemendiktisainstek 2024 | D17: tautan | E17: tulis nama | F17: tulis nama | G17: tautan | H17: tautan | I17: tautan | J17: tautan | K17: tautan | L17: tautan | M17: tautan | N17: tautan | O17: tautan | P17: tautan
B18: 2 | C18: Program Penelitian BRIN 2025
B19: 3 | C19: Program Penelitian Kemendiktisainstek 2026
C21: …... (dst) tambahkan baris yang diperlukan
B22: Rekaputulasi | D22: tulis angka | E22: tulis angka | F22: tulis angka | G22: tulis angka | H22: tulis angka | I22: tulis angka | J22: tulis angka | K22: tulis angka | L22: tulis angka | M22: tulis angka | N22: tulis angka | O22: tulis angka
B23: Rekapitulasi Total Luaran Penelitian/Pengembangan Karya/Inovasi | G23: =G22+H22+I22+J22+K22+L22+M22+N22+O22 -> #VALUE!
B24: C | C24: Program Pengabdian kepada Masyarakat Skala Wilayah dan Lokal
B25: 1 | C25: Program Penelitian dan Inovasi Provinsi …..2024 | D25: tautan | E25: tulis nama | F25: tulis nama | G25: tautan | H25: tautan | I25: tautan | J25: tautan | K25: tautan | L25: tautan | M25: tautan | N25: tautan | O25: tautan | P25: tautan
B26: 2 | C26: Program Penelitian dan Inovasi Kab …..2025
B27: 3 | C27: Program Penelitian dan Inovasi Dinas …..2026
C28: …... (dst) tambahkan baris yang diperlukan
B29: Rekaputulasi | D29: tulis angka | E29: tulis angka | F29: tulis angka | G29: tulis angka | H29: tulis angka | I29: tulis angka | J29: tulis angka | K29: tulis angka | L29: tulis angka | M29: tulis angka | N29: tulis angka | O29: tulis angka
B30: Rekapitulasi Total Luaran Penelitian/Pengembangan Karya/Inovasi | G30: =G29+H29+I29+J29+K29+L29+M29+N29+O29 -> #VALUE!
B31: D | C31: Program Pengabdian kepada Masyarakat Reguler Perguruan Tinggi
B32: 1 | C32: Program Penelitian Perguruan Tinggi …..2024 | D32: tautan | E32: tulis nama | F32: tulis nama | G32: tautan | H32: tautan | I32: tautan | J32: tautan | K32: tautan | L32: tautan | M32: tautan | N32: tautan | O32: tautan | P32: tautan
B33: 2 | C33: Program Penelitian Perguruan Tinggi …..2025
B34: 3 | C34: Program Penelitian Perguruan Tinggi …..2026
C35: …... (dst) tambahkan baris yang diperlukan
B36: Rekaputulasi | D36: tulis angka | E36: tulis angka | F36: tulis angka | G36: tulis angka | H36: tulis angka | I36: tulis angka | J36: tulis angka | K36: tulis angka | L36: tulis angka | M36: tulis angka | N36: tulis angka | O36: tulis angka
B37: Rekapitulasi Total Luaran Penelitian/Pengembangan Karya/Inovasi | G37: =G36+H36+I36+J36+K36+L36+M36+N36+O36 -> #VALUE!
B38: E | C38: Program Pengabdian kepada Masyarakat Mahasiswa Sarjana, Mahasiswa Magister, Mahasiswa Doktor
B39: 1 | C39: Program penelitian/pengembangan karya/Inovasi mahasiswa sarjana | D39: tautan | E39: kosong | F39: tulis nama | G39: tautan | H39: tautan | I39: tautan | J39: tautan | K39: tautan | L39: tautan | M39: tautan | N39: tautan | O39: tautan | P39: tautan
B40: 2 | C40: Program penelitian/pengembangan karya/Inovasi mahasiswa Magister
B41: 3 | C41: Program penelitian/pengembangan karya/Inovasi mahasiswa Doktoral
B42: Rekaputulasi | D42: Tulis angka | E42: kosong | F42: tulis angka | G42: tulis angka | H42: tulis angka | I42: tulis angka | J42: tulis angka | K42: tulis angka | L42: tulis angka | M42: tulis angka | N42: tulis angka | O42: tulis angka
B43: Rekapitulasi Total Luaran Penelitian/Pengembangan Karya/Inovasi | G43: =G42+H42+I42+J42+K42+L42+M42+N42+O42 -> #VALUE!
B44: Rekaputulasi Total Luaran | G44: =G14+G22+G29+G36+G42 -> #VALUE! | H44: =H14+H22+H29+H36+H42 -> #VALUE! | I44: =I14+I22+I29+I36+I42 -> #VALUE! | J44: =J14+J22+J29+J36+J42 -> #VALUE! | K44: =K14+K22+K29+K36+K42 -> #VALUE! | L44: =L14+L22+L29+L36+L42 -> #VALUE! | M44: =M14+M22+M29+M36+M42 -> #VALUE! | N44: =N14+N22+N29+N36+N42 -> #VALUE! | O44: =O14+O22+O29+O36+O42 -> #VALUE!
B46: Ratio Program Penelitian/Pengembangan Karya/Inovasi yang dilaksanakan
B47: Jumlah Program Penelitian/Pengembangan Karya/Inovasi | D47: =D14+D22+D29+D36+D42 -> #VALUE!
B48: a | C48: Ratio Program Penelitian/Pengembangan Karya/Inovasi Skala Internasional | D48: =D14/D47 -> #VALUE!
B49: b | C49: Ratio Program Penelitian/Pengembangan Karya/Inovasi Skala Nasional | D49: =D22/D47 -> #VALUE!
B50: c | C50: Ratio Program Penelitian/Pengembangan Karya/Inovasi Skala Wilayah dan Lokal | D50: =D29/D47 -> #VALUE!
B51: d | C51: Ratio Program Penelitian/Pengembangan Karya/Inovasi Reguler Perguruan Tinggi | D51: =D36/D47 -> #VALUE!
B52: e | C52: Ratio Program penelitian/pengembangan karya/Inovasi mahasiswa sarjana, Magister, Doktor | D52: =D47/D42 -> #VALUE!
B54: Ratio DTPS yang terlibat dalam program Penelitian/Pengembangan Karya/Inovasi
B55: Jumlah DTPS | D55: Tulis Angka DTPS
B56: a | C56: Ratio DTPS yang terlibat dalam program Penelitian/Pengembangan Karya/Inovasi Internasioal | D56: =E14/D55 -> #VALUE!
B57: b | C57: Ratio DTPS yang terlibat dalam program Penelitian/Pengembangan Karya/Inovasi Nasional | D57: =E22/D55 -> #VALUE!
B58: c | C58: Ratio DTPS yang terlibat dalam program Penelitian/Pengembangan Karya/Inovasi Wilayah/Lokal | D58: =E29/D55 -> #VALUE!
B59: d | C59: Ratio DTPS yang terlibat dalam program Penelitian/Pengembangan Karya/Inovasi Reguler Perguruan Tinggi | D59: =D36/D55 -> #VALUE!
B60: Rekaputulasi Ratio DTPS yang terlibat dalam program Penelitian/Pengembangan Karya/Inovasi | D60: =SUM(D56:D59) -> #VALUE!
B62: Ratio Luaran Program Penelitian/Pengembangan Karya/Inovasi
B63: Jumlah Luaran Program Penelitian/Pengembangan Karya/Inovasi | D63: =G15+G30+G37+G43 -> #VALUE!
B64: 6 | C64: Ratio Luaran Publikasi Ilmiah Internasional Bereputasi | D64: =G44/D63 -> #VALUE!
B65: 7 | C65: Ratio Luaran Publikasi Ilmiah Nasional Terakreditasi | D65: =H44/D63 -> #VALUE!
B66: 8 | C66: Ratio Luaran Publikasi pada Prosiding Terindeks Scopus | D66: =I44/D63 -> #VALUE!
B67: 9 | C67: Ratio Luaran Book/Book Chapter | D67: =J44/D63 -> #VALUE!
B68: 10 | C68: Ratio Luaran Dokumen Naskah Akademik/ Policy Brief | D68: =K44/D63 -> #VALUE!
B69: 11 | C69: Ratio Luaran Karya/ Inovasi Karya | D69: =L44/D63 -> #VALUE!
B70: 12 | C70: Ratio Luaran Pameran Karya/Produk, Galery karya, Photo, Vidio, Rekaman | D70: =M44/D63 -> #VALUE!
B71: 13 | C71: Ratio Luaran dalam media masa dan/atau media sosial (podcast, vlog) | D71: =N44/D63 -> #VALUE!
B72: 14 | C72: Ratio Luaran Teknologi Tepat Guna atau Teknologi lainnya sesuai perkembangan | D72: =O44/D63 -> #VALUE!

Sheet R.6.2
B2: R. Riset, Pengabdian, Suasana Ilmiah
B3: R.6 Luaran dan Dampak Pengabdian kepada Masyarakat
B4: Tabel R.6.2. Ratio Luaran/Dampak Pengabdian kepada Masyarakat DTPS, Mahasiswa Mahasiswa Diploma/Sarjana Terapan/Profesi Terapan/Magister
B5: NO | C5: Nama Program Pengabdian kepada Masyarakat | D5: Bukti MOU, MOA, Riset Collaboration Contract/Kontrak Penelitian | E5: DTPS yang terlibat | F5: Jumlah Mahasiswa yang terlibat | G5: Jumlah Luaran Penelitian/Pengembangan Karya/Inovasi | P5: Bukti (Link Publikasi; Luaran Paten/Paten Sederhana, HKI, Podcast, Media Sosial, link acess dan atau bukti dalam bentuk lain)
G6: Publikasi Ilmiah | J6: Book Chapter, Policy Brief | L6: Luaran Karya/Produk
G7: Publikasi Ilmiah Internasional Bereputasi | H7: Publikasi Ilmiah Nasional Terakreditasi | I7: Publikasi pada Prosiding Terindeks Scopus | J7: Book/Book Chapter | K7: Dokumen Naskah Akademik/ Policy Brief | L7: Karya/ Inovasi Karya | M7: Pameran Karya/Produk, Galery karya, Photo, Vidio, Rekaman | N7: Luaran dalam media masa dan/atau media sosial (podcast, vlog) | O7: Luaran Teknologi Tepat Guna atau Teknologi lainnya sesuai perkembangan
B8: 1 | C8: 2 | D8: 3 | E8: 4 | F8: 5 | G8: 6 | H8: 7 | I8: 8 | J8: 9 | K8: 10 | L8: 11 | M8: 12 | N8: 13 | O8: 14 | P8: 15
B9: A | C9: Program Pengabdian kepada Masyarakat Skala Internasional
B10: 1 | C10: Satrep 2026 | D10: tautan | E10: tulis nama | F10: tulis nama | G10: tautan | H10: tautan | I10: tautan | J10: tautan | K10: tautan | L10: tautan | M10: tautan | N10: tautan | O10: tautan | P10: tautan
B11: 2 | C11: Memorum of Understanding between Faculty … Indonesia and Faculty … Japan
B12: 3 | C12: Memorum of Understanding between Faculty … Indonesia, Faculty … Australia, and Faculty … New Zealand
C13: …... (etc) tambahkan baris yang diperlukan
B14: Rekaputulasi | D14: tulis angka | E14: tulis angka | F14: tulis angka | G14: tulis angka | H14: tulis angka | I14: tulis angka | J14: tulis angka | K14: tulis angka | L14: tulis angka | M14: tulis angka | N14: tulis angka | O14: tulis angka
B15: Rekapitulasi Total Luaran Penelitian/Pengembangan Karya/Inovasi | G15: =G14+H14+I14+J14+K14+L14+M14+N14+O14 -> #VALUE!
B16: B | C16: Program Pengabdian kepada Masyarakat Skala Nasional
B17: 1 | C17: Program Penelitian Kemendiktisainstek 2024 | D17: tautan | E17: tulis nama | F17: tulis nama | G17: tautan | H17: tautan | I17: tautan | J17: tautan | K17: tautan | L17: tautan | M17: tautan | N17: tautan | O17: tautan | P17: tautan
B18: 2 | C18: Program Penelitian BRIN 2025
B19: 3 | C19: Program Penelitian Kemendiktisainstek 2026
C21: …... (dst) tambahkan baris yang diperlukan
B22: Rekaputulasi | D22: tulis angka | E22: tulis angka | F22: tulis angka | G22: tulis angka | H22: tulis angka | I22: tulis angka | J22: tulis angka | K22: tulis angka | L22: tulis angka | M22: tulis angka | N22: tulis angka | O22: tulis angka
B23: Rekapitulasi Total Luaran Penelitian/Pengembangan Karya/Inovasi | G23: =G22+H22+I22+J22+K22+L22+M22+N22+O22 -> #VALUE!
B24: C | C24: Program Pengabdian kepada Masyarakat Skala Wilayah dan Lokal
B25: 1 | C25: Program Penelitian dan Inovasi Provinsi …..2024 | D25: tautan | E25: tulis nama | F25: tulis nama | G25: tautan | H25: tautan | I25: tautan | J25: tautan | K25: tautan | L25: tautan | M25: tautan | N25: tautan | O25: tautan | P25: tautan
B26: 2 | C26: Program Penelitian dan Inovasi Kab …..2025
B27: 3 | C27: Program Penelitian dan Inovasi Dinas …..2026
C28: …... (dst) tambahkan baris yang diperlukan
B29: Rekaputulasi | D29: tulis angka | E29: tulis angka | F29: tulis angka | G29: tulis angka | H29: tulis angka | I29: tulis angka | J29: tulis angka | K29: tulis angka | L29: tulis angka | M29: tulis angka | N29: tulis angka | O29: tulis angka
B30: Rekapitulasi Total Luaran Penelitian/Pengembangan Karya/Inovasi | G30: =G29+H29+I29+J29+K29+L29+M29+N29+O29 -> #VALUE!
B31: D | C31: Program Pengabdian kepada Masyarakat Reguler Perguruan Tinggi
B32: 1 | C32: Program Penelitian Perguruan Tinggi …..2024 | D32: tautan | E32: tulis nama | F32: tulis nama | G32: tautan | H32: tautan | I32: tautan | J32: tautan | K32: tautan | L32: tautan | M32: tautan | N32: tautan | O32: tautan | P32: tautan
B33: 2 | C33: Program Penelitian Perguruan Tinggi …..2025
B34: 3 | C34: Program Penelitian Perguruan Tinggi …..2026
C35: …... (dst) tambahkan baris yang diperlukan
B36: Rekaputulasi | D36: tulis angka | E36: tulis angka | F36: tulis angka | G36: tulis angka | H36: tulis angka | I36: tulis angka | J36: tulis angka | K36: tulis angka | L36: tulis angka | M36: tulis angka | N36: tulis angka | O36: tulis angka
B37: Rekapitulasi Total Luaran Penelitian/Pengembangan Karya/Inovasi | G37: =G36+H36+I36+J36+K36+L36+M36+N36+O36 -> #VALUE!
B38: E | C38: Program Pengabdian kepada Masyarakat Mahasiswa Sarjana, Mahasiswa Magister, Mahasiswa Doktor
B39: 1 | C39: Program penelitian/pengembangan karya/Inovasi mahasiswa sarjana | D39: tautan | E39: kosong | F39: tulis nama | G39: tautan | H39: tautan | I39: tautan | J39: tautan | K39: tautan | L39: tautan | M39: tautan | N39: tautan | O39: tautan | P39: tautan
B40: 2 | C40: Program penelitian/pengembangan karya/Inovasi mahasiswa Magister
B41: 3 | C41: Program penelitian/pengembangan karya/Inovasi mahasiswa Doktoral
B42: Rekaputulasi | D42: Tulis angka | E42: kosong | F42: tulis angka | G42: tulis angka | H42: tulis angka | I42: tulis angka | J42: tulis angka | K42: tulis angka | L42: tulis angka | M42: tulis angka | N42: tulis angka | O42: tulis angka
B43: Rekapitulasi Total Luaran Penelitian/Pengembangan Karya/Inovasi | G43: =G42+H42+I42+J42+K42+L42+M42+N42+O42 -> #VALUE!
B44: Rekaputulasi Total Luaran | G44: =G14+G22+G29+G36+G42 -> #VALUE! | H44: =H14+H22+H29+H36+H42 -> #VALUE! | I44: =I14+I22+I29+I36+I42 -> #VALUE! | J44: =J14+J22+J29+J36+J42 -> #VALUE! | K44: =K14+K22+K29+K36+K42 -> #VALUE! | L44: =L14+L22+L29+L36+L42 -> #VALUE! | M44: =M14+M22+M29+M36+M42 -> #VALUE! | N44: =N14+N22+N29+N36+N42 -> #VALUE! | O44: =O14+O22+O29+O36+O42 -> #VALUE!
B46: Ratio Program Penelitian/Pengembangan Karya/Inovasi yang dilaksanakan
B47: Jumlah Program Penelitian/Pengembangan Karya/Inovasi | D47: =D14+D22+D29+D36+D42 -> #VALUE!
B48: a | C48: Ratio Program Penelitian/Pengembangan Karya/Inovasi Skala Internasional | D48: =D14/D47 -> #VALUE!
B49: b | C49: Ratio Program Penelitian/Pengembangan Karya/Inovasi Skala Nasional | D49: =D22/D47 -> #VALUE!
B50: c | C50: Ratio Program Penelitian/Pengembangan Karya/Inovasi Skala Wilayah dan Lokal | D50: =D29/D47 -> #VALUE!
B51: d | C51: Ratio Program Penelitian/Pengembangan Karya/Inovasi Reguler Perguruan Tinggi | D51: =D36/D47 -> #VALUE!
B52: e | C52: Ratio Program penelitian/pengembangan karya/Inovasi mahasiswa sarjana, Magister, Doktor | D52: =D47/D42 -> #VALUE!
B54: Ratio DTPS yang terlibat dalam program Penelitian/Pengembangan Karya/Inovasi
B55: Jumlah DTPS | D55: Tulis Angka DTPS
B56: a | C56: Ratio DTPS yang terlibat dalam program Penelitian/Pengembangan Karya/Inovasi Internasioal | D56: =E14/D55 -> #VALUE!
B57: b | C57: Ratio DTPS yang terlibat dalam program Penelitian/Pengembangan Karya/Inovasi Nasional | D57: =E22/D55 -> #VALUE!
B58: c | C58: Ratio DTPS yang terlibat dalam program Penelitian/Pengembangan Karya/Inovasi Wilayah/Lokal | D58: =E29/D55 -> #VALUE!
B59: d | C59: Ratio DTPS yang terlibat dalam program Penelitian/Pengembangan Karya/Inovasi Reguler Perguruan Tinggi | D59: =D36/D55 -> #VALUE!
B60: Rekaputulasi Ratio DTPS yang terlibat dalam program Penelitian/Pengembangan Karya/Inovasi | D60: =SUM(D56:D59) -> #VALUE!
B62: Ratio Luaran Program Penelitian/Pengembangan Karya/Inovasi
B63: Jumlah Luaran Program Penelitian/Pengembangan Karya/Inovasi | D63: =G15+G30+G37+G43 -> #VALUE!
B64: 6 | C64: Ratio Luaran Publikasi Ilmiah Internasional Bereputasi | D64: =G44/D63 -> #VALUE!
B65: 7 | C65: Ratio Luaran Publikasi Ilmiah Nasional Terakreditasi | D65: =H44/D63 -> #VALUE!
B66: 8 | C66: Ratio Luaran Publikasi pada Prosiding Terindeks Scopus | D66: =I44/D63 -> #VALUE!
B67: 9 | C67: Ratio Luaran Book/Book Chapter | D67: =J44/D63 -> #VALUE!
B68: 10 | C68: Ratio Luaran Dokumen Naskah Akademik/ Policy Brief | D68: =K44/D63 -> #VALUE!
B69: 11 | C69: Ratio Luaran Karya/ Inovasi Karya | D69: =L44/D63 -> #VALUE!
B70: 12 | C70: Ratio Luaran Pameran Karya/Produk, Galery karya, Photo, Vidio, Rekaman | D70: =M44/D63 -> #VALUE!
B71: 13 | C71: Ratio Luaran dalam media masa dan/atau media sosial (podcast, vlog) | D71: =N44/D63 -> #VALUE!
B72: 14 | C72: Ratio Luaran Teknologi Tepat Guna atau Teknologi lainnya sesuai perkembangan | D72: =O44/D63 -> #VALUE!
