Workbook
Name _3zhqqexgc2ix: Cover!$B$22
Name _81y2izf2vf1i: Cover!$B$39
Name _fchncaxm3zme: Cover!$B$7
Name _hu626kd2cptc: Cover!$B$11
Name _kfbr6r6b0k3f: Cover!$B$6
Name _mzwj4tfdgcee: Cover!$B$25
Name _qr74wxll71oh: Cover!$B$9
Name _stwp433rwk0s: Cover!#REF!
Name _szmlqirozvvf: Cover!$B$23
Name _vel72z2ek747: Cover!$B$24
Name _wf309i9d8yx3: Cover!$B$12
Name _xakomwxd7wxs: Cover!$B$8
Name _xja4s0m9pzt7: Cover!$B$38

Sheet Cover
B2: Logo Perguruan Tinggi
B6: Template Laporan Kinerja Program Studi
B7: Instrumen Akreditasi Program Studi
B8: DEPILAR 1.0
B12: Laporan Kinerja Program Studi
B23: Program Studi
B24: UPPS
B25: Perguruan Tinggi
B38: Tempat, Bulan, Tahun
B39: Periode Akreditasi Maret/Juni/September Tahun

Sheet Daftar Isi
B1: DAFTAR ISI (disesuaikan dengan PS yang diakreditasi)
B3: D. Deferensiasi Misi
C4: =D.1!B4 -> Tabel D.1 Daftar Program Studi di Unit Pengelola Program Studi (UPPS)
B5: E. Edukasi, Sistem Evaluasi, dan Capaian Pembelajaran
C6: =E.1!B4 -> Tabel E.1.1 Tabel Mahasiswa Penuh Waktu
C7: =E.1!R4 -> Tabel E.1.2 Tabel Mahasiswa Asing
C8: =E.2!B4 -> Tabel E.2.1 Rekapitulasi Rencana Pembelajaran Semester
C9: =E.1!B21 -> Tabel E.1.3 Tabel Analisis
C10: =E.3!B4 -> Tabel E.3.1 Rekapitulasi Kinerja Perkuliahan
C11: =E.4!B4 -> Tabel E.4.1 Kesesuaian Capaian Pembelajaran Lulusan dengan Kebutuhan Masyarakat
C12: =E.4!$I$4 -> Tabel E.4.2 Matrik Capaian Pembelajaran Matakuliah
C13: =E.4!T4 -> Tabel E.4.3 Penghargaan Eksternal Karya Mahasiswa
B14: P. Pengembangan Sumber Daya Manusia
C15: =P.1!B4 -> Tabel P.1.1 Dosen Tetap Perguruan Tinggi
C16: =P.1!B19 -> Tabel P.1.2 Dosen Pembimbing Utama Tugas Akhir
C17: =P.1!B40 -> Tabel P.1.3 Ekuivalen Waktu Mengajar Penuh (EWMP) Dosen Tetap Perguruan Tinggi
C18: =P.1!B52 -> Tabel P.1.4 Dosen Tidak Tetap
C19: =P.1!B62 -> Tabel P.1.5 Dosen Industri/Praktisi
C20: =P.1!B73 -> Tabel P.1.6 Pengakuan/Rekognisi DTPS
C21: =P.1!B84 -> Tabel P.1.7 Tenaga Kependidikan
B22: =L.1!B1 -> L. Lingkungan, Sumber Pembelajaran, dan Pendukung Mahasiswa
C23: =L.1!B3 -> Tabel L.1.1 Sarana dan Prasarana Belajar (Kelas)
C24: =L.1!B34 -> Tabel L.1.2 Sarana dan Prasarana Kerja/Praktek (Ruang Praktikum, Studio, dll Ruang Kerja Mahasiswa dan Dosen)
C25: =L.1!B55 -> Tabel L.1.3 Sarana dan Prasarana Deseminasi (Ruang Deseminasi Produk/Karya, Conference/Seminar, Publik Meeting atau Sebutan lain)
C26: =L.1!B76 -> Tabel L.1.4 Sarana dan Prasarana Pendukung Kesejahteraan (Ruang Bimbingan dan Konseling atau sebutan lain, Keagamaan atau sebutan lain)
C27: =L.4!B4 -> Tabel L.4.1 Waktu Tunggu Lulusan Sarjana Terapan/Magister /Doktor*
C28: =L.4!B16 -> Tabel L.4.2 Waktu Tunggu Lulusan Lulusan Diploma Dua/ Diploma Tiga Sarjana Terapan/Magister Terapan/Doktor Terapan*
B29: =A.1!B2 -> A. Akuntabilitas dan Tata Kelola
C30: =A.1!B4 -> Tabel A.1 Kemitraan dan Kerjasama
C31: ='A.5.1 '!B4 -> Tabel A.5.1 Realisasi Pemasukan Dana Program Studi Sarjana/Profesi/Magister/Doktor
C32: ='A.5.2 '!B4 -> Tabel A.5.2 Realisasi Pembiayaan Program Sarjana/Profesi/Magister/Doktor
C33: ='A.5.3'!B4 -> Tabel A.5.3 Neraca Pemasukan-Pembiayaan Program Sarjana/Profesi/Magister/Doktor
C34: ='A.5.4 Terapan'!B4 -> Tabel A.5.4 Realisasi Pemasukan Dana Program Studi Diploma Dua/Tiga/Sarjana/Magister/Doktor Terapan
C35: ='A.5.5 Terapan'!B4 -> Tabel A.5.5 Realisasi Pembiayaan Program Studi Diploma Dua/Tiga/Sarjana/Magister/Doktor Terapan
C36: ='A.5.3 Terapan'!B4 -> Tabel A.5.6 Neraca Pemasukan-Pembiayaan Program Studi Diploma Dua/Tiga/Sarjana/Magister/Doktor Terapan
B37: ='R.3.1'!B2 -> R. Riset, Pengabdian, Suasana Ilmiah
C38: R. Luaran dan dampak Penelitian
C39: ='R.3.1'!B4 -> Tabel R.3.1. Ratio Luaran/Dampak Penelitian/Pengembangan Karya/Inovasi DTPS, Mahasiswa Sarjana/Profesi/Magister/Doktoral
C40: ='R.3.2'!B4 -> Tabel R.3.2. Ratio Luaran/Dampak Penelitian/Pengembangan Karya/Inovasi DTPS, Mahasiswa Diploma/Sarjana Terapan/Profesi Terapan/Magister Terapan/Doktoral Terapan
C41: ='R.6.1'!B4 -> Tabel R.6.1. Ratio Luaran/Dampak Penelitian/Pengembangan Karya/Inovasi DTPS, Mahasiswa Sarjana/Profesi/Magister/Doktoral
...

Sheet D.1
B2: D. Deferensiasi Misi
B4: Tabel D.1 Daftar Program Studi di Unit Pengelola Program Studi (UPPS)
B5: No | C5: Jenis Program Studi | D5: Nama Program Studi | E5: No. SK. Pendirian | F5: Akreditasi Program Studi
F6: Lembaga Akreditasi | G6: Status | H6: No. dan Tgl SK | I6: Tgl Kadaluarsa (HH/BB/TTTT)
B7: 1 | C7: 2 | D7: 3 | E7: 4 | F7: 5 | G7: 6 | H7: 7 | I7: 8
B8: 1
B9: 2
B10: 3
B11: 4
B12: 5
B13: 6

Sheet E.1
B2: E. Edukasi, Sistem Evaluasi, dan Capaian Pembelajaran
B4: Tabel E.1.1 Tabel Mahasiswa Penuh Waktu | R4: Tabel E.1.2 Tabel Mahasiswa Asing
B5: Tahun Akademik (Angkatan) | C5: Admisi Mahasiswa | E5: Jumlah Mahasiswa Teregistrasi | I5: Jumlah Mahasiswa Teregistrasi | R5: Tahun Akademik (Angkatan) | S5: Jumlah Mahasiswa Teregistrasi | T5: Penuh Waktu | U5: Tidak Penuh Waktu
C6: Daya Tampung | D6: Pendaftar | E6: Lulus Seleksi | F6: Afirmasi | G6: Tranfer | H6: Asing | I6: Aktif | J6: Tidak Aktif | K6: Lulus | L6: Gagal | N6: Kolom periksa Kolom ini harus nol | T6: Jumlah mahasiswa penuh waktu (tabel E.1.1) | U6: Jumlah mahasiswa berdurasi 1 semester atau lebih | V6: Jumlah mahasiswa asing periode pendek dengan kredit | W6: Mahasiswa asing dengan aktivitas tanpa kredit
B7: 1 | C7: 2 | D7: 3 | E7: 4 | F7: 5 | G7: 6 | H7: 7 | I7: 8 | J7: 9 | K7: 10 | L7: 11 | R7: 1 | S7: 2 | T7: 3 | U7: 4 | V7: 5 | W7: 6
B8: TS-4 | C8: 25 | D8: 100 | E8: 20 | F8: 1 | G8: 1 | H8: 1 | I8: 2 | J8: 1 | K8: 19 | L8: 1 | N8: =E8+F8+G8+H8-I8-J8-K8-L8 -> 0 | R8: TS-4 | S8: =(E8+F8+G8+H8) -> 23 | T8: 1 | U8: 2 | V8: 10 | W8: 5
B9: TS-3 | C9: 25 | D9: 200 | E9: 20 | F9: 1 | G9: 1 | H9: 1 | I9: 10 | J9: 1 | K9: 10 | L9: 2 | N9: =E9+F9+G9+H9-I9-J9-K9-L9 -> 0 | R9: TS-3 | S9: =(E9+F9+G9+H9) -> 23 | T9: 1 | U9: 2 | V9: 10 | W9: 5
B10: TS-2 | C10: 25 | D10: 239 | E10: 20 | F10: 1 | G10: 1 | H10: 1 | I10: 20 | J10: 1 | K10: 0 | L10: 2 | N10: =E10+F10+G10+H10-I10-J10-K10-L10 -> 0 | R10: TS-2 | S10: =(E10+F10+G10+H10) -> 23 | T10: 1 | U10: 2 | V10: 10 | W10: 5
B11: TS-1 | C11: 25 | D11: 333 | E11: 20 | F11: 2 | G11: 2 | H11: 2 | I11: 20 | J11: 2 | K11: 0 | L11: 4 | N11: =E11+F11+G11+H11-I11-J11-K11-L11 -> 0 | R11: TS-1 | S11: =(E11+F11+G11+H11) -> 26 | T11: 2 | U11: 2 | V11: 10 | W11: 5
B12: TS | C12: 25 | D12: 588 | E12: 20 | F12: 2 | G12: 2 | H12: 2 | I12: 20 | J12: 2 | K12: 4 | L12: 0 | N12: =E12+F12+G12+H12-I12-J12-K12-L12 -> 0 | R12: TS | S12: =(E12+F12+G12+H12) -> 26 | T12: 2 | U12: 2 | V12: 10 | W12: 5
B13: Jumlah | D13: =SUM(D8:D12) -> 1460 | E13: =SUM(E8:E12) -> 100 | F13: =SUM(F8:F12) -> 7 | G13: =SUM(G8:G12) -> 7 | H13: =SUM(H8:H12) -> 7 | I13: =SUM(I8:I12) -> 72 | J13: =SUM(J8:J12) -> 7 | K13: =SUM(K8:K12) -> 33 | L13: =SUM(L8:L12) -> 9 | R13: Jumlah | S13: =SUM(S8:S12) -> 121 | T13: =SUM(T8:T12) -> 7 | U13: =SUM(U8:U12) -> 10 | V13: =SUM(V8:V12) -> 50 | W13: =SUM(W8:W12) -> 25
B14: Rekapitulasi | E14: =SUM(E13:H13) -> 121 | I14: =SUM(I13:L13) -> 121
B16: Keterangan
B17: TS = Tahun akademik penuh terakhir saat pengajuan usulan akreditasi.
B21: Tabel E.1.3 Tabel Analisis
C22: Rasio keketatan (%) | D22: Rasio Inklusifitas (%) | E22: Rasio keberhasilan studi (%) | F22: Rasio efektifitas studi (%) | G22: Rasio rekognisi internasional (%)
B23: TS-4 | C23: =E8/D8% -> 20 | D23: =F8/E8% -> 5 | E23: =K8/(E8+F8+G8)% -> 86.363636 | F23: =(I8+K8)/(E8+F8+G8)% -> 95.454545 | G23: =(T8+U8+V8+W8)/S8% -> 78.26087
B24: TS-3 | C24: =E9/D9% -> 10 | D24: =F9/E9% -> 5 | E24: =K9/(E9+F9+G9)% -> 45.454545 | F24: =(I9+K9)/(E9+F9+G9)% -> 90.909091 | G24: =(T9+U9+V9+W9)/S9% -> 78.26087
B25: TS-2 | C25: =E10/D10% -> 8.3682008 | D25: =F10/E10% -> 5 | E25: =K10/(E10+F10+G10)% -> 0 | F25: =(I10+K10)/(E10+F10+G10)% -> 90.909091 | G25: =(T10+U10+V10+W10)/S10% -> 78.26087
B26: TS-1 | C26: =E11/D11% -> 6.006006 | D26: =F11/E11% -> 10 | E26: =K11/(E11+F11+G11)% -> 0 | F26: =(I11+K11)/(E11+F11+G11)% -> 83.333333 | G26: =(T11+U11+V11+W11)/S11% -> 73.076923
B27: TS | C27: =E12/D12% -> 3.4013605 | D27: =F12/E12% -> 10 | E27: =K12/(E12+F12+G12)% -> 16.666667 | F27: =(I12+K12)/(E12+F12+G12)% -> 100 | G27: =(T12+U12+V12+W12)/S12% -> 73.076923
C29: Persentase lulus seleksi [4] terhadap pendaftar [3] | D29: Persentase lulus afirmasi [5] terhadap lulus seleksi [4] | E29: Persentase mahasiswa lulus [9] terhadap mahasiswa teregistrasi [4+5+6]] | F29: Persentase mahasiswa aktif dan lulus [7+9] terhadap mahasiswa teregistrasi [4+5+6]] | G29: Persentase mahasiswa berasal dari luar negeri (asing) untuk masa studi penuh [7] ditambah dengan mahasiswa tidak penuh waktu dibagi cacah mahasiswa teregistrasi

Sheet E.2
B2: E. Edukasi, Sistem Evaluasi, dan Capaian Pembelajaran
B4: Tabel E.2.1 Rekapitulasi Rencana Pembelajaran Semester
B5: Nama Mata Kuliah | C5: Kode | D5: Semester | E5: Besar Kredit (sks) | F5: Model Pembelajaran | G5: Lama Tatap Muka (Menit) | H5: Sifat (Wajib/Pilihan) | I5: Bukti Rencana Pembelajaran Semester
B6: 1 | C6: 2 | D6: 3 | E6: 4 | F6: 5 | G6: 6 | H6: 7 | I6: 8
B7: Desain Produk 1 | C7: D.101 | D7: 3 | E7: 2 | F7: Kelas | G7: 100 | H7: Wajib | I7: Tautan
B8: Desain Produk 2 | C8: D.102 | D8: 4 | E8: 3 | F8: Studio | G8: 150 | H8: Wajib | I8: Tautan
B9: Komunikasi Desain | C9: D.103 | F9: Praktikum
B10: Teori Perencanaan | C10: PWK.101 | F10: Kelas
B11: Studio Perencanaan Wilayah | C11: PWK.102 | F11: Studio
B12: Ekonomi Sumberdaya Lingkungan | C12: IL.101 | F12: Kuliah lapangan
B13: Analisis Dampak Lingkungan | C13: IL.102 | F13: Studio,Praktikum
B14: Pengantar Arsitektur | C14: AR.101 | F14: Kelas
B15: Konstruksi Bangungan | C15: AR.102 | F15: Praktikum
B16: dst
B17: Tugas Akhir/Thesis/Desertasi* | F17: Studio,Praktikum

Sheet E.3
B2: E. Edukasi, Sistem Evaluasi, dan Capaian Pembelajaran
B4: Tabel E.3.1 Rekapitulasi Kinerja Perkuliahan
B5: Nama Mata Kuliah | C5: Kode | D5: Rekaman Transaksi Perkuliahan (hanya untuk TS) | H5: Evaluasi | I5: Tindak Lanjut
D6: Jumlah Peserta | E6: Pengembil Ulang (retaker) | F6: Kehadiran Peserta (%) | G6: Rasio Kelulusan* (%)
B7: 1 | C7: 2 | D7: 3 | E7: 4 | F7: 5 | G7: 6 | H7: 7 | I7: 8
B8: Desain Produk 1 | C8: D.101 | D8: 30 | E8: 10 | F8: 0.6 | G8: 0.75 | H8: 25% ketidaklulusan karena mahasiswa membolos karena tabrakan jadwal, 10 mahasiswa pengambil ulang lulus 50% | I8: Perbaikan Jadwal kuliah, Penambahan Pendampingan Jam Asisten untuk Retaker
B9: Desain Produk 2 | C9: D.102
B10: Komunikasi Desain | C10: D.103
B11: Teori Perencanaan | C11: PWK.101
B12: Studio Perencanaan Wilayah | C12: PWK.102
B13: Ekonomi Sumberdaya Lingkungan | C13: IL.101
B14: Analisis Dampak Lingkungan | C14: IL.102
B15: Pengantar Arsitektur | C15: AR.101
B16: Konstruksi Bangungan | C16: AR.102
B17: dst
B18: Tugas Akhir/Thesis/Desertasi* | D18: 100 | E18: 90 | G18: 0.1 | H18: Sebanyak 90% mahasiswa yang mengambil tugas akhir tidak dapat lulus tepat waktu karena : - kendala dalam asistensi - Publikasi | I18: Penambahan Pendampingan Jam pembimbingan untuk asistensi dan publikasi
B20: *Ratio Kelulusan untuk matakuliah tugas akhir/Thesis/Desertasi
B21: diesesuaikan dengan durasi standar waktu kuliah

Sheet E.4
B2: E. Edukasi, Sistem Evaluasi, dan Capaian Pembelajaran | I2: E. Edukasi, Sistem Evaluasi, dan Capaian Pembelajaran
B4: Tabel E.4.1 Kesesuaian Capaian Pembelajaran Lulusan dengan Kebutuhan Masyarakat | G4: Kolom pemisah | I4: Tabel E.4.2 Matrik Capaian Pembelajaran Matakuliah | R4: Kolom pemisah | T4: Tabel E.4.3 Penghargaan Eksternal Karya Mahasiswa
B5: Deskripsi Capaian Pembelajaran (CPL) | C5: Kode CPL | D5: Indikator Capaian | E5: Rujukan Kesetaraan/Rasionalitas | I5: Nama Mata Kuliah | J5: Kode | K5: Capaian Pembelajaran | P5: Keterangan | T5: Nama Mahasiswa | U5: Nomor Induk Mahasiswa (NIM) | V5: Deskripsi Penghargaan | W5: Pemberi Penghargaan | X5: Tingkatan | AA5: Peringkat | AB5: Kompetisi
K6: CPL O1 | L6: CPL O2 | M6: CPL O3 | N6: CPL O4 | O6: CPL O5 dst | X6: Wilayah | Y6: Nasional | Z6: Internasional | AA6: Peringkat | AB6: Kompetitif | AC6: Tidak Kompetitif
B7: 1 | C7: 2 | D7: 3 | E7: 4 | I7: 1 | J7: 2 | K7: 3 | L7: 4 | M7: 5 | N7: 6 | O7: 7 | P7: 8 | T7: 1 | U7: 2 | V7: 3 | W7: 4 | X7: 5 | AA7: 6 | AB7: 7
B8: Mahasiswa mampu … | C8: CPL 01 | D8: Sebutkan | E8: Rumusan Standar Nasional Pendidikan Tinggi | I8: Desain Produk 1 | J8: D.101 | K8: 0.1 | O8: 0.2 | T8: Nama Mahasiswa | U8: ld21001 | V8: lomba desain | W8: Kemenkraf | Y8: Nasional | AA8: 1 | AB8: Kompetitif
I9: Desain Produk 2 | J9: D.102 | L9: 0.1 | T9: Nama Mahasiswa | U9: ld21002
B10: Mahasiswa mampu … | C10: CPL 02 | D10: Sebutkan | E10: Rumusan dari Asosiasi Program Profesi (OP) | I10: Komunikasi Desain | J10: D.103 | L10: 0.1 | T10: Nama Mahasiswa | U10: ld21003
I11: Teori Perencanaan | J11: PWK.101 | K11: 0.3 | O11: 0.3 | T11: Nama Mahasiswa | U11: ld21004
B12: Mahasiswa mampu … | C12: CPL 03 | D12: Sebutkan | E12: Rumusan dari Asosiasi Program Studi (AUPPS) | I12: Studio Perencanaan Wilayah | J12: PWK.102 | L12: 0.1 | N12: 0.2 | T12: Nama Mahasiswa | U12: ld21005
I13: Ekonomi Sumberdaya Lingkungan | J13: IL.101 | M13: 0.2 | O13: 0.2
B14: Mahasiswa mampu … | C14: CPL 04 | D14: Sebutkan | E14: Rumusan Pengguna | I14: Analisis Dampak Lingkungan | J14: IL.102 | L14: 0.1 | N14: 0.1
I15: Pengantar Arsitektur | J15: AR.101 | M15: 0.3 | O15: 0.1
B16: Mahasiswa mampu … | C16: CPL 05 | D16: Sebutkan | E16: Rumusan Penciri Perguruan Tinggi (UPPS/Program Studi) | I16: Konstruksi Bangungan | J16: AR.102 | M16: 0.3 | O16: 0.1
I17: dst
B18: dst | I18: Tugas Akhir/Thesis/Desertasi* | K18: 0.1 | L18: 0.15 | O18: 0.1
I19: Rekapitulasi Bobot CPL | K19: 1 | L19: 1 | M19: 1 | N19: 1 | O19: 1
I21: Jumlah dari gabungan matakuliah yang mendukung satu CPL adalah 100 %

Sheet P.1
B2: P. Pengembangan Sumber Daya Manusia
B4: Tabel P.1.1 Dosen Tetap Perguruan Tinggi
B5: No. | C5: Nama Dosen | D5: NIDN | E5: Pendidikan Pascasarjana | G5: Bidang Keahlian | H5: Kesesuaian dengan Kompetensi Inti PS | I5: Jabatan Akademik | J5: Sertifikat Pendidik Profesional | K5: Sertifikat Kompetensi/ Profesi/ Industri | L5: Mata Kuliah yang Diampu pada PS yang Diakreditasi | M5: Kesesuaian Bidang Keahlian dengan Mata Kuliah yang Diampu | N5: Mata Kuliah yang Diampu pada PS Lain | Q5: Analisis Tabel P.1.1 (Kesesuaian Mata Kuliah dan Bidang Keahlian) | T5: Analisis Tabel P.1.1 (Prosentasi Dosen bersertifikasi pendidik | W5: Analisis Tabel P.1.1 (Prosentase Profesor dan Lektor Kepala)
E6: Magister/ Magister Terapan/ Spesialis | F6: Doktor/ Doktor Terapan/ Spesialis | Q6: Dosen yang mengajar tidak sesuai bidang keahlian | R6: 0 | T6: Dosen dengan Sertifikat Pendidik | U6: 4 | W6: Dosen Profesor | X6: =1 -> 1
B7: 1 | C7: 2 | D7: 3 | E7: 4 | G7: 5 | H7: 6 | I7: 7 | J7: 8 | K7: 9 | L7: 10 | M7: 11 | N7: 12 | Q7: Jumlah Dosen | R7: 4 | T7: Dosen dengan Sertifikat profesi/kompetensi | U7: 1 | W7: Dosen Lektor Kepala | X7: 1
B8: 1 | C8: Prof.Dr. Rakaka | D8: 0022134 | F8: V | G8: Desain Produk | H8: V | I8: Profesor | J8: tautan | K8: tautan | L8: Desain Produk 1 | M8: V | N8: Desain Produk 1 | Q8: Prosentasi Dosen mengajar tidak sesuai bidang keahlian | R8: =R6/R7 -> 0 | T8: Jumlah Dosen | U8: 4 | W8: Jumlah Dosen | X8: 4
B9: 2 | C9: Dr. Eng. Riki Riki | D9: 0022135 | F9: V | G9: Perencanaan Wilayah | H9: V | I9: Lektor Kepala | J9: tautan | K9: tautan | L9: Teori Perencanaan | M9: V | N9: Teori Perencanaan | T9: Prosentasi dosen dengan sertifikat pendidik | U9: =U6/U8 -> 1 | W9: Prosentasi Dosen (Profesor dan Lektor Kepala) | X9: =2/4 -> 0.5
B10: 3 | C10: Ruku Ruku, ST., MDP | D10: 0022136 | E10: v | G10: Pengelolaan Lingkungan | H10: V | I10: Lektor | J10: tautan | K10: tautan | L10: Ekonomi sumberdaya Lingkungan | M10: V | N10: Ekonomi sumberdaya Lingkungan | T10: Prosentasi dosen dengan sertifikat Profesi/kompetensi | U10: =U7/U8 -> 0.25
B11: 4 | C11: Roko Roko, ST., MT. Ph.D | D11: 0022137 | F11: V | G11: Arsitektur | H11: V | I11: Asisten Ahli | J11: tautan | K11: tautan | L11: Konstruksi Bangunan | M11: V | N11: Konstruksi Bangunan
C12: Dst
B19: Tabel P.1.2 Dosen Pembimbing Utama Tugas Akhir
B20: No. | C20: Nama Dosen | D20: Jumlah Mahasiswa yang Dibimbing | L20: Rata-rata Jumlah Bimbingan di semua Program/ Semester | Q20: Analisis Tabel P.1.2 (Distribusi dosen pembimbingan tugas akhir) | T20: Analisis Tabel P.1.2 (Distribusi dosen pembimbingan tugas akhir lebih dari 6 mahasiswa S1/S2/S3)
D21: Pada PS yang Diakreditasi | H21: Pada PS Lain pada Program yang sama di PT* | Q21: Dosen yang membimbing tugas akhir | R21: 4 | T21: Dosen yang membimbing tugas akhir lebih dari 6 mhs | U21: 4
D22: TS-2 | E22: TS-1 | F22: TS | G22: Rata-rata | H22: TS-2 | I22: TS-1 | J22: TS | K22: Rata-rata | Q22: Jumlah Dosen | R22: 4 | T22: Jumlah Dosen | U22: 4
B23: 1 | C23: 2 | D23: 3 | E23: 4 | F23: 5 | G23: 6 | H23: 7 | I23: 8 | J23: 9 | K23: 10 | L23: 11 | Q23: Prosentasi Dosen mengajar tidak sesuai bidang keahlian | R23: =R21/R22 -> 1 | T23: Prosentasi Dosen mengajar tidak sesuai bidang keahlian | U23: =U21/U22 -> 1
B24: 1 | C24: Prof.Dr. Rakaka | D24: 6 | E24: 6 | F24: 4 | G24: =AVERAGE(D24:F24) -> 5.3333333 | H24: 2 | I24: 1 | J24: 1 | K24: =AVERAGE(H24:J24) -> 1.3333333 | L24: =AVERAGE(D24:K24) -> 3.3333333
B25: 2 | C25: Dr. Eng. Riki Riki | D25: 2 | E25: 2 | F25: 2 | G25: =AVERAGE(D25:F25) -> 2 | H25: 2 | I25: 0 | J25: 1 | K25: =AVERAGE(H25:J25) -> 1 | L25: =AVERAGE(D25:K25) -> 1.5
B26: 3 | C26: Ruku Ruku, ST., MDP | D26: 3 | E26: 4 | F26: 2 | G26: =AVERAGE(D26:F26) -> 3 | H26: 2 | I26: 0 | J26: 1 | K26: =AVERAGE(H26:J26) -> 1 | L26: =AVERAGE(D26:K26) -> 2
B27: 4 | C27: Roko Roko, ST., MT. Ph.D | D27: 4 | E27: 3 | F27: 1 | G27: =AVERAGE(D27:F27) -> 2.6666667 | H27: 2 | I27: 0 | J27: 1 | K27: =AVERAGE(H27:J27) -> 1 | L27: =AVERAGE(D27:K27) -> 1.8333333
C28: Dst
B37: Pada PS Lain pada Program yang sama di PT* adalah PS dalam cakupan LAMDEPILAR
B40: Tabel P.1.3 Ekuivalen Waktu Mengajar Penuh (EWMP) Dosen Tetap Perguruan Tinggi
B41: No. | C41: Nama Dosen | D41: DTPS | E41: Ekuivalen Waktu Mengajar Penuh (EWMP) pada saat TS dalam satuan kredit semester (SKS) | L41: Rata-rata per Semester (sks) pada 3 Tahun Terakhir | Q41: Analisis Tabel P.1.3 (dosen dengan EWPM Kurang dari 12 SKS) | T41: Analisis Tabel P.1.3 (dosen dengan EWPM Kurang lebih dari 20 SKS)
E42: PS yang Diakreditasi | F42: PS Lain di dalam PT | G42: PS Lain di luar PT | H42: Penelitian | I42: PkM | J42: Tugas Tambahan dan/atau Penunjang | K42: Jumlah (sks) | Q42: Dosen dengan EMPM kurang dari 12 SKS | R42: 0 | T42: Dosen dengan EMPM lebih dari 20 SKS | U42: 0
Q43: Jumlah Dosen | R43: 4 | T43: Jumlah Dosen | U43: 4
B44: 1 | C44: 2 | D44: 3 | E44: 4 | F44: 5 | G44: 6 | H44: 7 | I44: 8 | J44: 9 | K44: 10 | L44: 11 | Q44: Prosentasi Dosen mengajar tidak sesuai bidang keahlian | R44: =R42/R43 -> 0 | T44: Prosentasi Dosen mengajar tidak sesuai bidang keahlian | U44: =U42/U43 -> 0
B45: 1 | C45: Prof.Dr. Rakaka | D45: V | E45: 6 | F45: 2 | G45: 0 | H45: 4 | I45: 2 | J45: 2 | K45: =SUM(E45:J45) -> 16 | L45: 15.4
B46: 2 | C46: Dr. Eng. Riki Riki | D46: V | E46: 6 | F46: 1 | G46: 0 | H46: 3 | I46: 2 | J46: 4 | K46: =SUM(E46:J46) -> 16 | L46: 13.2
B47: 3 | C47: Ruku Ruku, ST., MDP | D47: v | E47: 6 | F47: 1 | G47: 1 | H47: 2 | I47: 2 | J47: 0 | K47: =SUM(E47:J47) -> 12 | L47: 14.7
B48: 4 | C48: Roko Roko, ST., MT. Ph.D | D48: V | E48: 6 | F48: 1 | G48: 1 | H48: 2 | I48: 2 | J48: 0 | K48: =SUM(E48:J48) -> 12 | L48: 14.9
C49: Dst
B52: Tabel P.1.4 Dosen Tidak Tetap
B53: No. | C53: Nama Dosen | D53: No.Induk Kependudukan | E53: Pendidikan Pasca Sarjana | F53: Bidang Keahlian | G53: Jabatan Akademik | H53: Sertifikat Pendidik Profesional | I53: Sertifikat Kompetensi/ Profesi/ Industri | J53: Mata Kuliah yang Diampu pada PS yang Diakreditasi | K53: Kesesuaian Bidang Keahlian dengan Mata Kuliah yang Diampu
B54: 1 | C54: 2 | D54: 3 | E54: 4 | F54: 5 | G54: 6 | H54: 7 | I54: 8 | J54: 9 | K54: 10 | Q54: Analisis Tabel P.1.4 (dosen tidak tetap)
B55: 1 | Q55: Dosen tidak tetap | R55: 0
B56: 2 | Q56: Jumlah Dosen | R56: 4
C57: Dst | Q57: Prosentasi Dosen tidak tetap | R57: =R55/R56 -> 0
B62: Tabel P.1.5 Dosen Industri/Praktisi
B63: Diisi oleh pengusul dari Program Studi pada program Diploma Tiga/Sarjana Terapan
B64: No. | C64: Nama Dosen Industri/Praktisi | D64: No.Induk Kependudukan | E64: Perusahaan/ Industri | F64: Pendidikan Tertinggi | G64: Bidang Keahlian | H64: Sertifikat Profesi/ Kompetensi/ Industri | I64: Mata Kuliah yang Diampu | J64: Bobot Kredit (sks)
...

Sheet L.1
B1: L. Lingkungan, Sumber Pembelajaran, dan Pendukung Mahasiswa
B3: Tabel L.1.1 Sarana dan Prasarana Belajar (Kelas)
B4: No. | C4: Nama Sarana dan Prasarana | D4: Lokasi | E4: Ukuran | F4: Acuan Standar | H4: Kondisi Eksisting
F5: Nama Standar | G5: Occupancy | H5: Standar ditetapkan | I5: Ukuran
B6: 1 | C6: 2 | D6: 3 | E6: 4 | F6: 5 | G6: 6 | H6: 7 | I6: 8
B7: 1 | C7: Perabot Utama
C8: 1. Meja dan kursi terpadu (singgle table chair) | D8: B.101 | E8: tinggi keseluruhan 80 cm; tinggi dudukan 45 cm; ukuran papan meja 50 cm; ukuran dudukan 40 cm | F8: - SNI ISO 6385:2016 (Prinsip Ergonomi) | G8: 1,5 m2 - 2 m2 per mahasiswa | H8: 2 m2 | I8: Luas minimal 50 * 2m2/mahasiswa = 100 m 2
F9: - SNI ISO 5970:2012 | G9: 40-60 mahasiswa | H9: 50 mahasiswa | I9: Ukuran Kelas Mininal = 10 m x10m x 3 M
F10: -Standar Kementerian Pendidikan, Kebudayaan, Riset, dan Teknologi (Kemendikbudristek) untuk fasilitas kampus | G10: jarak antar baris 90 cm, tinggi ruangan 3 meter
C11: 2. Meja dan Kursi kuliah Dosen
B12: 2 | C12: Peralatan dan Media Pembelajaran
C13: 1. LCD proyektor dan screen
C14: 2. Komputer Kelas
C15: 3. Papan tulis
C16: 4. Sistem Suara
B17: 3 | C17: Perlengkapan Kenyamanan
C18: 1. Pengkondisian Udara (AC)
C19: 2. Sistem Pencahayaan
C20: 3. Sistem Kelistrikan (stop kontak)
C21: 4. Akses Internet (wifi)
B22: 4 | C22: Perlengkapan Adminsitrasi dan Operasional
C23: 1. Jam dinding
C24: 2. Papan Informasi/Jadwal
C25: 3. Sistem Absendi Digital
C26: 4. Tempat Sampah
B27: 5 | C27: Perlengkapan Keamanan dan Keselamatan (K3)
C28: 1. Alat Pemadam Api Ringan (APAR)
C29: 2. Kamera CCTV
C30: 3. Petunjuk Jalur Evakuasi
B31: *Standar dan Ukuran dapat mengacu pada peratuan kementerian, ISO dan Peraturan yang Sesuai Untuk Ruang Kuliah
B34: Tabel L.1.2 Sarana dan Prasarana Kerja/Praktek (Ruang Praktikum, Studio, dll Ruang Kerja Mahasiswa dan Dosen)
B35: No. | C35: Nama Sarana dan Prasarana | D35: Lokasi | E35: Ukuran | F35: Acuan Standar | H35: Kondisi Eksisting
F36: Nama Standar | G36: Occupancy | H36: Standar ditetapkan | I36: Ukuran
B37: 1 | C37: 2 | D37: 3 | E37: 4 | F37: 5 | G37: 6 | H37: 7 | I37: 8
B55: Tabel L.1.3 Sarana dan Prasarana Deseminasi (Ruang Deseminasi Produk/Karya, Conference/Seminar, Publik Meeting atau Sebutan lain)
B56: No. | C56: Nama Sarana dan Prasarana | D56: Lokasi | E56: Ukuran | F56: Acuan Standar | H56: Kondisi Eksisting
F57: Nama Standar | G57: Occupancy | H57: Standar ditetapkan | I57: Ukuran
B58: 1 | C58: 2 | D58: 3 | E58: 4 | F58: 5 | G58: 6 | H58: 7 | I58: 8
B76: Tabel L.1.4 Sarana dan Prasarana Pendukung Kesejahteraan (Ruang Bimbingan dan Konseling atau sebutan lain, Keagamaan atau sebutan lain)
B77: NO | C77: Nama Sarana dan Prasarana | D77: Lokasi | E77: Ukuran | F77: Acuan Standar | H77: Kondisi Eksisting
...

Sheet L.4
B2: L. Lingkungan, Sumber Pembelajaran, dan Pendukung Mahasiswa
B4: Tabel L.4.1 Waktu Tunggu Lulusan Sarjana Terapan/Magister /Doktor*
B5: Tahun Lulus | C5: Jumlah Lulusan | D5: Jumlah Lulusan Terlacak | E5: Jumlah Lulusan yang dipesan sebelum lulus | F5: Jumlah Lulusan Terlacak dengan waktu tunggu kerja (WT) mendapatkan pekerjaan
F6: WT< 3 Bulan | G6: 3 Bulan≤ WT ≤ 6 Bulan | H6: WT> 6 Bulan | J6: Analisis Tabel L.4.1
B7: 1 | C7: 2 | D7: 3 | E7: 4 | F7: 5 | G7: 6 | H7: 7 | J7: Rerata Jumlah Lulusan | K7: 10
B8: TS-2 | C8: 10 | D8: 4 | E8: 0 | F8: 0 | G8: 1 | H8: 3 | J8: Rerata Prosentasi Jumlah lulusan mahasiswa dengan WT<3 | K8: =F11/K7 -> 0
B9: TS-1 | C9: 10 | D9: 5 | E9: 0 | F9: 0 | G9: 1 | H9: 4 | J9: Rerata Prosentase Jumlah lulusan mahasiswa dengan 3 Bulan≤ WT ≤ 6 Bulan | K9: =G11/K7 -> 0.13333333
B10: TS | C10: 10 | D10: 6 | E10: 0 | F10: 0 | G10: 2 | H10: 6 | J10: Rerata Prosentase Jumlah lulusan mahasiswa dengan WT> 6 Bulan | K10: =H11/K7 -> 0.43333333
B11: Rerata | C11: =SUM(C8:C10)/3 -> 10 | D11: =SUM(D8:D10)/3 -> 5 | E11: =SUM(E8:E10) -> 0 | F11: =SUM(F8:F10) -> 0 | G11: =SUM(G8:G10)/3 -> 1.3333333 | H11: =SUM(H8:H10)/3 -> 4.3333333
B13: *di isi untuk setiap program studi
B16: Tabel L.4.2 Waktu Tunggu Lulusan Lulusan Diploma Dua/ Diploma Tiga Sarjana Terapan/Magister Terapan/Doktor Terapan*
B17: Tahun Lulus | C17: Jumlah Lulusan | D17: Jumlah Lulusan Terlacak | E17: Jumlah Lulusan yang dipesan sebelum lulus | F17: Jumlah Lulusan Terlacak dengan waktu tunggu kerja (WT) mendapatkan pekerjaan
F18: WT< 3 Bulan | G18: 3 Bulan≤ WT ≤ 6 Bulan | H18: WT> 6 Bulan | J18: Analisis Tabel L.4.1
B19: 1 | C19: 2 | D19: 3 | E19: 4 | F19: 5 | G19: 6 | H19: 7 | J19: Rerata Jumlah Lulusan | K19: 10
B20: TS-2 | C20: 10 | D20: 4 | E20: 0 | F20: 0 | G20: 1 | H20: 3 | J20: Rerata Prosentasi Jumlah lulusan mahasiswa dengan WT<3 | K20: =F23/K19 -> 0
B21: TS-1 | C21: 10 | D21: 5 | E21: 0 | F21: 0 | G21: 1 | H21: 4 | J21: Rerata Prosentase Jumlah lulusan mahasiswa dengan 3 Bulan≤ WT ≤ 6 Bulan | K21: =G23/K19 -> 0.13333333
B22: TS | C22: 10 | D22: 6 | E22: 0 | F22: 0 | G22: 2 | H22: 6 | J22: Rerata Prosentase Jumlah lulusan mahasiswa dengan WT> 6 Bulan | K22: =H23/K19 -> 0.43333333
B23: Rerata | C23: =SUM(C20:C22)/3 -> 10 | D23: =SUM(D20:D22)/3 -> 5 | E23: =SUM(E20:E22) -> 0 | F23: =SUM(F20:F22) -> 0 | G23: =SUM(G20:G22)/3 -> 1.3333333 | H23: =SUM(H20:H22)/3 -> 4.3333333
B25: *di isi untuk setiap program studi

Sheet A.1
B2: A. Akuntabilitas dan Tata Kelola
B4: Tabel A.1 Kemitraan dan Kerjasama
B5: No. | C5: Lembaga Mitra | D5: Tingkat | G5: Judul Kegiatan Kerjasama | H5: Manfaat bagi PS yang Diakreditasi | I5: Tanggal Awal Kerjasama (HH/BB/TTTT) | J5: Tanggal Akhir Kerjasama (HH/BB/TTTT) | K5: Durasi (dalam tahun) | L5: Status Kerjasama | M5: Bukti Kerjasama
D6: Internasional | E6: Nasional | F6: Lokal/Wilayah | O6: Analisis Tabel L.4.1
B7: 1 | C7: 2 | D7: 3 | E7: 4 | F7: 5 | G7: 6 | H7: 7 | I7: 8 | J7: 9 | K7: 10 | L7: 11 | M7: 12 | O7: Jumlah Kemitraan/Kerjasama | P7: 5
B8: 1 | C8: Dana dana | E8: 1 | G8: Pengabdian Masyarakat di Desa Y | K8: 1 | L8: 1 | O8: Prosentasi Jumlah kemitraan/kerjasama Wilayah | P8: =2/5 -> 0.4
B9: 2 | C9: Mitra Dana | E9: 1 | G9: Penelitian Berbasis Model AA | O9: Prosentasi Jumlah kemitraan/kerjasama Nasional | P9: =2/5 -> 0.4
B10: 3 | C10: Mandiri Sejahtera | F10: 1 | G10: Pembuaatan Model Ajar Berbasis Proyek | O10: Prosentasi Jumlah kemitraan/kerjasama Internasional | P10: =1/5 -> 0.2
B11: 4 | C11: Pemerintah Kota AA | F11: 1 | G11: Kajian Kelembagaan Lingkungan
B12: 5 | C12: Fundrise | D12: 1 | G12: Internasional Expo for Building and Design
C13: Dst

Sheet A.5.1 
B2: A. Akuntabilitas dan Tata Kelola
B3: A.5 Keuangan, Keberlanjutan, dan Mitigasi Risiko
B4: Tabel A.5.1 Realisasi Pemasukan Dana Program Studi Sarjana/Profesi/Magister/Doktor
B5: Realisasi Pemasukan Program Sarjana
B6: No. | C6: Pemasukan Dana | D6: Unit Pengelola Program Studi IDR x Juta | H6: Program Studi IDR x Juta | L6: Ratio Pemasukan (PS dgn Kelolaan RKAT UPPS)
D7: TS-2 | E7: TS-1 | F7: TS | G7: Rata-rata | H7: TS-2 | I7: TS-1 | J7: TS | K7: Rata-rata
B8: 1 | C8: 2 | D8: 3 | E8: 4 | F8: 5 | G8: 6 | H8: 3 | I8: 4 | J8: 5 | K8: 6 | L8: 7
B9: A | C9: Realisasi Pemasukan Dana UKT
B10: 1 | C10: UKT Profesi Bergelar | G10: =SUM(D10:F10)/3 -> 0 | K10: =SUM(H10:J10)/3 -> 0 | L10: =K10/$G$224 -> #DIV/0!
B11: 2 | C11: UKT Profesi Non Gelar | G11: =SUM(D11:F11)/3 -> 0 | K11: =SUM(H11:J11)/3 -> 0 | L11: =K11/$G$224 -> #DIV/0!
C12: Jumlah Pemasukan Dana UKT | D12: =SUM(D10:D11) -> 0 | E12: =SUM(E10:E11) -> 0 | F12: =SUM(F10:F11) -> 0 | G12: =SUM(D12:F12)/3 -> 0 | H12: =SUM(H10:H11) -> 0 | I12: =SUM(I10:I11) -> 0 | J12: =SUM(J10:J11) -> 0 | K12: =SUM(H12:J12)/3 -> 0 | L12: =K12/$G$224 -> #DIV/0!
B13: B | C13: Realisasi Pemasukan Dana Penelitian, Perancangan, Pengembangan Karya/Inovasi Karya
B14: 3 | C14: Penelitian Mhs Mandiri (Tugas Akhir, Proyek, dll) | G14: =SUM(D14:F14)/3 -> 0 | K14: =SUM(H14:J14)/3 -> 0 | L14: =K14/$G$224 -> #DIV/0!
B15: 4 | C15: Penelitian DTPS Mandiri | G15: =SUM(D15:F15)/3 -> 0 | K15: =SUM(H15:J15)/3 -> 0 | L15: =K15/$G$224 -> #DIV/0!
B16: 5 | C16: Penelitian (Kolaborasi DTPS dan Mhs ) Mandiri | G16: =SUM(D16:F16)/3 -> 0 | K16: =SUM(H16:J16)/3 -> 0 | L16: =K16/$G$224 -> #DIV/0!
B17: 6 | C17: Penelitian Program Universitas/Institute | G17: =SUM(D17:F17)/3 -> 0 | K17: =SUM(H17:J17)/3 -> 0 | L17: =K17/$G$224 -> #DIV/0!
B18: 7 | C18: Penelitian Internasional | G18: =SUM(D18:F18)/3 -> 0 | K18: =SUM(H18:J18)/3 -> 0 | L18: =K18/$G$224 -> #DIV/0!
C19: Jumlah Realisasi Pemasukan Dana Penelitian, Perancangan, Pengembangan Karya/Inovasi Karya | D19: =SUM(D14:D18) -> 0 | E19: =SUM(E13:E18) -> 0 | F19: =SUM(F13:F18) -> 0 | G19: =SUM(D19:F19)/3 -> 0 | H19: =SUM(H13:H18) -> 0 | I19: =SUM(I13:I18) -> 0 | J19: =SUM(J13:J18) -> 0 | K19: =SUM(H19:J19)/3 -> 0 | L19: =K19/$G$224 -> #DIV/0!
B20: C | C20: Realisasi Pemasukan Dana PkM
B21: 31 | C21: PkM Mhs Mandiri (Program Perorangan, Kelompok, Himpunan, dll) | G21: =SUM(D21:F21)/3 -> 0 | K21: =SUM(H21:J21)/3 -> 0 | L21: =K21/$G$224 -> #DIV/0!
B22: 32 | C22: PkM DTPS Mandiri | G22: =SUM(D22:F22)/3 -> 0 | K22: =SUM(H22:J22)/3 -> 0 | L22: =K22/$G$224 -> #DIV/0!
B23: 33 | C23: PkM (Kolaborasi DTPS dan Mhs ) Mandiri | G23: =SUM(D23:F23)/3 -> 0 | K23: =SUM(H23:J23)/3 -> 0 | L23: =K23/$G$224 -> #DIV/0!
B24: 34 | C24: PkM Program Universitas/Institute | G24: =SUM(D24:F24)/3 -> 0 | K24: =SUM(H24:J24)/3 -> 0 | L24: =K24/$G$224 -> #DIV/0!
B25: 35 | C25: PkM Internasional | G25: =SUM(D25:F25)/3 -> 0 | K25: =SUM(H25:J25)/3 -> 0 | L25: =K25/$G$224 -> #DIV/0!
C26: Jumlah Realisasi Pemasukan Dana PkM | D26: =SUM(D21:D25) -> 0 | E26: =SUM(E21:E25) -> 0 | F26: =SUM(F21:F25) -> 0 | G26: =SUM(D26:F26)/3 -> 0 | H26: =SUM(H21:H25) -> 0 | I26: =SUM(I21:I25) -> 0 | J26: =SUM(J21:J25) -> 0 | K26: =SUM(H26:J26)/3 -> 0 | L26: =K26/$G$224 -> #DIV/0!
B27: D | C27: Realisasi Pemasukan Dana Kerjasama
B28: 36 | C28: Pemasukan Dana Kerjasama Pendidikan Bergelar | G28: =SUM(D28:F28)/3 -> 0 | K28: =SUM(H28:J28)/3 -> 0 | L28: =K28/$G$224 -> #DIV/0!
B29: 37 | C29: Pemasukan Dana Kerjasama Pendidikan Non gelar | G29: =SUM(D29:F29)/3 -> 0 | K29: =SUM(H29:J29)/3 -> 0 | L29: =K29/$G$224 -> #DIV/0!
C30: Jumlah Realisasi Pemasukan Kerjasama Pendidikan | D30: =SUM(D28:D29) -> 0 | E30: =SUM(E28:E29) -> 0 | F30: =SUM(F28:F29) -> 0 | G30: =SUM(D30:F30)/3 -> 0 | H30: =SUM(H28:H29) -> 0 | I30: =SUM(I28:I29) -> 0 | J30: =SUM(J28:J29) -> 0 | K30: =SUM(H30:J30)/3 -> 0 | L30: =K30/$G$224 -> #DIV/0!
B31: F | C31: Realisasi Pemasukan Dana Kerjasama Penelitian, Perancangan, Pengembangan Karya, Inovasi Karya
B32: 38 | C32: Kerjasama Penelitian Skala Lokal (Kab/Kota) | G32: =SUM(D32:F32)/3 -> 0 | K32: =SUM(H32:J32)/3 -> 0 | L32: =K32/$G$224 -> #DIV/0!
B33: 39 | C33: Kerjasama Penelitian Skala Wilayah (Provinsi) | G33: =SUM(D33:F33)/3 -> 0 | K33: =SUM(H33:J33)/3 -> 0 | L33: =K33/$G$224 -> #DIV/0!
B34: 40 | C34: Kerjasama Penelitian Skala Nasional | G34: =SUM(D34:F34)/3 -> 0 | K34: =SUM(H34:J34)/3 -> 0 | L34: =K34/$G$224 -> #DIV/0!
B35: 41 | C35: Kerjasama Penelitian Skala Internasional | G35: =SUM(D35:F35)/3 -> 0 | K35: =SUM(H35:J35)/3 -> 0 | L35: =K35/$G$224 -> #DIV/0!
C36: Jumlah Realisasi Pemasukan Dana Kerjasama Penelitian, Perancangan, Pengembangan Karya, Inovasi Karya | D36: =SUM(D32:D35) -> 0 | E36: =SUM(E32:E35) -> 0 | F36: =SUM(F32:F35) -> 0 | G36: =SUM(D36:F36)/3 -> 0 | H36: =SUM(H32:H35) -> 0 | I36: =SUM(I32:I35) -> 0 | J36: =SUM(J32:J35) -> 0 | K36: =SUM(H36:J36)/3 -> 0 | L36: =K36/$G$224 -> #DIV/0!
B37: G | C37: Realisasi Pemasukan Dana Kerjasama PkM
B38: 38 | C38: Kerjasama Penelitian Skala Lokal (Kab/Kota) | G38: =SUM(D38:F38)/3 -> 0 | K38: =SUM(H38:J38)/3 -> 0 | L38: =K38/$G$224 -> #DIV/0!
B39: 39 | C39: Kerjasama Penelitian Skala Wilayah (Provinsi) | G39: =SUM(D39:F39)/3 -> 0 | K39: =SUM(H39:J39)/3 -> 0 | L39: =K39/$G$224 -> #DIV/0!
B40: 40 | C40: Kerjasama Penelitian Skala Nasional | G40: =SUM(D40:F40)/3 -> 0 | K40: =SUM(H40:J40)/3 -> 0 | L40: =K40/$G$224 -> #DIV/0!
B41: 41 | C41: Kerjasama Penelitian Skala Internasional | G41: =SUM(D41:F41)/3 -> 0 | K41: =SUM(H41:J41)/3 -> 0 | L41: =K41/$G$224 -> #DIV/0!
...

Sheet A.5.2 
B2: A. Akuntabilitas dan Tata Kelola
B3: A.5 Keuangan, Keberlanjutan, dan Mitigasi Risiko
B4: Tabel A.5.2 Realisasi Pembiayaan Program Sarjana/Profesi/Magister/Doktor
B5: Realisasi Pembiayaan Program Sarjana
B6: No. | C6: Jenis Biaya | D6: Unit Pengelola Program Studi IDR x Juta | H6: Program Studi IDR x Juta | L6: Ratio Biaya (PS dgn Kelolaan UPPS)
D7: TS-2 | E7: TS-1 | F7: TS | G7: Rata-rata | H7: TS-2 | I7: TS-1 | J7: TS | K7: Rata-rata
B8: 1 | C8: 2 | D8: 3 | E8: 4 | F8: 5 | G8: 6 | H8: 3 | I8: 4 | J8: 5 | K8: 6 | L8: 7
B9: 1 | C9: Biaya Operasional Pendidikan Bergelar
C10: a. Biaya Dosen (Gaji, Honor) | G10: =AVERAGE(D10:F10) -> #DIV/0! | K10: =AVERAGE(H10:J10) -> #DIV/0! | L10: =K10/$G$119 -> #DIV/0!
C11: b. Biaya Tenaga Kependidikan (Gaji, Honor) | G11: =AVERAGE(D11:F11) -> #DIV/0! | K11: =AVERAGE(H11:J11) -> #DIV/0! | L11: =K11/$G$119 -> #DIV/0!
C12: c. Biaya Operasional Pembelajaran (Bahan dan Peralatan Habis Pakai) | G12: =AVERAGE(D12:F12) -> #DIV/0! | K12: =AVERAGE(H12:J12) -> #DIV/0! | L12: =K12/$G$119 -> #DIV/0!
C13: d. Biaya Operasional Tidak Langsung (Listrik, Gas, Air, Pemeliharaan Gedung, Pemeliharaan Sarana, Uang Lembur, Telekomunikasi, Konsumsi, Transport Lokal, Pajak, Asuransi, dll.) | G13: =AVERAGE(D13:F13) -> #DIV/0! | K13: =AVERAGE(H13:J13) -> #DIV/0! | L13: =K13/$G$119 -> #DIV/0!
B14: 2 | C14: e.Biaya operasional kemahasiswaan (penalaran, minat, bakat, dan kesejahteraan). | G14: =AVERAGE(D14:F14) -> #DIV/0! | K14: =AVERAGE(H14:J14) -> #DIV/0! | L14: =K14/$G$119 -> #DIV/0!
C15: Jumlah Biaya Pendidikan Bergelar | D15: =SUM(D9:D14) -> 0 | E15: =SUM(E9:E14) -> 0 | F15: =SUM(F9:F14) -> 0 | G15: =AVERAGE(D15:F15) -> 0 | H15: =SUM(H9:H14) -> 0 | I15: =SUM(I9:I14) -> 0 | J15: =SUM(J9:J14) -> 0 | K15: =AVERAGE(H15:J15) -> 0 | L15: =K15/$G$119 -> #DIV/0!
B16: 3 | C16: Biaya Operasional Pendidikan Non Gelar Bergelar ((jika ada) | L16: =K16/$G$119 -> #DIV/0!
C17: a. Biaya Dosen (Gaji, Honor) | G17: =AVERAGE(D17:F17) -> #DIV/0! | K17: =AVERAGE(H17:J17) -> #DIV/0! | L17: =K17/$G$119 -> #DIV/0!
C18: b. Biaya Tenaga Kependidikan (Gaji, Honor) | G18: =AVERAGE(D18:F18) -> #DIV/0! | K18: =AVERAGE(H18:J18) -> #DIV/0! | L18: =K18/$G$119 -> #DIV/0!
C19: c. Biaya Operasional Pembelajaran (Bahan dan Peralatan Habis Pakai) | G19: =AVERAGE(D19:F19) -> #DIV/0! | K19: =AVERAGE(H19:J19) -> #DIV/0! | L19: =K19/$G$119 -> #DIV/0!
C20: d. Biaya Operasional Tidak Langsung (Listrik, Gas, Air, Pemeliharaan Gedung, Pemeliharaan Sarana, Uang Lembur, Telekomunikasi, Konsumsi, Transport Lokal, Pajak, Asuransi, dll) | G20: =AVERAGE(D20:F20) -> #DIV/0! | K20: =AVERAGE(H20:J20) -> #DIV/0! | L20: =K20/$G$119 -> #DIV/0!
B21: 4 | C21: Biaya operasional kemahasiswaan (penalaran, minat, bakat, dan kesejahteraan). | G21: =AVERAGE(D21:F21) -> #DIV/0! | K21: =AVERAGE(H21:J21) -> #DIV/0! | L21: =K21/$G$119 -> #DIV/0!
C22: Jumlah Biaya Pendidikan Non Gelar | D22: =SUM(D17:D21) -> 0 | E22: =SUM(E17:E21) -> 0 | F22: =SUM(F17:F21) -> 0 | G22: =AVERAGE(D22:F22) -> 0 | H22: =SUM(H17:H21) -> 0 | I22: =SUM(I17:I21) -> 0 | J22: =SUM(J17:J21) -> 0 | K22: =AVERAGE(H22:J22) -> 0 | L22: =K22/$G$119 -> #DIV/0!
B23: 5 | C23: Biaya Penelitian, Perancangan, Pengembangan Karya/Inovasi Karya | G23: =AVERAGE(D23:F23) -> #DIV/0! | K23: =AVERAGE(H23:J23) -> #DIV/0! | L23: =K23/$G$119 -> #DIV/0!
B24: 6 | C24: Biaya PkM | G24: =AVERAGE(D24:F24) -> #DIV/0! | K24: =AVERAGE(H24:J24) -> #DIV/0! | L24: =K24/$G$119 -> #DIV/0!
C25: Jumlah Biaya Penelitian, Perancangangan, Penengembangan Karya/Inovasi Karya | D25: =SUM(D23:D24) -> 0 | E25: =SUM(E23:E24) -> 0 | F25: =SUM(F23:F24) -> 0 | G25: =AVERAGE(D25:F25) -> 0 | H25: =SUM(H23:H24) -> 0 | I25: =SUM(I23:I24) -> 0 | J25: =SUM(J23:J24) -> 0 | K25: =AVERAGE(H25:J25) -> 0 | L25: =K25/$G$119 -> #DIV/0!
B26: 7 | C26: Biaya Investasi SDM | G26: =AVERAGE(D26:F26) -> #DIV/0! | K26: =AVERAGE(H26:J26) -> #DIV/0! | L26: =K26/$G$119 -> #DIV/0!
B27: 8 | C27: Biaya Investasi Sarana | G27: =AVERAGE(D27:F27) -> #DIV/0! | K27: =AVERAGE(H27:J27) -> #DIV/0! | L27: =K27/$G$119 -> #DIV/0!
B28: 9 | C28: Biaya Investasi Prasarana | G28: =AVERAGE(D28:F28) -> #DIV/0! | K28: =AVERAGE(H28:J28) -> #DIV/0! | L28: =K28/$G$119 -> #DIV/0!
C29: Jumlah Biaya Invesasi SDM, Sarana dan Prasarana | D29: =SUM(D26:D28) -> 0 | E29: =SUM(E26:E28) -> 0 | F29: =SUM(F26:F28) -> 0 | G29: =AVERAGE(D29:F29) -> 0 | H29: =SUM(H26:H28) -> 0 | I29: =SUM(I26:I28) -> 0 | J29: =SUM(J26:J28) -> 0 | K29: =AVERAGE(H29:J29) -> 0 | L29: =K29/$G$119 -> #DIV/0!
L30: =K30/$G$119 -> #DIV/0!
C31: Jumlah Realisasi Pembiayaan Program Sarjana S1 | D31: =D15+D22+D25+D29 -> 0 | E31: =E15+E22+E25+E29 -> 0 | F31: =F15+F22+F25+F29 -> 0 | G31: =AVERAGE(D31:F31) -> 0 | H31: =H15+H22+H25+H29 -> 0 | I31: =I15+I22+I25+I29 -> 0 | J31: =J15+J22+J25+J29 -> 0 | K31: =AVERAGE(H31:J31) -> 0 | L31: =K31/$G$119 -> #DIV/0!
B33: Realisasi Pengeluaran Pembiayaan Program Profesi
B34: No. | C34: Jenis Biaya | D34: Unit Pengelola Program Studi IDR x Juta | H34: Program Studi IDR x Juta | L34: Ratio Biaya (PS dgn Kelolaan UPPS)
D35: TS-2 | E35: TS-1 | F35: TS | G35: Rata-rata | H35: TS-2 | I35: TS-1 | J35: TS | K35: Rata-rata
B36: 1 | C36: 2 | D36: 3 | E36: 4 | F36: 5 | G36: 6 | H36: 3 | I36: 4 | J36: 5 | K36: 6 | L36: 7
B37: 1 | C37: Biaya Operasional Pendidikan Bergelar
C38: a. Biaya Dosen (Gaji, Honor) | G38: =AVERAGE(D38:F38) -> #DIV/0! | K38: =AVERAGE(H38:J38) -> #DIV/0! | L38: =K38/$G$119 -> #DIV/0!
C39: b. Biaya Tenaga Kependidikan (Gaji, Honor) | G39: =AVERAGE(D39:F39) -> #DIV/0! | K39: =AVERAGE(H39:J39) -> #DIV/0! | L39: =K39/$G$119 -> #DIV/0!
C40: c. Biaya Operasional Pembelajaran (Bahan dan Peralatan Habis Pakai) | G40: =AVERAGE(D40:F40) -> #DIV/0! | K40: =AVERAGE(H40:J40) -> #DIV/0! | L40: =K40/$G$119 -> #DIV/0!
C41: d. Biaya Operasional Tidak Langsung (Listrik, Gas, Air, Pemeliharaan Gedung, Pemeliharaan Sarana, Uang Lembur, Telekomunikasi, Konsumsi, Transport Lokal, Pajak, Asuransi, dll) | G41: =AVERAGE(D41:F41) -> #DIV/0! | K41: =AVERAGE(H41:J41) -> #DIV/0! | L41: =K41/$G$119 -> #DIV/0!
B42: 2 | C42: Biaya operasional kemahasiswaan (penalaran, minat, bakat, dan kesejahteraan) | G42: =AVERAGE(D42:F42) -> #DIV/0! | K42: =AVERAGE(H42:J42) -> #DIV/0! | L42: =K42/$G$119 -> #DIV/0!
...

Sheet A.5.3
B2: A. Akuntabilitas dan Tata Kelola
B3: A.5 Keuangan, Keberlanjutan, dan Mitigasi Risiko
B4: Tabel A.5.3 Neraca Pemasukan-Pembiayaan Program Sarjana/Profesi/Magister/Doktor
B5: No. | C5: Uraian | D5: Unit Pengelola Program Studi IDR x Juta | H5: Program Studi IDR x Juta
D6: TS-2 | E6: TS-1 | F6: TS | G6: Rata-rata | H6: TS-2 | I6: TS-1 | J6: TS | K6: Rata-rata
B7: 1 | C7: Realisasi Pemasukan | D7: ='A.5.1 '!D56 -> 0 | E7: ='A.5.1 '!E56 -> 0 | F7: ='A.5.1 '!F56 -> 0 | G7: =SUM(D7:F7)/3 -> 0 | H7: ='A.5.1 '!H56 -> 0 | I7: ='A.5.1 '!I56 -> 0 | J7: ='A.5.1 '!J56 -> 0 | K7: =SUM(H7:J7)/3 -> 0
B9: 2 | C9: Realiasasi Pembiayaan | D9: ='A.5.2 '!D31 -> 0 | E9: ='A.5.2 '!E31 -> 0 | F9: ='A.5.2 '!F31 -> 0 | G9: =SUM(D9:F9)/3 -> 0 | H9: ='A.5.2 '!H31 -> 0 | I9: ='A.5.2 '!I31 -> 0 | J9: ='A.5.2 '!J31 -> 0 | K9: =SUM(H9:J9)/3 -> 0
B11: 3 | C11: Realiasasi Pemasukan - Pembiayaan | D11: =D7-D9 -> 0 | E11: =E7-E9 -> 0 | F11: =F7-F9 -> 0 | G11: =G7-G9 -> 0 | H11: =H7-H9 -> 0 | I11: =I7-I9 -> 0 | J11: =J7-J9 -> 0 | K11: =K7-K9 -> 0
B13: 4 | C13: Ratio (Realisasi Pemasukan-Pembiayaan)/(Realisasi Pemasukan) | D13: =D11/D7 -> #DIV/0! | E13: =E11/E7 -> #DIV/0! | F13: =F11/F7 -> #DIV/0! | G13: =G11/G7 -> #DIV/0! | H13: =H11/H7 -> #DIV/0! | I13: =I11/I7 -> #DIV/0! | J13: =J11/J7 -> #DIV/0! | K13: =K11/K7 -> #DIV/0!
B15: Neraca Pemasukan-Pembiayaan Program Profesi
B16: No. | C16: Uraian | D16: Unit Pengelola Program Studi IDR x Juta | H16: Program Studi IDR x Juta
D17: TS-2 | E17: TS-1 | F17: TS | G17: Rata-rata | H17: TS-2 | I17: TS-1 | J17: TS | K17: Rata-rata
B18: 1 | C18: Realisasi Pemasukan | D18: ='A.5.1 '!D110 -> 0 | E18: ='A.5.1 '!E110 -> 0 | F18: ='A.5.1 '!F110 -> 0 | G18: =SUM(D18:F18)/3 -> 0 | H18: ='A.5.1 '!H110 -> 0 | I18: ='A.5.1 '!I110 -> 0 | J18: ='A.5.1 '!J110 -> 0 | K18: =SUM(H18:J18)/3 -> 0
B20: 2 | C20: Realiasasi Pembiayaan | D20: ='A.5.2 '!D59 -> 0 | E20: ='A.5.2 '!E59 -> 0 | F20: ='A.5.2 '!F59 -> 0 | G20: =SUM(D20:F20)/3 -> 0 | H20: ='A.5.2 '!H59 -> 0 | I20: ='A.5.2 '!I59 -> 0 | J20: ='A.5.2 '!J59 -> 0 | K20: =SUM(H20:J20)/3 -> 0
B22: 3 | C22: Realiasasi Pemasukan - Pembiayaan | D22: =D18-D20 -> 0 | E22: =E18-E20 -> 0 | F22: =F18-F20 -> 0 | G22: =SUM(D22:F22)/3 -> 0 | H22: =H18-H20 -> 0 | I22: =I18-I20 -> 0 | J22: =J18-J20 -> 0 | K22: =SUM(H22:J22)/3 -> 0
B24: 4 | C24: Ratio (Realisasi Pemasukan-Pembiayaan)/(Realisasi Pemasukan) | D24: =D22/D18 -> #DIV/0! | E24: =E22/E18 -> #DIV/0! | F24: =F22/F18 -> #DIV/0! | G24: =G22/G18 -> #DIV/0! | H24: =H22/H18 -> #DIV/0! | I24: =I22/I18 -> #DIV/0! | J24: =J22/J18 -> #DIV/0! | K24: =K22/K18 -> #DIV/0!
B26: Neraca Pemasukan-Pembiayaan Program Magister S2
B27: No. | C27: Uraian | D27: Unit Pengelola Program Studi IDR x Juta | H27: Program Studi IDR x Juta
D28: TS-2 | E28: TS-1 | F28: TS | G28: Rata-rata | H28: TS-2 | I28: TS-1 | J28: TS | K28: Rata-rata
B29: 1 | C29: Realisasi Pemasukan | D29: ='A.5.1 '!D164 -> 0 | E29: ='A.5.1 '!E164 -> 0 | F29: ='A.5.1 '!F164 -> 0 | G29: =SUM(D29:F29)/3 -> 0 | H29: ='A.5.1 '!H164 -> 0 | I29: ='A.5.1 '!I164 -> 0 | J29: ='A.5.1 '!J164 -> 0 | K29: =SUM(H29:J29)/3 -> 0
B31: 2 | C31: Realiasasi Pembiayaan | D31: ='A.5.2 '!D87 -> 0 | E31: ='A.5.2 '!E87 -> 0 | F31: ='A.5.2 '!F87 -> 0 | G31: =SUM(D31:F31)/3 -> 0 | H31: ='A.5.2 '!H87 -> 0 | I31: ='A.5.2 '!I87 -> 0 | J31: ='A.5.2 '!J87 -> 0 | K31: =SUM(H31:J31)/3 -> 0
B33: 3 | C33: Realiasasi Pemasukan - Pembiayaan | D33: =D29-D31 -> 0 | E33: =E29-E31 -> 0 | F33: =F29-F31 -> 0 | G33: =SUM(D33:F33)/3 -> 0 | H33: =H29-H31 -> 0 | I33: =I29-I31 -> 0 | J33: =J29-J31 -> 0 | K33: =SUM(H33:J33)/3 -> 0
B35: 4 | C35: Ratio (Realisasi Pemasukan-Pembiayaan)/(Realisasi Pemasukan) | D35: =D33/D29 -> #DIV/0! | E35: =E33/E29 -> #DIV/0! | F35: =F33/F29 -> #DIV/0! | G35: =SUM(D35:F35)/3 -> #DIV/0! | H35: =H33/H29 -> #DIV/0! | I35: =I33/I29 -> #DIV/0! | J35: =J33/J29 -> #DIV/0! | K35: =SUM(H35:J35)/3 -> #DIV/0!
B37: Neraca Pemasukan-Pembiayaan Program Doktor S3
B38: No. | C38: Uraian | D38: Unit Pengelola Program Studi IDR x Juta | H38: Program Studi IDR x Juta
D39: TS-2 | E39: TS-1 | F39: TS | G39: Rata-rata | H39: TS-2 | I39: TS-1 | J39: TS | K39: Rata-rata
B40: 1 | C40: Realisasi Pemasukan | D40: ='A.5.1 '!D218 -> 0 | E40: ='A.5.1 '!E218 -> 0 | F40: ='A.5.1 '!F218 -> 0 | G40: =SUM(D40:F40)/3 -> 0 | H40: ='A.5.1 '!H218 -> 0 | I40: ='A.5.1 '!I218 -> 0 | J40: ='A.5.1 '!J218 -> 0 | K40: =SUM(H40:J40)/3 -> 0
B42: 2 | C42: Realiasasi Pembiayaan | D42: ='A.5.2 '!D115 -> 0 | E42: ='A.5.2 '!E115 -> 0 | F42: ='A.5.2 '!F115 -> 0 | G42: =SUM(D42:F42)/3 -> 0 | H42: ='A.5.2 '!H115 -> 0 | I42: ='A.5.2 '!I115 -> 0 | J42: ='A.5.2 '!J115 -> 0 | K42: =SUM(H42:J42)/3 -> 0
B44: 3 | C44: Realiasasi Pemasukan - Pembiayaan | D44: =D40-D42 -> 0 | E44: =E40-E42 -> 0 | F44: =F40-F42 -> 0 | G44: =SUM(D44:F44)/3 -> 0 | H44: =H40-H42 -> 0 | I44: =I40-I42 -> 0 | J44: =J40-J42 -> 0 | K44: =SUM(H44:J44)/3 -> 0
B46: 4 | C46: Ratio (Realisasi Pemasukan-Pembiayaan)/(Realisasi Pemasukan) | D46: =D44/D40 -> #DIV/0! | E46: =E44/E40 -> #DIV/0! | F46: =F44/F40 -> #DIV/0! | G46: =SUM(D46:F46)/3 -> #DIV/0! | H46: =H44/H40 -> #DIV/0! | I46: =I44/I40 -> #DIV/0! | J46: =J44/J40 -> #DIV/0! | K46: =SUM(H46:J46)/3 -> #DIV/0!
B49: catatan:
B50: Apabila DTPS mengajar pada Program Studi Sarjana, Magister dan Doktor
B51: Perhitungan Keuangan di dasarkan atas jumlah pemasukan dan pengeluaran berbasis nama untuk menghidari perhitungan ganda

Sheet A.5.4 Terapan
B2: A. Akuntabilitas dan Tata Kelola
B3: A.5 Keuangan, Keberlanjutan, dan Mitigasi Risiko
B4: Tabel A.5.4 Realisasi Pemasukan Dana Program Studi Diploma Dua/Tiga/Sarjana/Magister/Doktor Terapan
B5: Realisasi Pemasukan Dana Program studi Diploma Dua
B6: No. | C6: Pemasukan Dana | D6: Unit Pengelola Program Studi IDR x Juta | H6: Program Studi IDR x Juta | L6: Ratio Pemasukan (PS dgn Kelolaan RKAT UPPS)
D7: TS-2 | E7: TS-1 | F7: TS | G7: Rata-rata | H7: TS-2 | I7: TS-1 | J7: TS | K7: Rata-rata
B8: 1 | C8: 2 | D8: 3 | E8: 4 | F8: 5 | G8: 6 | H8: 3 | I8: 4 | J8: 5 | K8: 6 | L8: 7
B9: A | C9: Realisasi Pemasukan Dana UKT
B10: 1 | C10: UKT Profesi Bergelar | D10: 1 | E10: 1 | F10: 1 | G10: =SUM(D10:F10)/3 -> 1 | H10: 1 | I10: 1 | J10: 1 | K10: =SUM(H10:J10)/3 -> 1 | L10: =K10/$G$278 -> #DIV/0!
B11: 2 | C11: UKT Profesi Non Gelar | G11: =SUM(D11:F11)/3 -> 0 | K11: =SUM(H11:J11)/3 -> 0 | L11: =K11/$G$278 -> #DIV/0!
C12: Jumlah Pemasukan Dana UKT | D12: =SUM(D10:D11) -> 1 | E12: =SUM(E10:E11) -> 1 | F12: =SUM(F10:F11) -> 1 | G12: =SUM(D12:F12)/3 -> 1 | H12: =SUM(H10:H11) -> 1 | I12: =SUM(I10:I11) -> 1 | J12: =SUM(J10:J11) -> 1 | K12: =SUM(H12:J12)/3 -> 1 | L12: =K12/$G$278 -> #DIV/0!
B13: B | C13: Realisasi Pemasukan Dana Penelitian, Perancangan, Pengembangan Karya/Inovasi Karya
B14: 3 | C14: Penelitian Mhs Mandiri (Tugas Akhir, Proyek, dll) | G14: =SUM(D14:F14)/3 -> 0 | K14: =SUM(H14:J14)/3 -> 0 | L14: =K14/$G$278 -> #DIV/0!
B15: 4 | C15: Penelitian DTPS Mandiri | G15: =SUM(D15:F15)/3 -> 0 | K15: =SUM(H15:J15)/3 -> 0 | L15: =K15/$G$278 -> #DIV/0!
B16: 5 | C16: Penelitian (Kolaborasi DTPS dan Mhs ) Mandiri | G16: =SUM(D16:F16)/3 -> 0 | K16: =SUM(H16:J16)/3 -> 0 | L16: =K16/$G$278 -> #DIV/0!
B17: 6 | C17: Penelitian Program Universitas/Institute | G17: =SUM(D17:F17)/3 -> 0 | K17: =SUM(H17:J17)/3 -> 0 | L17: =K17/$G$278 -> #DIV/0!
B18: 7 | C18: Penelitian Internasional | G18: =SUM(D18:F18)/3 -> 0 | K18: =SUM(H18:J18)/3 -> 0 | L18: =K18/$G$278 -> #DIV/0!
C19: Jumlah Realisasi Pemasukan Dana Penelitian, Perancangan, Pengembangan Karya/Inovasi Karya | D19: =SUM(D14:D18) -> 0 | E19: =SUM(E13:E18) -> 0 | F19: =SUM(F13:F18) -> 0 | G19: =SUM(D19:F19)/3 -> 0 | H19: =SUM(H13:H18) -> 0 | I19: =SUM(I13:I18) -> 0 | J19: =SUM(J13:J18) -> 0 | K19: =SUM(H19:J19)/3 -> 0 | L19: =K19/$G$278 -> #DIV/0!
B20: C | C20: Realisasi Pemasukan Dana PkM
B21: 31 | C21: PkM Mhs Mandiri (Program Perorangan, Kelompok, Himpunan, dll) | G21: =SUM(D21:F21)/3 -> 0 | K21: =SUM(H21:J21)/3 -> 0 | L21: =K21/$G$278 -> #DIV/0!
B22: 32 | C22: PkM DTPS Mandiri | G22: =SUM(D22:F22)/3 -> 0 | K22: =SUM(H22:J22)/3 -> 0 | L22: =K22/$G$278 -> #DIV/0!
B23: 33 | C23: PkM (Kolaborasi DTPS dan Mhs ) Mandiri | G23: =SUM(D23:F23)/3 -> 0 | K23: =SUM(H23:J23)/3 -> 0 | L23: =K23/$G$278 -> #DIV/0!
B24: 34 | C24: PkM Program Universitas/Institute | G24: =SUM(D24:F24)/3 -> 0 | K24: =SUM(H24:J24)/3 -> 0 | L24: =K24/$G$278 -> #DIV/0!
B25: 35 | C25: PkM Internasional | G25: =SUM(D25:F25)/3 -> 0 | K25: =SUM(H25:J25)/3 -> 0 | L25: =K25/$G$278 -> #DIV/0!
C26: Jumlah Realisasi Pemasukan Dana PkM | D26: =SUM(D21:D25) -> 0 | E26: =SUM(E21:E25) -> 0 | F26: =SUM(F21:F25) -> 0 | G26: =SUM(D26:F26)/3 -> 0 | H26: =SUM(H21:H25) -> 0 | I26: =SUM(I21:I25) -> 0 | J26: =SUM(J21:J25) -> 0 | K26: =SUM(H26:J26)/3 -> 0 | L26: =K26/$G$278 -> #DIV/0!
B27: D | C27: Realisasi Pemasukan Dana Kerjasama | L27: =K27/$G$278 -> #DIV/0!
B28: 36 | C28: Pemasukan Dana Kerjasama Pendidikan Bergelar | G28: =SUM(D28:F28)/3 -> 0 | K28: =SUM(H28:J28)/3 -> 0 | L28: =K28/$G$278 -> #DIV/0!
B29: 37 | C29: Pemasukan Dana Kerjasama Pendidikan Non gelar | G29: =SUM(D29:F29)/3 -> 0 | K29: =SUM(H29:J29)/3 -> 0 | L29: =K29/$G$278 -> #DIV/0!
C30: Jumlah Realisasi Pemasukan Kerjasama Pendidikan | D30: =SUM(D28:D29) -> 0 | E30: =SUM(E28:E29) -> 0 | F30: =SUM(F28:F29) -> 0 | G30: =SUM(D30:F30)/3 -> 0 | H30: =SUM(H28:H29) -> 0 | I30: =SUM(I28:I29) -> 0 | J30: =SUM(J28:J29) -> 0 | K30: =SUM(H30:J30)/3 -> 0 | L30: =K30/$G$278 -> #DIV/0!
B31: F | C31: Realisasi Pemasukan Dana Kerjasama Penelitian, Perancangan, Pengembangan Karya, Inovasi Karya
B32: 38 | C32: Kerjasama Penelitian Skala Lokal (Kab/Kota) | G32: =SUM(D32:F32)/3 -> 0 | K32: =SUM(H32:J32)/3 -> 0 | L32: =K32/$G$278 -> #DIV/0!
B33: 39 | C33: Kerjasama Penelitian Skala Wilayah (Provinsi) | G33: =SUM(D33:F33)/3 -> 0 | K33: =SUM(H33:J33)/3 -> 0 | L33: =K33/$G$278 -> #DIV/0!
B34: 40 | C34: Kerjasama Penelitian Skala Nasional | G34: =SUM(D34:F34)/3 -> 0 | K34: =SUM(H34:J34)/3 -> 0 | L34: =K34/$G$278 -> #DIV/0!
B35: 41 | C35: Kerjasama Penelitian Skala Internasional | G35: =SUM(D35:F35)/3 -> 0 | K35: =SUM(H35:J35)/3 -> 0 | L35: =K35/$G$278 -> #DIV/0!
C36: Jumlah Realisasi Pemasukan Dana Kerjasama Penelitian, Perancangan, Pengembangan Karya, Inovasi Karya | D36: =SUM(D32:D35) -> 0 | E36: =SUM(E32:E35) -> 0 | F36: =SUM(F32:F35) -> 0 | G36: =SUM(D36:F36)/3 -> 0 | H36: =SUM(H32:H35) -> 0 | I36: =SUM(I32:I35) -> 0 | J36: =SUM(J32:J35) -> 0 | K36: =SUM(H36:J36)/3 -> 0 | L36: =K36/$G$278 -> #DIV/0!
B37: G | C37: Realisasi Pemasukan Dana Kerjasama PkM
B38: 38 | C38: Kerjasama Penelitian Skala Lokal (Kab/Kota) | G38: =SUM(D38:F38)/3 -> 0 | K38: =SUM(H38:J38)/3 -> 0 | L38: =K38/$G$278 -> #DIV/0!
B39: 39 | C39: Kerjasama Penelitian Skala Wilayah (Provinsi) | G39: =SUM(D39:F39)/3 -> 0 | K39: =SUM(H39:J39)/3 -> 0 | L39: =K39/$G$278 -> #DIV/0!
B40: 40 | C40: Kerjasama Penelitian Skala Nasional | G40: =SUM(D40:F40)/3 -> 0 | K40: =SUM(H40:J40)/3 -> 0 | L40: =K40/$G$278 -> #DIV/0!
B41: 41 | C41: Kerjasama Penelitian Skala Internasional | G41: =SUM(D41:F41)/3 -> 0 | K41: =SUM(H41:J41)/3 -> 0 | L41: =K41/$G$278 -> #DIV/0!
...

Sheet A.5.5 Terapan
B2: A. Akuntabilitas dan Tata Kelola
B3: A.5 Keuangan, Keberlanjutan, dan Mitigasi Risiko
B4: Tabel A.5.5 Realisasi Pembiayaan Program Studi Diploma Dua/Tiga/Sarjana/Magister/Doktor Terapan
B5: Realisasi Pembiayaan Program Studi Diploma Dua
B6: No. | C6: Jenis Biaya | D6: Unit Pengelola Program Studi IDR x Juta | H6: Program Studi IDR x Juta | L6: Ratio Biaya (PS dgn Kelolaan UPPS)
D7: TS-2 | E7: TS-1 | F7: TS | G7: Rata-rata | H7: TS-2 | I7: TS-1 | J7: TS | K7: Rata-rata
B8: 1 | C8: 2 | D8: 3 | E8: 4 | F8: 5 | G8: 6 | H8: 3 | I8: 4 | J8: 5 | K8: 6 | L8: 7
B9: 1 | C9: Biaya Operasional Pendidikan Bergelar
C10: a. Biaya Dosen (Gaji, Honor) | G10: =AVERAGE(D10:F10) -> #DIV/0! | K10: =AVERAGE(H10:J10) -> #DIV/0! | L10: =K10/$G$147 -> #DIV/0!
C11: b. Biaya Tenaga Kependidikan (Gaji, Honor) | G11: =AVERAGE(D11:F11) -> #DIV/0! | K11: =AVERAGE(H11:J11) -> #DIV/0! | L11: =K11/$G$147 -> #DIV/0!
C12: c. Biaya Operasional Pembelajaran (Bahan dan Peralatan Habis Pakai) | G12: =AVERAGE(D12:F12) -> #DIV/0! | K12: =AVERAGE(H12:J12) -> #DIV/0! | L12: =K12/$G$147 -> #DIV/0!
C13: d. Biaya Operasional Tidak Langsung (Listrik, Gas, Air, Pemeliharaan Gedung, Pemeliharaan Sarana, Uang Lembur, Telekomunikasi, Konsumsi, Transport Lokal, Pajak, Asuransi, dll.) | G13: =AVERAGE(D13:F13) -> #DIV/0! | K13: =AVERAGE(H13:J13) -> #DIV/0! | L13: =K13/$G$147 -> #DIV/0!
B14: 2 | C14: Biaya operasional kemahasiswaan (penalaran, minat, bakat, dan kesejahteraan). | G14: =AVERAGE(D14:F14) -> #DIV/0! | K14: =AVERAGE(H14:J14) -> #DIV/0! | L14: =K14/$G$147 -> #DIV/0!
C15: Jumlah Biaya Pendidikan Bergelar | D15: =SUM(D9:D14) -> 0 | E15: =SUM(E9:E14) -> 0 | F15: =SUM(F9:F14) -> 0 | G15: =AVERAGE(D15:F15) -> 0 | H15: =SUM(H9:H14) -> 0 | I15: =SUM(I9:I14) -> 0 | J15: =SUM(J9:J14) -> 0 | K15: =AVERAGE(H15:J15) -> 0 | L15: =K15/$G$147 -> #DIV/0!
B16: 3 | C16: Biaya Operasional Pendidikan Non Gelar Bergelar | L16: =K16/$G$147 -> #DIV/0!
C17: a. Biaya Dosen (Gaji, Honor) | G17: =AVERAGE(D17:F17) -> #DIV/0! | K17: =AVERAGE(H17:J17) -> #DIV/0! | L17: =K17/$G$147 -> #DIV/0!
C18: b. Biaya Tenaga Kependidikan (Gaji, Honor) | G18: =AVERAGE(D18:F18) -> #DIV/0! | K18: =AVERAGE(H18:J18) -> #DIV/0! | L18: =K18/$G$147 -> #DIV/0!
C19: c. Biaya Operasional Pembelajaran (Bahan dan Peralatan Habis Pakai) | G19: =AVERAGE(D19:F19) -> #DIV/0! | K19: =AVERAGE(H19:J19) -> #DIV/0! | L19: =K19/$G$147 -> #DIV/0!
C20: d. Biaya Operasional Tidak Langsung (Listrik, Gas, Air, Pemeliharaan Gedung, Pemeliharaan Sarana, Uang Lembur, Telekomunikasi, Konsumsi, Transport Lokal, Pajak, Asuransi, dll.) | G20: =AVERAGE(D20:F20) -> #DIV/0! | K20: =AVERAGE(H20:J20) -> #DIV/0! | L20: =K20/$G$147 -> #DIV/0!
B21: 4 | C21: Biaya operasional kemahasiswaan (penalaran, minat, bakat, dan kesejahteraan). | G21: =AVERAGE(D21:F21) -> #DIV/0! | K21: =AVERAGE(H21:J21) -> #DIV/0! | L21: =K21/$G$147 -> #DIV/0!
C22: Jumlah Biaya Pendidikan Non Gelar | D22: =SUM(D17:D21) -> 0 | E22: =SUM(E17:E21) -> 0 | F22: =SUM(F17:F21) -> 0 | G22: =AVERAGE(D22:F22) -> 0 | H22: =SUM(H17:H21) -> 0 | I22: =SUM(I17:I21) -> 0 | J22: =SUM(J17:J21) -> 0 | K22: =AVERAGE(H22:J22) -> 0 | L22: =K22/$G$147 -> #DIV/0!
B23: 5 | C23: Biaya Penelitian, Perancangan, Pengembangan Karya/Inovasi Karya | G23: =AVERAGE(D23:F23) -> #DIV/0! | K23: =AVERAGE(H23:J23) -> #DIV/0! | L23: =K23/$G$147 -> #DIV/0!
B24: 6 | C24: Biaya PkM | G24: =AVERAGE(D24:F24) -> #DIV/0! | K24: =AVERAGE(H24:J24) -> #DIV/0! | L24: =K24/$G$147 -> #DIV/0!
C25: Jumlah Biaya Penelitian, Perancangangan, Penengembangan Karya/Inovasi Karya | D25: =SUM(D23:D24) -> 0 | E25: =SUM(E23:E24) -> 0 | F25: =SUM(F23:F24) -> 0 | G25: =AVERAGE(D25:F25) -> 0 | H25: =SUM(H23:H24) -> 0 | I25: =SUM(I23:I24) -> 0 | J25: =SUM(J23:J24) -> 0 | K25: =AVERAGE(H25:J25) -> 0 | L25: =K25/$G$147 -> #DIV/0!
B26: 7 | C26: Biaya Investasi SDM | G26: =AVERAGE(D26:F26) -> #DIV/0! | K26: =AVERAGE(H26:J26) -> #DIV/0! | L26: =K26/$G$147 -> #DIV/0!
B27: 8 | C27: Biaya Investasi Sarana | G27: =AVERAGE(D27:F27) -> #DIV/0! | K27: =AVERAGE(H27:J27) -> #DIV/0! | L27: =K27/$G$147 -> #DIV/0!
B28: 9 | C28: Biaya Investasi Prasarana | G28: =AVERAGE(D28:F28) -> #DIV/0! | K28: =AVERAGE(H28:J28) -> #DIV/0! | L28: =K28/$G$147 -> #DIV/0!
C29: Jumlah Biaya Invesasi SDM, Sarana dan Prasarana | D29: =SUM(D26:D28) -> 0 | E29: =SUM(E26:E28) -> 0 | F29: =SUM(F26:F28) -> 0 | G29: =AVERAGE(D29:F29) -> 0 | H29: =SUM(H26:H28) -> 0 | I29: =SUM(I26:I28) -> 0 | J29: =SUM(J26:J28) -> 0 | K29: =AVERAGE(H29:J29) -> 0 | L29: =K29/$G$147 -> #DIV/0!
L30: =K30/$G$147 -> #DIV/0!
C31: Jumlah Realisasi Pembiayaan Program Diploma Dua | D31: =D15+D22+D25+D29 -> 0 | E31: =E15+E22+E25+E29 -> 0 | F31: =F15+F22+F25+F29 -> 0 | G31: =AVERAGE(D31:F31) -> 0 | H31: =H15+H22+H25+H29 -> 0 | I31: =I15+I22+I25+I29 -> 0 | J31: =J15+J22+J25+J29 -> 0 | K31: =AVERAGE(H31:J31) -> 0 | L31: =K31/$G$147 -> #DIV/0!
B33: Realisasi Pengeluaran Pembiayaan Program Diploma Tiga
B34: No. | C34: Jenis Biaya | D34: Unit Pengelola Program Studi IDR x Juta | H34: Program Studi IDR x Juta | L34: Ratio Biaya (PS dgn Kelolaan UPPS)
D35: TS-2 | E35: TS-1 | F35: TS | G35: Rata-rata | H35: TS-2 | I35: TS-1 | J35: TS | K35: Rata-rata
B36: 1 | C36: 2 | D36: 3 | E36: 4 | F36: 5 | G36: 6 | H36: 3 | I36: 4 | J36: 5 | K36: 6 | L36: 7
B37: 1 | C37: Biaya Operasional Pendidikan Bergelar
C38: a. Biaya Dosen (Gaji, Honor) | G38: =AVERAGE(D38:F38) -> #DIV/0! | K38: =AVERAGE(H38:J38) -> #DIV/0! | L38: =K38/$G$147 -> #DIV/0!
C39: b. Biaya Tenaga Kependidikan (Gaji, Honor) | G39: =AVERAGE(D39:F39) -> #DIV/0! | K39: =AVERAGE(H39:J39) -> #DIV/0! | L39: =K39/$G$147 -> #DIV/0!
C40: c. Biaya Operasional Pembelajaran (Bahan dan Peralatan Habis Pakai) | G40: =AVERAGE(D40:F40) -> #DIV/0! | K40: =AVERAGE(H40:J40) -> #DIV/0! | L40: =K40/$G$147 -> #DIV/0!
C41: d. Biaya Operasional Tidak Langsung (Listrik, Gas, Air, Pemeliharaan Gedung, Pemeliharaan Sarana, Uang Lembur, Telekomunikasi, Konsumsi, Transport Lokal, Pajak, Asuransi, dll.) | G41: =AVERAGE(D41:F41) -> #DIV/0! | K41: =AVERAGE(H41:J41) -> #DIV/0! | L41: =K41/$G$147 -> #DIV/0!
B42: 2 | C42: Biaya operasional kemahasiswaan (penalaran, minat, bakat, dan kesejahteraan). | G42: =AVERAGE(D42:F42) -> #DIV/0! | K42: =AVERAGE(H42:J42) -> #DIV/0! | L42: =K42/$G$147 -> #DIV/0!
...

Sheet A.5.3 Terapan
B2: A. Akuntabilitas dan Tata Kelola
B3: A.5 Keuangan, Keberlanjutan, dan Mitigasi Risiko
B4: Tabel A.5.6 Neraca Pemasukan-Pembiayaan Program Studi Diploma Dua/Tiga/Sarjana/Magister/Doktor Terapan
B5: Neraca Pemasukan-Pembiayaan Program Studi Diploma Dua
B6: No. | C6: Uraian | D6: Unit Pengelola Program Studi IDR x Juta | H6: Program Studi IDR x Juta
D7: TS-2 | E7: TS-1 | F7: TS | G7: Rata-rata | H7: TS-2 | I7: TS-1 | J7: TS | K7: Rata-rata
B8: 1 | C8: 2 | D8: 3 | E8: 4 | F8: 5 | G8: 6 | H8: 7 | I8: 8 | J8: 9 | K8: 10
B9: 1 | C9: Realisasi Pemasukan | D9: ='A.5.4 Terapan'!D56 -> 1 | E9: ='A.5.4 Terapan'!E56 -> 1 | F9: ='A.5.4 Terapan'!F56 -> 1 | G9: =SUM(D9:F9)/3 -> 1 | H9: ='A.5.4 Terapan'!H56 -> 1 | I9: ='A.5.4 Terapan'!I56 -> 1 | J9: ='A.5.4 Terapan'!J56 -> 1 | K9: =SUM(H9:J9)/3 -> 1
B11: 2 | C11: Realiasasi Pembiayaan | D11: ='A.5.5 Terapan'!D31 -> 0 | E11: ='A.5.5 Terapan'!E31 -> 0 | F11: ='A.5.5 Terapan'!F31 -> 0 | G11: =SUM(D11:F11)/3 -> 0 | H11: ='A.5.5 Terapan'!H31 -> 0 | I11: ='A.5.5 Terapan'!I31 -> 0 | J11: ='A.5.5 Terapan'!J31 -> 0 | K11: =SUM(H11:J11)/3 -> 0
B13: 3 | C13: Realiasasi Pemasukan - Pembiayaan | D13: =D9-D11 -> 1 | E13: =E9-E11 -> 1 | F13: =F9-F11 -> 1 | G13: =G9-G11 -> 1 | H13: =H9-H11 -> 1 | I13: =I9-I11 -> 1 | J13: =J9-J11 -> 1 | K13: =SUM(H13:J13)/3 -> 1
B15: 4 | C15: Ratio (Realisasi Pemasukan-Pembiayaan)/(Realisasi Pemasukan) | D15: =D13/D9 -> 1 | E15: =E13/E9 -> 1 | F15: =F13/F9 -> 1 | G15: =SUM(D15:F15)/3 -> 1 | H15: =H13/H9 -> 1 | I15: =I13/I9 -> 1 | J15: =J13/J9 -> 1 | K15: =SUM(H15:J15)/3 -> 1
B17: Neraca Pemasukan-Pembiayaan Program Diploma Tiga
B18: No. | C18: Uraian | D18: Unit Pengelola Program Studi IDR x Juta | H18: Program Studi IDR x Juta
D19: TS-2 | E19: TS-1 | F19: TS | G19: Rata-rata | H19: TS-2 | I19: TS-1 | J19: TS | K19: Rata-rata
B20: 1 | C20: Realisasi Pemasukan | D20: ='A.5.4 Terapan'!D110 -> 0 | E20: ='A.5.4 Terapan'!E110 -> 0 | F20: ='A.5.4 Terapan'!F110 -> 0 | G20: =SUM(D20:F20)/3 -> 0 | H20: ='A.5.4 Terapan'!H110 -> 0 | I20: ='A.5.4 Terapan'!I110 -> 0 | J20: ='A.5.4 Terapan'!J110 -> 0 | K20: =SUM(H20:J20)/3 -> 0
B22: 2 | C22: Realiasasi Pembiayaan | D22: ='A.5.5 Terapan'!D59 -> 0 | E22: ='A.5.5 Terapan'!E59 -> 0 | F22: ='A.5.5 Terapan'!F59 -> 0 | G22: =SUM(D22:F22)/3 -> 0 | H22: ='A.5.5 Terapan'!H59 -> 0 | I22: ='A.5.5 Terapan'!I59 -> 0 | J22: ='A.5.5 Terapan'!J59 -> 0 | K22: =SUM(H22:J22)/3 -> 0
B24: 3 | C24: Realiasasi Pemasukan - Pembiayaan | D24: =D20-D22 -> 0 | E24: =E20-E22 -> 0 | F24: =F20-F22 -> 0 | G24: =SUM(D24:F24)/3 -> 0 | H24: =H20-H22 -> 0 | I24: =I20-I22 -> 0 | J24: =J20-J22 -> 0 | K24: =SUM(H24:J24)/3 -> 0
B26: 4 | C26: Ratio (Realisasi Pemasukan-Pembiayaan)/(Realisasi Pemasukan) | D26: =D24/D20 -> #DIV/0! | E26: =E24/E20 -> #DIV/0! | F26: =F24/F20 -> #DIV/0! | G26: =SUM(D26:F26)/3 -> #DIV/0! | H26: =H24/H20 -> #DIV/0! | I26: =I24/I20 -> #DIV/0! | J26: =J24/J20 -> #DIV/0! | K26: =SUM(H26:J26)/3 -> #DIV/0!
B28: Neraca Pemasukan-Pembiayaan Program Sarjana Terapan
B29: No. | C29: Uraian | D29: Unit Pengelola Program Studi IDR x Juta | H29: Program Studi IDR x Juta
D30: TS-2 | E30: TS-1 | F30: TS | G30: Rata-rata | H30: TS-2 | I30: TS-1 | J30: TS | K30: Rata-rata
B31: 1 | C31: Realisasi Pemasukan | D31: ='A.5.4 Terapan'!D164 -> 0 | E31: ='A.5.4 Terapan'!E164 -> 0 | F31: ='A.5.4 Terapan'!F164 -> 0 | G31: =SUM(D31:F31)/3 -> 0 | H31: ='A.5.4 Terapan'!H164 -> 0 | I31: ='A.5.4 Terapan'!I164 -> 0 | J31: ='A.5.4 Terapan'!J164 -> 0 | K31: =SUM(H31:J31)/3 -> 0
B33: 2 | C33: Realiasasi Pembiayaan | D33: ='A.5.5 Terapan'!D87 -> 0 | E33: ='A.5.5 Terapan'!E87 -> 0 | F33: ='A.5.5 Terapan'!F87 -> 0 | G33: =SUM(D33:F33)/3 -> 0 | H33: ='A.5.5 Terapan'!H87 -> 0 | I33: ='A.5.5 Terapan'!I87 -> 0 | J33: ='A.5.5 Terapan'!J87 -> 0 | K33: =SUM(H33:J33)/3 -> 0
B35: 3 | C35: Realiasasi Pemasukan - Pembiayaan | D35: =D31-D33 -> 0 | E35: =E31-E33 -> 0 | F35: =F31-F33 -> 0 | G35: =SUM(D35:F35)/3 -> 0 | H35: =H31-H33 -> 0 | I35: =I31-I33 -> 0 | J35: =J31-J33 -> 0 | K35: =SUM(H35:J35)/3 -> 0
